BEGIN:VCALENDAR
VERSION:2.0
PRODID:-//Marion Carnegie Library | 618-993-5935 - ECPv6.15.12.2//NONSGML v1.0//EN
CALSCALE:GREGORIAN
METHOD:PUBLISH
X-ORIGINAL-URL:https://www.marioncarnegielibrary.org
X-WR-CALDESC:Events for Marion Carnegie Library | 618-993-5935
REFRESH-INTERVAL;VALUE=DURATION:PT1H
X-Robots-Tag:noindex
X-PUBLISHED-TTL:PT1H
BEGIN:VTIMEZONE
TZID:America/Chicago
BEGIN:DAYLIGHT
TZOFFSETFROM:-0600
TZOFFSETTO:-0500
TZNAME:CDT
DTSTART:20240310T080000
END:DAYLIGHT
BEGIN:STANDARD
TZOFFSETFROM:-0500
TZOFFSETTO:-0600
TZNAME:CST
DTSTART:20241103T070000
END:STANDARD
BEGIN:DAYLIGHT
TZOFFSETFROM:-0600
TZOFFSETTO:-0500
TZNAME:CDT
DTSTART:20250309T080000
END:DAYLIGHT
BEGIN:STANDARD
TZOFFSETFROM:-0500
TZOFFSETTO:-0600
TZNAME:CST
DTSTART:20251102T070000
END:STANDARD
BEGIN:DAYLIGHT
TZOFFSETFROM:-0600
TZOFFSETTO:-0500
TZNAME:CDT
DTSTART:20260308T080000
END:DAYLIGHT
BEGIN:STANDARD
TZOFFSETFROM:-0500
TZOFFSETTO:-0600
TZNAME:CST
DTSTART:20261101T070000
END:STANDARD
END:VTIMEZONE
BEGIN:VEVENT
DTSTART;TZID=America/Chicago:20251216T140000
DTEND;TZID=America/Chicago:20251216T193000
DTSTAMP:20260425T221124
CREATED:20251110T181733Z
LAST-MODIFIED:20251110T181733Z
UID:28288-1765893600-1765913400@www.marioncarnegielibrary.org
SUMMARY:An Austen Afternoon
DESCRIPTION:Dearest Reader\, you are cordially invited to An Austen Afternoon\, celebrating 250 years of Jane Austen. \nAttend at your leisure between two o’clock in the afternoon ’til half past seven o’clock in the evening. \nYou are encouraged to bring your own handiwork to enjoy while viewing Austen-inspired films. Provided activities to include: collage work\, puzzle piecing\, and Jane Austen word games. Birthday cake and hot tea will be served\, while available.
URL:https://www.marioncarnegielibrary.org/event/an-austen-afternoon/
LOCATION:206 S Market St\, Marion\, IL\, United States\, Illinois 62959
CATEGORIES:Adult Department
END:VEVENT
END:VCALENDAR