BEGIN:VCALENDAR
VERSION:2.0
PRODID:-//Marion Carnegie Library | 618-993-5935 - ECPv6.15.12.2//NONSGML v1.0//EN
CALSCALE:GREGORIAN
METHOD:PUBLISH
X-ORIGINAL-URL:https://www.marioncarnegielibrary.org
X-WR-CALDESC:Events for Marion Carnegie Library | 618-993-5935
REFRESH-INTERVAL;VALUE=DURATION:PT1H
X-Robots-Tag:noindex
X-PUBLISHED-TTL:PT1H
BEGIN:VTIMEZONE
TZID:America/Chicago
BEGIN:DAYLIGHT
TZOFFSETFROM:-0600
TZOFFSETTO:-0500
TZNAME:CDT
DTSTART:20230312T080000
END:DAYLIGHT
BEGIN:STANDARD
TZOFFSETFROM:-0500
TZOFFSETTO:-0600
TZNAME:CST
DTSTART:20231105T070000
END:STANDARD
BEGIN:DAYLIGHT
TZOFFSETFROM:-0600
TZOFFSETTO:-0500
TZNAME:CDT
DTSTART:20240310T080000
END:DAYLIGHT
BEGIN:STANDARD
TZOFFSETFROM:-0500
TZOFFSETTO:-0600
TZNAME:CST
DTSTART:20241103T070000
END:STANDARD
BEGIN:DAYLIGHT
TZOFFSETFROM:-0600
TZOFFSETTO:-0500
TZNAME:CDT
DTSTART:20250309T080000
END:DAYLIGHT
BEGIN:STANDARD
TZOFFSETFROM:-0500
TZOFFSETTO:-0600
TZNAME:CST
DTSTART:20251102T070000
END:STANDARD
END:VTIMEZONE
BEGIN:VEVENT
DTSTART;TZID=America/Chicago:20241002T160000
DTEND;TZID=America/Chicago:20241002T170000
DTSTAMP:20260425T063833
CREATED:20240918T201210Z
LAST-MODIFIED:20240927T134958Z
UID:25814-1727884800-1727888400@www.marioncarnegielibrary.org
SUMMARY:Financial Aid Workshop with Illinois Student Assistance Commission
DESCRIPTION:Not sure how to fill out your FAFSA or\, if eligible\, the Alternative Application for Illinois Financial Aid? Visit this FREE financial aid workshop presented by Marion Carnegie Library and the Illniois Student Assistance Commission. \nNOTICE: All participants and parents understand and agree that photos taken at library events may be used in social media postings and future promotions.
URL:https://www.marioncarnegielibrary.org/event/financial-aid-workshop-with-illinois-student-assistance-commission/
LOCATION:Marion Carnegie Library\, 206 S Market St\, Marion\, IL\, 62959\, US
CATEGORIES:Young Adult Department
ATTACH;FMTTYPE=image/jpeg:https://www.marioncarnegielibrary.org/wp-content/uploads/2024/09/25814_image_460529145_945975974235882_4661541499268121568_n.jpg
END:VEVENT
BEGIN:VEVENT
DTSTART;TZID=America/Chicago:20241002T160000
DTEND;TZID=America/Chicago:20241002T170000
DTSTAMP:20260425T063833
CREATED:20240919T190008Z
LAST-MODIFIED:20240919T190008Z
UID:25826-1727884800-1727888400@www.marioncarnegielibrary.org
SUMMARY:Teen Game Night
DESCRIPTION:Visit MCL’s YA Department (on the library’s top floor)\, hang out\, and play some games! \nThis event is free and intended for ages 12 – 18. No library card is required. \nNOTICE: All participants and parents understand and agree that photos taken at library events may be used in social media postings and future promotions.
URL:https://www.marioncarnegielibrary.org/event/teen-game-night-3/
LOCATION:Marion Carnegie Library\, 206 S Market St\, Marion\, IL\, 62959\, US
CATEGORIES:Young Adult Department
ATTACH;FMTTYPE=image/jpeg:https://www.marioncarnegielibrary.org/wp-content/uploads/2024/09/25826_image_460765824_946680617498751_402006552947681305_n.jpg
END:VEVENT
END:VCALENDAR