BEGIN:VCALENDAR
VERSION:2.0
PRODID:-//Marion Carnegie Library | 618-993-5935 - ECPv6.15.12.2//NONSGML v1.0//EN
CALSCALE:GREGORIAN
METHOD:PUBLISH
X-WR-CALNAME:Marion Carnegie Library | 618-993-5935
X-ORIGINAL-URL:https://www.marioncarnegielibrary.org
X-WR-CALDESC:Events for Marion Carnegie Library | 618-993-5935
REFRESH-INTERVAL;VALUE=DURATION:PT1H
X-Robots-Tag:noindex
X-PUBLISHED-TTL:PT1H
BEGIN:VTIMEZONE
TZID:America/Chicago
BEGIN:DAYLIGHT
TZOFFSETFROM:-0600
TZOFFSETTO:-0500
TZNAME:CDT
DTSTART:20240310T080000
END:DAYLIGHT
BEGIN:STANDARD
TZOFFSETFROM:-0500
TZOFFSETTO:-0600
TZNAME:CST
DTSTART:20241103T070000
END:STANDARD
BEGIN:DAYLIGHT
TZOFFSETFROM:-0600
TZOFFSETTO:-0500
TZNAME:CDT
DTSTART:20250309T080000
END:DAYLIGHT
BEGIN:STANDARD
TZOFFSETFROM:-0500
TZOFFSETTO:-0600
TZNAME:CST
DTSTART:20251102T070000
END:STANDARD
BEGIN:DAYLIGHT
TZOFFSETFROM:-0600
TZOFFSETTO:-0500
TZNAME:CDT
DTSTART:20260308T080000
END:DAYLIGHT
BEGIN:STANDARD
TZOFFSETFROM:-0500
TZOFFSETTO:-0600
TZNAME:CST
DTSTART:20261101T070000
END:STANDARD
END:VTIMEZONE
BEGIN:VEVENT
DTSTART;VALUE=DATE:20250701
DTEND;VALUE=DATE:20250702
DTSTAMP:20260425T185500
CREATED:20250513T211101Z
LAST-MODIFIED:20250513T211114Z
UID:27429-1751328000-1751414399@www.marioncarnegielibrary.org
SUMMARY:"Five Nights at Freddy's" Word Search
DESCRIPTION:Complete a “Five Nights at Freddy’s” themed word search to win a prize! \nAges 12-18 \nALL MONTH LONG
URL:https://www.marioncarnegielibrary.org/event/five-nights-at-freddys-word-search/
LOCATION:206 S Market St\, Marion\, IL\, United States\, Illinois 62959
CATEGORIES:Young Adult Department
END:VEVENT
BEGIN:VEVENT
DTSTART;TZID=America/Chicago:20250702T140000
DTEND;TZID=America/Chicago:20250702T140000
DTSTAMP:20260425T185500
CREATED:20250513T185657Z
LAST-MODIFIED:20250513T185738Z
UID:27356-1751464800-1751464800@www.marioncarnegielibrary.org
SUMMARY:Mario Kart Tournament
DESCRIPTION:Join us for a Mario Kart Tournament in the YA Department! \nAges 12-18
URL:https://www.marioncarnegielibrary.org/event/mario-kart-tournament/
LOCATION:206 S Market St\, Marion\, IL\, United States\, Illinois 62959
CATEGORIES:Young Adult Department
END:VEVENT
BEGIN:VEVENT
DTSTART;TZID=America/Chicago:20250709T160000
DTEND;TZID=America/Chicago:20250709T160000
DTSTAMP:20260425T185500
CREATED:20250513T192606Z
LAST-MODIFIED:20250513T192651Z
UID:27376-1752076800-1752076800@www.marioncarnegielibrary.org
SUMMARY:Teen Movie & Make-It Night
DESCRIPTION:Come watch “Free Guy” and make a craft in the YA Department! \n  \nAges 12-18
URL:https://www.marioncarnegielibrary.org/event/teen-movie-make-it-night-12/
CATEGORIES:Young Adult Department
END:VEVENT
BEGIN:VEVENT
DTSTART;TZID=America/Chicago:20250716T160000
DTEND;TZID=America/Chicago:20250716T160000
DTSTAMP:20260425T185500
CREATED:20250513T194310Z
LAST-MODIFIED:20250513T194310Z
UID:27395-1752681600-1752681600@www.marioncarnegielibrary.org
SUMMARY:Teen Craft Night: "Five Nights at Freddy's" Character Bookmarks
DESCRIPTION:Come make bookmarks that look like characters from “Five Nights at Freddy’s” in the ya department. \nAges 12-18
URL:https://www.marioncarnegielibrary.org/event/teen-craft-night-five-nights-at-freddys-character-bookmarks/
CATEGORIES:Young Adult Department
END:VEVENT
BEGIN:VEVENT
DTSTART;TZID=America/Chicago:20250717T170000
DTEND;TZID=America/Chicago:20250717T190000
DTSTAMP:20260425T185500
CREATED:20250513T195436Z
LAST-MODIFIED:20250513T195735Z
UID:27401-1752771600-1752778800@www.marioncarnegielibrary.org
SUMMARY:End of Summer Roller Skating Party-YA
DESCRIPTION:Celebrate the end of summer reading with a roller skating party! The first\, second\, and third place winners of the YA Summer Reading Challenge will be rewarded their prizes! \nAges 12-18
URL:https://www.marioncarnegielibrary.org/event/end-of-summer-roller-skating-party-ya/
LOCATION:Emery Brothers Skating Rink\, 1700 North Court St\, Marion\, IL\, 62959\, US
CATEGORIES:Young Adult Department
END:VEVENT
BEGIN:VEVENT
DTSTART;TZID=America/Chicago:20250723T160000
DTEND;TZID=America/Chicago:20250723T160000
DTSTAMP:20260425T185500
CREATED:20250513T204657Z
LAST-MODIFIED:20250513T204657Z
UID:27411-1753286400-1753286400@www.marioncarnegielibrary.org
SUMMARY:The Bookworms
DESCRIPTION:Join ‘The Bookworms’! A teen book club where we discuss anything you want to read. Stay for a movie based on a YA novel! \n  \nAges 12-18
URL:https://www.marioncarnegielibrary.org/event/the-bookworms/
LOCATION:206 S Market St\, Marion\, IL\, United States\, Illinois 62959
CATEGORIES:Young Adult Department
END:VEVENT
BEGIN:VEVENT
DTSTART;TZID=America/Chicago:20250730T160000
DTEND;TZID=America/Chicago:20250730T160000
DTSTAMP:20260425T185500
CREATED:20250513T210336Z
LAST-MODIFIED:20250513T210336Z
UID:27423-1753891200-1753891200@www.marioncarnegielibrary.org
SUMMARY:Jackbox Game Fest
DESCRIPTION:Stop by and play a few rounds of Jackbox on the Nintendo Switch! \nAges 12-18
URL:https://www.marioncarnegielibrary.org/event/jackbox-game-fest-3/
LOCATION:206 S Market St\, Marion\, IL\, United States\, Illinois 62959
CATEGORIES:Young Adult Department
END:VEVENT
END:VCALENDAR