BEGIN:VCALENDAR
VERSION:2.0
PRODID:-//Marion Carnegie Library | 618-993-5935 - ECPv6.15.12.2//NONSGML v1.0//EN
CALSCALE:GREGORIAN
METHOD:PUBLISH
X-WR-CALNAME:Marion Carnegie Library | 618-993-5935
X-ORIGINAL-URL:https://www.marioncarnegielibrary.org
X-WR-CALDESC:Events for Marion Carnegie Library | 618-993-5935
REFRESH-INTERVAL;VALUE=DURATION:PT1H
X-Robots-Tag:noindex
X-PUBLISHED-TTL:PT1H
BEGIN:VTIMEZONE
TZID:America/Chicago
BEGIN:DAYLIGHT
TZOFFSETFROM:-0600
TZOFFSETTO:-0500
TZNAME:CDT
DTSTART:20240310T080000
END:DAYLIGHT
BEGIN:STANDARD
TZOFFSETFROM:-0500
TZOFFSETTO:-0600
TZNAME:CST
DTSTART:20241103T070000
END:STANDARD
BEGIN:DAYLIGHT
TZOFFSETFROM:-0600
TZOFFSETTO:-0500
TZNAME:CDT
DTSTART:20250309T080000
END:DAYLIGHT
BEGIN:STANDARD
TZOFFSETFROM:-0500
TZOFFSETTO:-0600
TZNAME:CST
DTSTART:20251102T070000
END:STANDARD
BEGIN:DAYLIGHT
TZOFFSETFROM:-0600
TZOFFSETTO:-0500
TZNAME:CDT
DTSTART:20260308T080000
END:DAYLIGHT
BEGIN:STANDARD
TZOFFSETFROM:-0500
TZOFFSETTO:-0600
TZNAME:CST
DTSTART:20261101T070000
END:STANDARD
END:VTIMEZONE
BEGIN:VEVENT
DTSTART;TZID=America/Chicago:20250604T160000
DTEND;TZID=America/Chicago:20250604T190000
DTSTAMP:20260425T173318
CREATED:20250508T185504Z
LAST-MODIFIED:20250508T185547Z
UID:27261-1749052800-1749063600@www.marioncarnegielibrary.org
SUMMARY:Five Nights at Freddy's Game Night
DESCRIPTION:Come play “Five Nights at Freddy’s” on our Nintendo Switch in the YA Department!
URL:https://www.marioncarnegielibrary.org/event/five-nights-at-freddys-game-night/
LOCATION:Marion Carnegie Library\, 206 S Market St\, Marion\, IL\, 62959\, US
CATEGORIES:Young Adult Department
ATTACH;FMTTYPE=image/png:https://www.marioncarnegielibrary.org/wp-content/uploads/2025/05/Five-Nights-at-Freddys-Game-Night.png
END:VEVENT
BEGIN:VEVENT
DTSTART;TZID=America/Chicago:20250611T160000
DTEND;TZID=America/Chicago:20250611T190000
DTSTAMP:20260425T173318
CREATED:20250508T185248Z
LAST-MODIFIED:20250508T185248Z
UID:27259-1749657600-1749668400@www.marioncarnegielibrary.org
SUMMARY:Teen Movie & Make-It Night
DESCRIPTION:Come watch a movie and make a craft in our YA Department!
URL:https://www.marioncarnegielibrary.org/event/teen-movie-make-it-night-11/
LOCATION:Marion Carnegie Library\, 206 S Market St\, Marion\, IL\, 62959\, US
CATEGORIES:Young Adult Department
ATTACH;FMTTYPE=image/png:https://www.marioncarnegielibrary.org/wp-content/uploads/2025/05/Teen-Movie-and-Make-It-Night.png
END:VEVENT
BEGIN:VEVENT
DTSTART;TZID=America/Chicago:20250617T140000
DTEND;TZID=America/Chicago:20250617T160000
DTSTAMP:20260425T173318
CREATED:20250508T192640Z
LAST-MODIFIED:20250613T154646Z
UID:27271-1750168800-1750176000@www.marioncarnegielibrary.org
SUMMARY:Afternoon Chalk Party
DESCRIPTION:Children and Teens are invited to chalk up the sidewalks in front of the library today! The library will provide the chalk and you provide the imagination! Cool off with a free sno cone from Tropical Sno!
URL:https://www.marioncarnegielibrary.org/event/afternoon-chalk-party/
LOCATION:Marion Carnegie Library\, 206 S Market St\, Marion\, IL\, 62959\, US
CATEGORIES:Children's Department,Young Adult Department
END:VEVENT
BEGIN:VEVENT
DTSTART;TZID=America/Chicago:20250618T160000
DTEND;TZID=America/Chicago:20250618T170000
DTSTAMP:20260425T173318
CREATED:20250508T184823Z
LAST-MODIFIED:20250508T184823Z
UID:27257-1750262400-1750266000@www.marioncarnegielibrary.org
SUMMARY:YA Craft Night
DESCRIPTION:Come and make coasters that look like game controller buttons in the YA Department!
URL:https://www.marioncarnegielibrary.org/event/ya-craft-night/
LOCATION:Marion Carnegie Library\, 206 S Market St\, Marion\, IL\, 62959\, US
CATEGORIES:Young Adult Department
ATTACH;FMTTYPE=image/png:https://www.marioncarnegielibrary.org/wp-content/uploads/2025/05/TEEN-CRAFT.png
END:VEVENT
BEGIN:VEVENT
DTSTART;TZID=America/Chicago:20250625T160000
DTEND;TZID=America/Chicago:20250625T170000
DTSTAMP:20260425T173318
CREATED:20250508T172504Z
LAST-MODIFIED:20250508T182702Z
UID:27242-1750867200-1750870800@www.marioncarnegielibrary.org
SUMMARY:The Book Worms
DESCRIPTION:Book worms YA book club\nJoin “The Bookworms”! A teen book club where we discuss anything you want to read. Stay for a movie based on a YA novel!
URL:https://www.marioncarnegielibrary.org/event/the-book-worms/
LOCATION:Marion Carnegie Library\, 206 S Market St\, Marion\, IL\, 62959\, US
CATEGORIES:Young Adult Department
ATTACH;FMTTYPE=image/png:https://www.marioncarnegielibrary.org/wp-content/uploads/2025/05/The-Bookworms.png
END:VEVENT
END:VCALENDAR