BEGIN:VCALENDAR
VERSION:2.0
PRODID:-//Marion Carnegie Library | 618-993-5935 - ECPv6.15.12.2//NONSGML v1.0//EN
CALSCALE:GREGORIAN
METHOD:PUBLISH
X-WR-CALNAME:Marion Carnegie Library | 618-993-5935
X-ORIGINAL-URL:https://www.marioncarnegielibrary.org
X-WR-CALDESC:Events for Marion Carnegie Library | 618-993-5935
REFRESH-INTERVAL;VALUE=DURATION:PT1H
X-Robots-Tag:noindex
X-PUBLISHED-TTL:PT1H
BEGIN:VTIMEZONE
TZID:America/Chicago
BEGIN:DAYLIGHT
TZOFFSETFROM:-0600
TZOFFSETTO:-0500
TZNAME:CDT
DTSTART:20240310T080000
END:DAYLIGHT
BEGIN:STANDARD
TZOFFSETFROM:-0500
TZOFFSETTO:-0600
TZNAME:CST
DTSTART:20241103T070000
END:STANDARD
BEGIN:DAYLIGHT
TZOFFSETFROM:-0600
TZOFFSETTO:-0500
TZNAME:CDT
DTSTART:20250309T080000
END:DAYLIGHT
BEGIN:STANDARD
TZOFFSETFROM:-0500
TZOFFSETTO:-0600
TZNAME:CST
DTSTART:20251102T070000
END:STANDARD
BEGIN:DAYLIGHT
TZOFFSETFROM:-0600
TZOFFSETTO:-0500
TZNAME:CDT
DTSTART:20260308T080000
END:DAYLIGHT
BEGIN:STANDARD
TZOFFSETFROM:-0500
TZOFFSETTO:-0600
TZNAME:CST
DTSTART:20261101T070000
END:STANDARD
END:VTIMEZONE
BEGIN:VEVENT
DTSTART;TZID=America/Chicago:20250402T160000
DTEND;TZID=America/Chicago:20250402T180000
DTSTAMP:20260425T130621
CREATED:20250319T182152Z
LAST-MODIFIED:20250319T182152Z
UID:26870-1743609600-1743616800@www.marioncarnegielibrary.org
SUMMARY:Teen Game Night
DESCRIPTION:Come play our board games and video games in the YA Department! YA Department events are intended for ages 12-18\, are free to attend\, and no library card is required.  \nNOTICE: All participants and parents understand and agree that photos taken at the event may be used in social media postings and future promotions.
URL:https://www.marioncarnegielibrary.org/event/teen-game-night-8/
LOCATION:206 S Market St\, Marion\, IL\, United States\, Illinois 62959
CATEGORIES:Young Adult Department
ATTACH;FMTTYPE=image/jpeg:https://www.marioncarnegielibrary.org/wp-content/uploads/2025/03/26870_image_485060325_1085572440276234_896639662008240593_n.jpg
END:VEVENT
BEGIN:VEVENT
DTSTART;TZID=America/Chicago:20250409T160000
DTEND;TZID=America/Chicago:20250409T180000
DTSTAMP:20260425T130621
CREATED:20250319T182859Z
LAST-MODIFIED:20250319T182859Z
UID:26873-1744214400-1744221600@www.marioncarnegielibrary.org
SUMMARY:Teen Movie & Make-It Night
DESCRIPTION:Come watch a movie and make a craft in the YA Department! YA Department events are intended for ages 12-18\, are free to attend\, and no library card is required.  \nNOTICE: All participants and parents understand and agree that photos taken at the event may be used in social media postings and future promotions.
URL:https://www.marioncarnegielibrary.org/event/teen-movie-make-it-night-9/
LOCATION:206 S Market St\, Marion\, IL\, United States\, Illinois 62959
CATEGORIES:Young Adult Department
ATTACH;FMTTYPE=image/jpeg:https://www.marioncarnegielibrary.org/wp-content/uploads/2025/03/26873_image_484841431_1085576533609158_2561141951871526546_n.jpg
END:VEVENT
BEGIN:VEVENT
DTSTART;TZID=America/Chicago:20250416T160000
DTEND;TZID=America/Chicago:20250416T180000
DTSTAMP:20260425T130621
CREATED:20250319T183355Z
LAST-MODIFIED:20250319T183355Z
UID:26876-1744819200-1744826400@www.marioncarnegielibrary.org
SUMMARY:Teen To-Go Craft: Rock Photo Holder
DESCRIPTION:Materials and instructions will be provided for creating a Rock Photo Holder! Available at the YA Desk beginning April 16th\, while supplies last. One (1) kit per patron\, please. No registration required. YA Department crafts are intended for ages 12-18. \nNOTICE: All participants and parents understand and agree that photos taken at the event may be used in social media postings and future promotions.
URL:https://www.marioncarnegielibrary.org/event/teen-to-go-craft-rock-photo-holder/
LOCATION:206 S Market St\, Marion\, IL\, United States\, Illinois 62959
CATEGORIES:Young Adult Department
ATTACH;FMTTYPE=image/jpeg:https://www.marioncarnegielibrary.org/wp-content/uploads/2025/03/26876_image_485005472_1085578973608914_1338052152148003464_n.jpg
END:VEVENT
BEGIN:VEVENT
DTSTART;TZID=America/Chicago:20250423T160000
DTEND;TZID=America/Chicago:20250423T180000
DTSTAMP:20260425T130621
CREATED:20250319T183819Z
LAST-MODIFIED:20250319T183819Z
UID:26879-1745424000-1745431200@www.marioncarnegielibrary.org
SUMMARY:The Bookworms: Teen Book Club
DESCRIPTION:Join ‘The Bookworms’! A teen book club where we discuss anything you want to read. Stay for a movie based on a YA novel! YA Department events are intended for ages 12-18\, are free to attend\, and no library card is required. \nNOTICE: All participants and parents understand and agree that photos taken at the event may be used in social media postings and future promotions.
URL:https://www.marioncarnegielibrary.org/event/the-bookworms-teen-book-club-10/
LOCATION:206 S Market St\, Marion\, IL\, United States\, Illinois 62959
CATEGORIES:Young Adult Department
ATTACH;FMTTYPE=image/jpeg:https://www.marioncarnegielibrary.org/wp-content/uploads/2025/03/26879_image_484855739_1085581410275337_6576549340101039001_n.jpg
END:VEVENT
BEGIN:VEVENT
DTSTART;TZID=America/Chicago:20250430T160000
DTEND;TZID=America/Chicago:20250430T180000
DTSTAMP:20260425T130621
CREATED:20250319T184405Z
LAST-MODIFIED:20250319T184405Z
UID:26882-1746028800-1746036000@www.marioncarnegielibrary.org
SUMMARY:Jackbox Game Fest
DESCRIPTION:Come play Jackbox Games in our YA Department! YA Department events are intended for ages 12-18\, are free to attend\, and no library card is required.  \nNOTICE: All participants and parents understand and agree that photos taken at the event may be used in social media postings and future promotions.
URL:https://www.marioncarnegielibrary.org/event/jackbox-game-fest-2/
LOCATION:206 S Market St\, Marion\, IL\, United States\, Illinois 62959
CATEGORIES:Young Adult Department
ATTACH;FMTTYPE=image/jpeg:https://www.marioncarnegielibrary.org/wp-content/uploads/2025/03/26882_image_485055494_1085584250275053_2260694892252597892_n.jpg
END:VEVENT
END:VCALENDAR