BEGIN:VCALENDAR
VERSION:2.0
PRODID:-//Marion Carnegie Library | 618-993-5935 - ECPv6.15.12.2//NONSGML v1.0//EN
CALSCALE:GREGORIAN
METHOD:PUBLISH
X-WR-CALNAME:Marion Carnegie Library | 618-993-5935
X-ORIGINAL-URL:https://www.marioncarnegielibrary.org
X-WR-CALDESC:Events for Marion Carnegie Library | 618-993-5935
REFRESH-INTERVAL;VALUE=DURATION:PT1H
X-Robots-Tag:noindex
X-PUBLISHED-TTL:PT1H
BEGIN:VTIMEZONE
TZID:America/Chicago
BEGIN:DAYLIGHT
TZOFFSETFROM:-0600
TZOFFSETTO:-0500
TZNAME:CDT
DTSTART:20240310T080000
END:DAYLIGHT
BEGIN:STANDARD
TZOFFSETFROM:-0500
TZOFFSETTO:-0600
TZNAME:CST
DTSTART:20241103T070000
END:STANDARD
BEGIN:DAYLIGHT
TZOFFSETFROM:-0600
TZOFFSETTO:-0500
TZNAME:CDT
DTSTART:20250309T080000
END:DAYLIGHT
BEGIN:STANDARD
TZOFFSETFROM:-0500
TZOFFSETTO:-0600
TZNAME:CST
DTSTART:20251102T070000
END:STANDARD
BEGIN:DAYLIGHT
TZOFFSETFROM:-0600
TZOFFSETTO:-0500
TZNAME:CDT
DTSTART:20260308T080000
END:DAYLIGHT
BEGIN:STANDARD
TZOFFSETFROM:-0500
TZOFFSETTO:-0600
TZNAME:CST
DTSTART:20261101T070000
END:STANDARD
END:VTIMEZONE
BEGIN:VEVENT
DTSTART;TZID=America/Chicago:20250305T160000
DTEND;TZID=America/Chicago:20250305T180000
DTSTAMP:20260425T115649
CREATED:20250213T153004Z
LAST-MODIFIED:20250213T153004Z
UID:26725-1741190400-1741197600@www.marioncarnegielibrary.org
SUMMARY:Teen Game Night
DESCRIPTION:Come play our board games and video games in the YA department!\nChildren 10 years old and younger must be accompanied by a guardian at all times while attending MCL Children’s Department events.\nNOTICE: All participants and parents understand and agree that photos taken at the event may be used in social media postings and future promotions.
URL:https://www.marioncarnegielibrary.org/event/teen-game-night-7/
LOCATION:206 S Market St\, Marion\, IL\, United States\, Illinois 62959
CATEGORIES:Young Adult Department
ATTACH;FMTTYPE=image/jpeg:https://www.marioncarnegielibrary.org/wp-content/uploads/2025/02/26725_image_479496224_1058356306331181_2078508745795413587_n.jpg
END:VEVENT
BEGIN:VEVENT
DTSTART;TZID=America/Chicago:20250312T160000
DTEND;TZID=America/Chicago:20250312T180000
DTSTAMP:20260425T115649
CREATED:20250213T153522Z
LAST-MODIFIED:20250213T153522Z
UID:26728-1741795200-1741802400@www.marioncarnegielibrary.org
SUMMARY:Teen Movie & Make-It Night
DESCRIPTION:Come watch a movie and make a craft in the YA Department!\nNOTICE: All participants and parents understand and agree that photos taken at the event may be used in social media postings and future promotions.
URL:https://www.marioncarnegielibrary.org/event/teen-movie-make-it-night-8/
LOCATION:206 S Market St\, Marion\, IL\, United States\, Illinois 62959
CATEGORIES:Young Adult Department
ATTACH;FMTTYPE=image/jpeg:https://www.marioncarnegielibrary.org/wp-content/uploads/2025/02/26728_image_479494501_1058360042997474_4865027712003277444_n.jpg
END:VEVENT
BEGIN:VEVENT
DTSTART;TZID=America/Chicago:20250319T160000
DTEND;TZID=America/Chicago:20250319T160000
DTSTAMP:20260425T115649
CREATED:20250213T154032Z
LAST-MODIFIED:20250213T154032Z
UID:26731-1742400000-1742400000@www.marioncarnegielibrary.org
SUMMARY:Teen Craft To-Go: Spiral Suncatcher
DESCRIPTION:Materials and instructions will be provided for creating a Spiral Suncatcher. Available at the YA Desk beginning March 19th\, while supplies last. One (1) kit per patron\, please. No registration required.\nNOTICE: All participants and parents understand and agree that photos taken at the event may be used in social media postings and future promotions.
URL:https://www.marioncarnegielibrary.org/event/teen-craft-to-go-spiral-suncatcher/
LOCATION:206 S Market St\, Marion\, IL\, United States\, Illinois 62959
CATEGORIES:Young Adult Department
ATTACH;FMTTYPE=image/jpeg:https://www.marioncarnegielibrary.org/wp-content/uploads/2025/02/26731_image_479493735_1058363296330482_8886831223028717679_n.jpg
END:VEVENT
BEGIN:VEVENT
DTSTART;TZID=America/Chicago:20250326T160000
DTEND;TZID=America/Chicago:20250326T180000
DTSTAMP:20260425T115649
CREATED:20250213T154257Z
LAST-MODIFIED:20250213T154257Z
UID:26734-1743004800-1743012000@www.marioncarnegielibrary.org
SUMMARY:The Bookworms: MCL Teen Book Club
DESCRIPTION:Join ‘The Bookworms’! A teen book club where we discuss anything you want to read. Stay for a movie based on a YA novel!\nNOTICE: All participants and parents understand and agree that photos taken at the event may be used in social media postings and future promotions.
URL:https://www.marioncarnegielibrary.org/event/the-bookworms-mcl-teen-book-club-2/
LOCATION:206 S Market St\, Marion\, IL\, United States\, Illinois 62959
CATEGORIES:Young Adult Department
ATTACH;FMTTYPE=image/jpeg:https://www.marioncarnegielibrary.org/wp-content/uploads/2025/02/26734_image_479493728_1058364612997017_2209693967380653257_n.jpg
END:VEVENT
END:VCALENDAR