BEGIN:VCALENDAR
VERSION:2.0
PRODID:-//Marion Carnegie Library | 618-993-5935 - ECPv6.15.12.2//NONSGML v1.0//EN
CALSCALE:GREGORIAN
METHOD:PUBLISH
X-ORIGINAL-URL:https://www.marioncarnegielibrary.org
X-WR-CALDESC:Events for Marion Carnegie Library | 618-993-5935
REFRESH-INTERVAL;VALUE=DURATION:PT1H
X-Robots-Tag:noindex
X-PUBLISHED-TTL:PT1H
BEGIN:VTIMEZONE
TZID:America/Chicago
BEGIN:DAYLIGHT
TZOFFSETFROM:-0600
TZOFFSETTO:-0500
TZNAME:CDT
DTSTART:20240310T080000
END:DAYLIGHT
BEGIN:STANDARD
TZOFFSETFROM:-0500
TZOFFSETTO:-0600
TZNAME:CST
DTSTART:20241103T070000
END:STANDARD
BEGIN:DAYLIGHT
TZOFFSETFROM:-0600
TZOFFSETTO:-0500
TZNAME:CDT
DTSTART:20250309T080000
END:DAYLIGHT
BEGIN:STANDARD
TZOFFSETFROM:-0500
TZOFFSETTO:-0600
TZNAME:CST
DTSTART:20251102T070000
END:STANDARD
BEGIN:DAYLIGHT
TZOFFSETFROM:-0600
TZOFFSETTO:-0500
TZNAME:CDT
DTSTART:20260308T080000
END:DAYLIGHT
BEGIN:STANDARD
TZOFFSETFROM:-0500
TZOFFSETTO:-0600
TZNAME:CST
DTSTART:20261101T070000
END:STANDARD
END:VTIMEZONE
BEGIN:VEVENT
DTSTART;TZID=America/Chicago:20250108T160000
DTEND;TZID=America/Chicago:20250108T160000
DTSTAMP:20260425T074619
CREATED:20241212T193321Z
LAST-MODIFIED:20241212T193321Z
UID:26339-1736352000-1736352000@www.marioncarnegielibrary.org
SUMMARY:Teen Movie & Make-It Night
DESCRIPTION:Come watch a movie and make a craft in the MCL Young Adult Department! This event is for ages 12 – 18. For more details\, please visit marioncarnegielibrary.org/ya \nNOTICE: All participants and parents understand and agree that photos taken at library events may be used in social media postings and future promotions.
URL:https://www.marioncarnegielibrary.org/event/teen-movie-make-it-night-6/
LOCATION:206 S Market St\, Marion\, IL\, United States\, Illinois 62959
CATEGORIES:Young Adult Department
ATTACH;FMTTYPE=image/jpeg:https://www.marioncarnegielibrary.org/wp-content/uploads/2024/12/26322_image_470152543_1013446004155545_5491047930058346185_n.jpg
END:VEVENT
BEGIN:VEVENT
DTSTART;TZID=America/Chicago:20250115T160000
DTEND;TZID=America/Chicago:20250115T160000
DTSTAMP:20260425T074619
CREATED:20241212T193136Z
LAST-MODIFIED:20241212T193136Z
UID:26337-1736956800-1736956800@www.marioncarnegielibrary.org
SUMMARY:To-Go Teen Craft: Waterless Snow Globes
DESCRIPTION:Materials and instructions will be provided for creating Waterless Snow Globes! Available at the YA Circulation Desk beginning January 15th\, while supplies last. One kit per patron\, please. No registration required. For ages 12 -18.  \nNOTICE: All participants and parents understand and agree that photos taken at library events may be used in social media postings and future promotions.
URL:https://www.marioncarnegielibrary.org/event/to-go-teen-craft-waterless-snow-globes/
LOCATION:206 S Market St\, Marion\, IL\, United States\, Illinois 62959
CATEGORIES:Young Adult Department
ATTACH;FMTTYPE=image/jpeg:https://www.marioncarnegielibrary.org/wp-content/uploads/2024/12/26325_image_470185521_1013449437488535_3048725644083162979_n.jpg
END:VEVENT
BEGIN:VEVENT
DTSTART;TZID=America/Chicago:20250122T160000
DTEND;TZID=America/Chicago:20250122T160000
DTSTAMP:20260425T074619
CREATED:20241212T192910Z
LAST-MODIFIED:20241212T193038Z
UID:26334-1737561600-1737561600@www.marioncarnegielibrary.org
SUMMARY:Teen Book Club: The Bookworms
DESCRIPTION:Join ‘The Bookworms’ – a teen book club where we discuss anything you want to read. Stay for a movie based on a YA novel! \nThis book club is for ages 12 – 18 and takes place in the MCL Young Adult Department. \nNOTICE: All participants and parents understand and agree that photos taken at library events may be used in social media postings and future promotions.
URL:https://www.marioncarnegielibrary.org/event/teen-book-club-the-bookworms/
LOCATION:206 S Market St\, Marion\, IL\, United States\, Illinois 62959
CATEGORIES:Young Adult Department
ATTACH;FMTTYPE=image/jpeg:https://www.marioncarnegielibrary.org/wp-content/uploads/2024/12/26328_image_469939645_1013452764154869_8116925071138335692_n.jpg
END:VEVENT
BEGIN:VEVENT
DTSTART;TZID=America/Chicago:20250129T160000
DTEND;TZID=America/Chicago:20250129T160000
DTSTAMP:20260425T074619
CREATED:20241212T193713Z
LAST-MODIFIED:20241220T000704Z
UID:26341-1738166400-1738166400@www.marioncarnegielibrary.org
SUMMARY:Jackbox Game Fest
DESCRIPTION:Stop by the MCL Young Adult Department and play Jackbox games! This event is for ages 12 -18. \nNOTICE: All participants and parents understand and agree that photos taken at library events may be used in social media postings and future promotions.
URL:https://www.marioncarnegielibrary.org/event/jackbox-game-fest/
LOCATION:206 S Market St\, Marion\, IL\, United States\, Illinois 62959
CATEGORIES:Young Adult Department
ATTACH;FMTTYPE=image/jpeg:https://www.marioncarnegielibrary.org/wp-content/uploads/2024/12/26341_image_470131532_1013462074153938_9020741066314963034_n.jpg
END:VEVENT
END:VCALENDAR