BEGIN:VCALENDAR
VERSION:2.0
PRODID:-//Marion Carnegie Library | 618-993-5935 - ECPv6.15.12.2//NONSGML v1.0//EN
CALSCALE:GREGORIAN
METHOD:PUBLISH
X-ORIGINAL-URL:https://www.marioncarnegielibrary.org
X-WR-CALDESC:Events for Marion Carnegie Library | 618-993-5935
REFRESH-INTERVAL;VALUE=DURATION:PT1H
X-Robots-Tag:noindex
X-PUBLISHED-TTL:PT1H
BEGIN:VTIMEZONE
TZID:America/Chicago
BEGIN:DAYLIGHT
TZOFFSETFROM:-0600
TZOFFSETTO:-0500
TZNAME:CDT
DTSTART:20230312T080000
END:DAYLIGHT
BEGIN:STANDARD
TZOFFSETFROM:-0500
TZOFFSETTO:-0600
TZNAME:CST
DTSTART:20231105T070000
END:STANDARD
BEGIN:DAYLIGHT
TZOFFSETFROM:-0600
TZOFFSETTO:-0500
TZNAME:CDT
DTSTART:20240310T080000
END:DAYLIGHT
BEGIN:STANDARD
TZOFFSETFROM:-0500
TZOFFSETTO:-0600
TZNAME:CST
DTSTART:20241103T070000
END:STANDARD
BEGIN:DAYLIGHT
TZOFFSETFROM:-0600
TZOFFSETTO:-0500
TZNAME:CDT
DTSTART:20250309T080000
END:DAYLIGHT
BEGIN:STANDARD
TZOFFSETFROM:-0500
TZOFFSETTO:-0600
TZNAME:CST
DTSTART:20251102T070000
END:STANDARD
END:VTIMEZONE
BEGIN:VEVENT
DTSTART;TZID=America/Chicago:20241204T160000
DTEND;TZID=America/Chicago:20241204T180000
DTSTAMP:20260425T060948
CREATED:20241119T000351Z
LAST-MODIFIED:20241119T000351Z
UID:26090-1733328000-1733335200@www.marioncarnegielibrary.org
SUMMARY:Teen Game Night
DESCRIPTION:Visit MCL’s YA Department (on the library’s top floor)\, hang out\, and play some games! \nThis event is free and intended for ages 12 – 18. No library card is required. \nNOTICE: All participants and parents understand and agree that photos taken at library events may be used in social media postings and future promotions.
URL:https://www.marioncarnegielibrary.org/event/teen-game-night-5/
LOCATION:Marion Carnegie Library\, 206 S Market St\, Marion\, IL\, 62959\, US
CATEGORIES:Young Adult Department
ATTACH;FMTTYPE=image/jpeg:https://www.marioncarnegielibrary.org/wp-content/uploads/2024/11/26090_image_467451404_995353495964796_4584564025056956071_n.jpg
END:VEVENT
BEGIN:VEVENT
DTSTART;TZID=America/Chicago:20241211T160000
DTEND;TZID=America/Chicago:20241211T180000
DTSTAMP:20260425T060948
CREATED:20241118T235405Z
LAST-MODIFIED:20241118T235405Z
UID:26087-1733932800-1733940000@www.marioncarnegielibrary.org
SUMMARY:Teen Movie & Make-It Night
DESCRIPTION:Teen Movie & Make-It Night offers movies and crafts in MCL’s Young Adult Department! Visit marioncarnegielibrary.org/ya to see a full lineup of films.  \nThis event is free and intended for ages 12 – 18. \nNOTICE: All participants and parents understand and agree that photos taken at library events may be used in social media postings and future promotions.
URL:https://www.marioncarnegielibrary.org/event/teen-movie-make-it-night-5/
LOCATION:Marion Carnegie Library\, 206 S Market St\, Marion\, IL\, 62959\, US
CATEGORIES:Young Adult Department
ATTACH;FMTTYPE=image/jpeg:https://www.marioncarnegielibrary.org/wp-content/uploads/2024/11/26087_image_467554941_995349179298561_4776649712147337248_n.jpg
END:VEVENT
BEGIN:VEVENT
DTSTART;TZID=America/Chicago:20241218T160000
DTEND;TZID=America/Chicago:20241218T180000
DTSTAMP:20260425T060948
CREATED:20241118T234148Z
LAST-MODIFIED:20241118T234148Z
UID:26084-1734537600-1734544800@www.marioncarnegielibrary.org
SUMMARY:MCL Teen Craft - DIY Hot Cocoa
DESCRIPTION:Come make your own batch of hot cocoa mix to take home and enjoy! \nThis event is free and open to ages 12 – 18. No library card is required. We’ll provide everything you need! \nNOTICE: All participants and parents understand and agree that photos taken at library events may be used in social media postings and future promotions.
URL:https://www.marioncarnegielibrary.org/event/mcl-teen-craft-diy-hot-cocoa/
LOCATION:Marion Carnegie Library\, 206 S Market St\, Marion\, IL\, 62959\, US
CATEGORIES:Young Adult Department
ATTACH;FMTTYPE=image/jpeg:https://www.marioncarnegielibrary.org/wp-content/uploads/2024/11/26084_image_467397737_995344655965680_1811369165205975733_n.jpg
END:VEVENT
END:VCALENDAR