BEGIN:VCALENDAR
VERSION:2.0
PRODID:-//Marion Carnegie Library | 618-993-5935 - ECPv6.15.12.2//NONSGML v1.0//EN
CALSCALE:GREGORIAN
METHOD:PUBLISH
X-WR-CALNAME:Marion Carnegie Library | 618-993-5935
X-ORIGINAL-URL:https://www.marioncarnegielibrary.org
X-WR-CALDESC:Events for Marion Carnegie Library | 618-993-5935
REFRESH-INTERVAL;VALUE=DURATION:PT1H
X-Robots-Tag:noindex
X-PUBLISHED-TTL:PT1H
BEGIN:VTIMEZONE
TZID:America/Chicago
BEGIN:DAYLIGHT
TZOFFSETFROM:-0600
TZOFFSETTO:-0500
TZNAME:CDT
DTSTART:20230312T080000
END:DAYLIGHT
BEGIN:STANDARD
TZOFFSETFROM:-0500
TZOFFSETTO:-0600
TZNAME:CST
DTSTART:20231105T070000
END:STANDARD
BEGIN:DAYLIGHT
TZOFFSETFROM:-0600
TZOFFSETTO:-0500
TZNAME:CDT
DTSTART:20240310T080000
END:DAYLIGHT
BEGIN:STANDARD
TZOFFSETFROM:-0500
TZOFFSETTO:-0600
TZNAME:CST
DTSTART:20241103T070000
END:STANDARD
BEGIN:DAYLIGHT
TZOFFSETFROM:-0600
TZOFFSETTO:-0500
TZNAME:CDT
DTSTART:20250309T080000
END:DAYLIGHT
BEGIN:STANDARD
TZOFFSETFROM:-0500
TZOFFSETTO:-0600
TZNAME:CST
DTSTART:20251102T070000
END:STANDARD
END:VTIMEZONE
BEGIN:VEVENT
DTSTART;TZID=America/Chicago:20240703T160000
DTEND;TZID=America/Chicago:20240703T170000
DTSTAMP:20260425T062952
CREATED:20240529T191214Z
LAST-MODIFIED:20240529T191653Z
UID:25209-1720022400-1720026000@www.marioncarnegielibrary.org
SUMMARY:MCL Gamers Guild: Willy Wonka Trivia
DESCRIPTION:Visit MCL’s Young Adult Department to play trivia about Willy Wonka and his chocolate factory! \nThis event is free and open to ages 12 – 18. No library card is required. \nNOTICE: All participants and parents understand and agree that photos taken at library events may be used in social media postings and future promotions.
URL:https://www.marioncarnegielibrary.org/event/mcl-gamers-guild-willy-wonka-trivia/
LOCATION:Marion Carnegie Library\, 206 S Market St\, Marion\, IL\, 62959\, US
CATEGORIES:Young Adult Department
ATTACH;FMTTYPE=image/jpeg:https://www.marioncarnegielibrary.org/wp-content/uploads/2024/05/25209_image_446716212_870394845127329_8736573361386210680_n.jpg
END:VEVENT
BEGIN:VEVENT
DTSTART;TZID=America/Chicago:20240709T140000
DTEND;TZID=America/Chicago:20240709T160000
DTSTAMP:20260425T062952
CREATED:20240524T162657Z
LAST-MODIFIED:20240528T224438Z
UID:25172-1720533600-1720540800@www.marioncarnegielibrary.org
SUMMARY:Half-Blood Camp at MCL
DESCRIPTION:Discover your camp cabin and be prepared to battle with your fellow half-blood friends in camp trivia! There will be snacks\, crafts\, chariot races\, and more! **No campers will be harmed in these activities!** \nThis event is free and intended for ages 8 – 18. Space is limited\, so arrive early! \nNOTICE: All participants and parents understand and agree that photos taken at library events may be used in social media postings and future promotions. \nChildren 10 years old and younger must be accompanied by a guardian at all times while attending MCL Children’s Department events.
URL:https://www.marioncarnegielibrary.org/event/half-blood-camp-at-mcl/
LOCATION:Marion Carnegie Library\, 206 S Market St\, Marion\, IL\, 62959\, US
CATEGORIES:Children's Department,Young Adult Department
ATTACH;FMTTYPE=image/jpeg:https://www.marioncarnegielibrary.org/wp-content/uploads/2024/05/25172_image_445707984_867244945442319_1758274371321548688_n.jpg
END:VEVENT
BEGIN:VEVENT
DTSTART;TZID=America/Chicago:20240710T160000
DTEND;TZID=America/Chicago:20240710T170000
DTSTAMP:20260425T062952
CREATED:20240529T191212Z
LAST-MODIFIED:20240529T191657Z
UID:25207-1720627200-1720630800@www.marioncarnegielibrary.org
SUMMARY:The Inventing Room at MCL
DESCRIPTION:Visit The Inventing Room in MCL’s Young Adult Department and make candy from the book “Charlie and the Chocolate Factory”! \nThis event is free and open to ages 12 – 18. No library card is required. \nNOTICE: All participants and parents understand and agree that photos taken at library events may be used in social media postings and future promotions.
URL:https://www.marioncarnegielibrary.org/event/the-inventing-room-at-mcl/
LOCATION:Marion Carnegie Library\, 206 S Market St\, Marion\, IL\, 62959\, US
CATEGORIES:Young Adult Department
ATTACH;FMTTYPE=image/jpeg:https://www.marioncarnegielibrary.org/wp-content/uploads/2024/05/25207_image_445468794_870395928460554_3394148145675126091_n.jpg
END:VEVENT
BEGIN:VEVENT
DTSTART;TZID=America/Chicago:20240717T160000
DTEND;TZID=America/Chicago:20240717T170000
DTSTAMP:20260425T062952
CREATED:20240529T191210Z
LAST-MODIFIED:20240529T191210Z
UID:25205-1721232000-1721235600@www.marioncarnegielibrary.org
SUMMARY:MCL Teen Craft - Book Bags
DESCRIPTION:Visit MCL’s Young Adult Department and personalize your own book bag!! \nThis event is free and open to ages 12 – 18. No library card is required. We’ll provide everything you need! \nNOTICE: All participants and parents understand and agree that photos taken at library events may be used in social media postings and future promotions.
URL:https://www.marioncarnegielibrary.org/event/mcl-teen-craft-book-bags/
LOCATION:Marion Carnegie Library\, 206 S Market St\, Marion\, IL\, 62959\, US
CATEGORIES:Young Adult Department
ATTACH;FMTTYPE=image/jpeg:https://www.marioncarnegielibrary.org/wp-content/uploads/2024/05/25205_image_445821517_870397311793749_7173749270531672402_n.jpg
END:VEVENT
BEGIN:VEVENT
DTSTART;TZID=America/Chicago:20240724T160000
DTEND;TZID=America/Chicago:20240724T180000
DTSTAMP:20260425T062952
CREATED:20240529T191208Z
LAST-MODIFIED:20240529T191643Z
UID:25203-1721836800-1721844000@www.marioncarnegielibrary.org
SUMMARY:MCL Young Adult Department End of Summer Reading Party
DESCRIPTION:Celebrate the end of the Young Adult Department’s Summer Reading program with snacks and games as the winners of the program are revealed! \nThis event is free and open to ages 12 – 18. No library card is required. \nNOTICE: All participants and parents understand and agree that photos taken at library events may be used in social media postings and future promotions.
URL:https://www.marioncarnegielibrary.org/event/mcl-young-adult-department-end-of-summer-reading-party/
LOCATION:Marion Carnegie Library\, 206 S Market St\, Marion\, IL\, 62959\, US
CATEGORIES:Young Adult Department
ATTACH;FMTTYPE=image/jpeg:https://www.marioncarnegielibrary.org/wp-content/uploads/2024/05/25203_image_446670037_870398235126990_5514168509030562855_n.jpg
END:VEVENT
BEGIN:VEVENT
DTSTART;TZID=America/Chicago:20240731T160000
DTEND;TZID=America/Chicago:20240731T170000
DTSTAMP:20260425T062952
CREATED:20240529T191204Z
LAST-MODIFIED:20240529T191204Z
UID:25201-1722441600-1722445200@www.marioncarnegielibrary.org
SUMMARY:Jackbox Game Fest at MCL
DESCRIPTION:Stop by the library’s Young Adult Department and play a few rounds of Jackbox on the Nintendo Switch! \nThis event is free and open to ages 12 – 18. No library card is required. \nNOTICE: All participants and parents understand and agree that photos taken at library events may be used in social media postings and future promotions.
URL:https://www.marioncarnegielibrary.org/event/jackbox-game-fest-at-mcl-7/
LOCATION:Marion Carnegie Library\, 206 S Market St\, Marion\, IL\, 62959\, US
CATEGORIES:Young Adult Department
ATTACH;FMTTYPE=image/jpeg:https://www.marioncarnegielibrary.org/wp-content/uploads/2024/05/25201_image_445180453_870398698460277_8181805345717062588_n.jpg
END:VEVENT
END:VCALENDAR