BEGIN:VCALENDAR
VERSION:2.0
PRODID:-//Marion Carnegie Library | 618-993-5935 - ECPv6.15.12.2//NONSGML v1.0//EN
CALSCALE:GREGORIAN
METHOD:PUBLISH
X-ORIGINAL-URL:https://www.marioncarnegielibrary.org
X-WR-CALDESC:Events for Marion Carnegie Library | 618-993-5935
REFRESH-INTERVAL;VALUE=DURATION:PT1H
X-Robots-Tag:noindex
X-PUBLISHED-TTL:PT1H
BEGIN:VTIMEZONE
TZID:America/Chicago
BEGIN:DAYLIGHT
TZOFFSETFROM:-0600
TZOFFSETTO:-0500
TZNAME:CDT
DTSTART:20230312T080000
END:DAYLIGHT
BEGIN:STANDARD
TZOFFSETFROM:-0500
TZOFFSETTO:-0600
TZNAME:CST
DTSTART:20231105T070000
END:STANDARD
BEGIN:DAYLIGHT
TZOFFSETFROM:-0600
TZOFFSETTO:-0500
TZNAME:CDT
DTSTART:20240310T080000
END:DAYLIGHT
BEGIN:STANDARD
TZOFFSETFROM:-0500
TZOFFSETTO:-0600
TZNAME:CST
DTSTART:20241103T070000
END:STANDARD
BEGIN:DAYLIGHT
TZOFFSETFROM:-0600
TZOFFSETTO:-0500
TZNAME:CDT
DTSTART:20250309T080000
END:DAYLIGHT
BEGIN:STANDARD
TZOFFSETFROM:-0500
TZOFFSETTO:-0600
TZNAME:CST
DTSTART:20251102T070000
END:STANDARD
END:VTIMEZONE
BEGIN:VEVENT
DTSTART;TZID=America/Chicago:20240501T160000
DTEND;TZID=America/Chicago:20240501T180000
DTSTAMP:20260425T092148
CREATED:20240422T174850Z
LAST-MODIFIED:20240422T174850Z
UID:24801-1714579200-1714586400@www.marioncarnegielibrary.org
SUMMARY:MCL Gamers Guild
DESCRIPTION:MCL Gamers Guild is a program dedicated to playing and enjoying board games! Visit this edition of the Gamers Guild and play a game selected by the library’s Young Adult department. \nThis event is free and open to ages 12 – 18. You don’t need a library card to attend! \nNOTICE: All participants and parents understand and agree that photos taken at library events may be used in social media postings and future promotions.
URL:https://www.marioncarnegielibrary.org/event/mcl-gamers-guild-13/
LOCATION:Marion Carnegie Library\, 206 S Market St\, Marion\, IL\, 62959\, US
CATEGORIES:Young Adult Department
ATTACH;FMTTYPE=image/jpeg:https://www.marioncarnegielibrary.org/wp-content/uploads/2024/04/24801_image_439671473_845993824234098_7029222440996472069_n.jpg
END:VEVENT
BEGIN:VEVENT
DTSTART;TZID=America/Chicago:20240515T160000
DTEND;TZID=America/Chicago:20240515T180000
DTSTAMP:20260425T092148
CREATED:20240422T174848Z
LAST-MODIFIED:20240422T180034Z
UID:24799-1715788800-1715796000@www.marioncarnegielibrary.org
SUMMARY:MCL Teen Craft - Painting Bookends
DESCRIPTION:Come personalize bookends for your home collection! We’ll provide everything you need! \nNo registration or library card is required\, and this event is open to _everyone_ aged 12 – 18. \nNOTICE: All participants and parents understand and agree that photos taken at library events may be used in social media postings and future promotions
URL:https://www.marioncarnegielibrary.org/event/mcl-teen-craft-painting-bookends/
LOCATION:Marion Carnegie Library\, 206 S Market St\, Marion\, IL\, 62959\, US
CATEGORIES:Young Adult Department
ATTACH;FMTTYPE=image/jpeg:https://www.marioncarnegielibrary.org/wp-content/uploads/2024/04/24799_image_440149656_845993324234148_5269065267380117484_n.jpg
END:VEVENT
BEGIN:VEVENT
DTSTART;TZID=America/Chicago:20240522T160000
DTEND;TZID=America/Chicago:20240522T180000
DTSTAMP:20260425T092148
CREATED:20240419T005045Z
LAST-MODIFIED:20240419T005045Z
UID:24788-1716393600-1716400800@www.marioncarnegielibrary.org
SUMMARY:The Bookworms - Teen Book Club
DESCRIPTION:The Bookworms is a teen book club where we discuss anything you want to read. Stick around after the meeting for a movie based on a YA novel! \nThis event is free and open to ages 12 – 18. No library card is required. \nNOTICE: All participants and parents understand and agree that photos taken at library events may be used in social media postings and future promotions.
URL:https://www.marioncarnegielibrary.org/event/the-bookworms-teen-book-club-5/
LOCATION:Marion Carnegie Library\, 206 S Market St\, Marion\, IL\, 62959\, US
CATEGORIES:Young Adult Department
ATTACH;FMTTYPE=image/jpeg:https://www.marioncarnegielibrary.org/wp-content/uploads/2024/04/24788_image_437915013_843696187797195_5391233792525987230_n.jpg
END:VEVENT
BEGIN:VEVENT
DTSTART;TZID=America/Chicago:20240529T160000
DTEND;TZID=America/Chicago:20240529T180000
DTSTAMP:20260425T092148
CREATED:20240422T174852Z
LAST-MODIFIED:20240422T174852Z
UID:24803-1716998400-1717005600@www.marioncarnegielibrary.org
SUMMARY:Jackbox Game Fest at MCL
DESCRIPTION:Drop into MCL’s Young Adult department and play a few rounds of Jackbox mini-games on the Nintendo Switch. \nThis event is free and open to ages 12 – 18. No library card is required. \nNOTICE: All participants and parents understand and agree that photos taken at library events may be used in social media postings and future promotions.
URL:https://www.marioncarnegielibrary.org/event/jackbox-game-fest-at-mcl-6/
LOCATION:Marion Carnegie Library\, 206 S Market St\, Marion\, IL\, 62959\, US
CATEGORIES:Young Adult Department
ATTACH;FMTTYPE=image/jpeg:https://www.marioncarnegielibrary.org/wp-content/uploads/2024/04/24803_image_439645543_845994697567344_7772150064312614952_n.jpg
END:VEVENT
END:VCALENDAR