BEGIN:VCALENDAR
VERSION:2.0
PRODID:-//Marion Carnegie Library | 618-993-5935 - ECPv6.15.12.2//NONSGML v1.0//EN
CALSCALE:GREGORIAN
METHOD:PUBLISH
X-ORIGINAL-URL:https://www.marioncarnegielibrary.org
X-WR-CALDESC:Events for Marion Carnegie Library | 618-993-5935
REFRESH-INTERVAL;VALUE=DURATION:PT1H
X-Robots-Tag:noindex
X-PUBLISHED-TTL:PT1H
BEGIN:VTIMEZONE
TZID:America/Chicago
BEGIN:DAYLIGHT
TZOFFSETFROM:-0600
TZOFFSETTO:-0500
TZNAME:CDT
DTSTART:20230312T080000
END:DAYLIGHT
BEGIN:STANDARD
TZOFFSETFROM:-0500
TZOFFSETTO:-0600
TZNAME:CST
DTSTART:20231105T070000
END:STANDARD
BEGIN:DAYLIGHT
TZOFFSETFROM:-0600
TZOFFSETTO:-0500
TZNAME:CDT
DTSTART:20240310T080000
END:DAYLIGHT
BEGIN:STANDARD
TZOFFSETFROM:-0500
TZOFFSETTO:-0600
TZNAME:CST
DTSTART:20241103T070000
END:STANDARD
BEGIN:DAYLIGHT
TZOFFSETFROM:-0600
TZOFFSETTO:-0500
TZNAME:CDT
DTSTART:20250309T080000
END:DAYLIGHT
BEGIN:STANDARD
TZOFFSETFROM:-0500
TZOFFSETTO:-0600
TZNAME:CST
DTSTART:20251102T070000
END:STANDARD
END:VTIMEZONE
BEGIN:VEVENT
DTSTART;TZID=America/Chicago:20240306T160000
DTEND;TZID=America/Chicago:20240306T180000
DTSTAMP:20260425T130643
CREATED:20240216T220117Z
LAST-MODIFIED:20240216T220117Z
UID:24406-1709740800-1709748000@www.marioncarnegielibrary.org
SUMMARY:MCL Gamers Guild
DESCRIPTION:MCL Gamers Guild is a program dedicated to playing and enjoying board games! Visit this edition of the Gamers Guild and play a game selected by the library’s Young Adult department. \nThis event is free and open to ages 12 – 18. No library card is required. \nNOTICE: All participants and parents understand and agree that photos taken at library events may be used in social media postings and future promotions.
URL:https://www.marioncarnegielibrary.org/event/mcl-gamers-guild-11/
LOCATION:Marion Carnegie Library\, 206 S Market St\, Marion\, IL\, 62959\, US
CATEGORIES:Young Adult Department
ATTACH;FMTTYPE=image/jpeg:https://www.marioncarnegielibrary.org/wp-content/uploads/2024/02/24406_image_428061491_804896971677117_7760275548944366318_n.jpg
END:VEVENT
BEGIN:VEVENT
DTSTART;TZID=America/Chicago:20240320T090000
DTEND;TZID=America/Chicago:20240320T200000
DTSTAMP:20260425T130643
CREATED:20240216T220122Z
LAST-MODIFIED:20240216T220122Z
UID:24410-1710925200-1710964800@www.marioncarnegielibrary.org
SUMMARY:MCL Teen Craft To Go - Pom-Pom Cacti
DESCRIPTION:Starting Wednesday\, March 20\, visit MCL’s Young Adult Department and pick up all the materials you’ll need and (of course) instructions for creating Pom Pom Cacti! \nNo registration is required\, but the kits are available to everyone aged 12 – 18 while supplies last so don’t wait! One kit per patron\, please. \nNOTICE: All participants and parents understand and agree that photos taken at library events may be used in social media postings and future promotions
URL:https://www.marioncarnegielibrary.org/event/mcl-teen-craft-to-go-pom-pom-cacti/
LOCATION:Marion Carnegie Library\, 206 S Market St\, Marion\, IL\, 62959\, US
CATEGORIES:Young Adult Department
ATTACH;FMTTYPE=image/jpeg:https://www.marioncarnegielibrary.org/wp-content/uploads/2024/02/24410_image_427545207_804899555010192_4990110577050907987_n.jpg
END:VEVENT
BEGIN:VEVENT
DTSTART;TZID=America/Chicago:20240327T160000
DTEND;TZID=America/Chicago:20240327T180000
DTSTAMP:20260425T130643
CREATED:20240216T220120Z
LAST-MODIFIED:20240216T220120Z
UID:24408-1711555200-1711562400@www.marioncarnegielibrary.org
SUMMARY:The Bookworms - Teen Book Club
DESCRIPTION:The Bookworms is a teen book club where we discuss anything you want to read. Stick around after the meeting for a movie based on a YA novel! \nThis event is free and open to ages 12 – 18. No library card is required. \nNOTICE: All participants and parents understand and agree that photos taken at library events may be used in social media postings and future promotions.
URL:https://www.marioncarnegielibrary.org/event/the-bookworms-teen-book-club-3/
LOCATION:Marion Carnegie Library\, 206 S Market St\, Marion\, IL\, 62959\, US
CATEGORIES:Young Adult Department
ATTACH;FMTTYPE=image/jpeg:https://www.marioncarnegielibrary.org/wp-content/uploads/2024/02/24408_image_428046528_804899985010149_4350089108276567698_n.jpg
END:VEVENT
END:VCALENDAR