BEGIN:VCALENDAR
VERSION:2.0
PRODID:-//Marion Carnegie Library | 618-993-5935 - ECPv6.15.12.2//NONSGML v1.0//EN
CALSCALE:GREGORIAN
METHOD:PUBLISH
X-ORIGINAL-URL:https://www.marioncarnegielibrary.org
X-WR-CALDESC:Events for Marion Carnegie Library | 618-993-5935
REFRESH-INTERVAL;VALUE=DURATION:PT1H
X-Robots-Tag:noindex
X-PUBLISHED-TTL:PT1H
BEGIN:VTIMEZONE
TZID:America/Chicago
BEGIN:DAYLIGHT
TZOFFSETFROM:-0600
TZOFFSETTO:-0500
TZNAME:CDT
DTSTART:20230312T080000
END:DAYLIGHT
BEGIN:STANDARD
TZOFFSETFROM:-0500
TZOFFSETTO:-0600
TZNAME:CST
DTSTART:20231105T070000
END:STANDARD
BEGIN:DAYLIGHT
TZOFFSETFROM:-0600
TZOFFSETTO:-0500
TZNAME:CDT
DTSTART:20240310T080000
END:DAYLIGHT
BEGIN:STANDARD
TZOFFSETFROM:-0500
TZOFFSETTO:-0600
TZNAME:CST
DTSTART:20241103T070000
END:STANDARD
BEGIN:DAYLIGHT
TZOFFSETFROM:-0600
TZOFFSETTO:-0500
TZNAME:CDT
DTSTART:20250309T080000
END:DAYLIGHT
BEGIN:STANDARD
TZOFFSETFROM:-0500
TZOFFSETTO:-0600
TZNAME:CST
DTSTART:20251102T070000
END:STANDARD
END:VTIMEZONE
BEGIN:VEVENT
DTSTART;TZID=America/Chicago:20240207T160000
DTEND;TZID=America/Chicago:20240207T180000
DTSTAMP:20260425T173654
CREATED:20240118T193514Z
LAST-MODIFIED:20240118T193514Z
UID:24179-1707321600-1707328800@www.marioncarnegielibrary.org
SUMMARY:MCL Gamers Guild
DESCRIPTION:MCL Gamers Guild is a program dedicated to playing and enjoying board games! Visit this edition of the Gamers Guild and play a game selected by the library’s Young Adult department. \nThis event is free and open to ages 12 – 18. No library card is required. \nNOTICE: All participants and parents understand and agree that photos taken at library events may be used in social media postings and future promotions.
URL:https://www.marioncarnegielibrary.org/event/mcl-gamers-guild-10/
LOCATION:Marion Carnegie Library\, 206 S Market St\, Marion\, IL\, 62959\, US
CATEGORIES:Young Adult Department
ATTACH;FMTTYPE=image/jpeg:https://www.marioncarnegielibrary.org/wp-content/uploads/2024/01/24179_image_420556959_785776630255818_1755182983326470366_n.jpg
END:VEVENT
BEGIN:VEVENT
DTSTART;TZID=America/Chicago:20240214T090000
DTEND;TZID=America/Chicago:20240214T200000
DTSTAMP:20260425T173654
CREATED:20240118T145923Z
LAST-MODIFIED:20240118T145923Z
UID:24168-1707901200-1707940800@www.marioncarnegielibrary.org
SUMMARY:MCL Craft To Go - Jar of Hearts Bookmark for Ages 12 and up
DESCRIPTION:Starting Wednesday\, February 14 – EVERYONE aged 12 and up is invited to pick up a cool custom Jar of Hearts bookmark craft-to-go kit from MCL’s Main Desk or Young Adult Department desk (on the library’s top floor)! \nThe kit will contain instructions and all the materials needed to make this fun bookmark featuring classic Valentine hearts. \nNo registration is required\, but the kits are available while supplies last so don’t wait! One kit per patron\, please. \nNOTICE: All participants and parents understand and agree that photos taken at library events may be used in social media postings and future promotions
URL:https://www.marioncarnegielibrary.org/event/mcl-craft-to-go-jar-of-hearts-bookmark-for-ages-12-and-up/
LOCATION:Marion Carnegie Library\, 206 S Market St\, Marion\, IL\, 62959\, US
CATEGORIES:Adult Department,Young Adult Department
ATTACH;FMTTYPE=image/jpeg:https://www.marioncarnegielibrary.org/wp-content/uploads/2024/01/24168_image_420300658_785645603602254_7930101848989884549_n.jpg
END:VEVENT
BEGIN:VEVENT
DTSTART;TZID=America/Chicago:20240221T160000
DTEND;TZID=America/Chicago:20240221T180000
DTSTAMP:20260425T173654
CREATED:20240118T193512Z
LAST-MODIFIED:20240118T201015Z
UID:24177-1708531200-1708538400@www.marioncarnegielibrary.org
SUMMARY:Financial Aid Info Session with John A. Logan College
DESCRIPTION:Get information about college financial aid options from representatives of John A. Logan College and Marion Carnegie Library! \nJALC’s Financial Aid office will be on hand to talk about what financial aid is\, how to apply\, what types of aid are available\, and more! \nThis event is totally free. It’s open to everyone aged 12 – 18 and their parents or guardians. No library card is required. \nNOTICE: All participants and parents understand and agree that photos taken at library events may be used in social media postings and future promotions.
URL:https://www.marioncarnegielibrary.org/event/financial-aid-info-session-with-john-a-logan-college/
LOCATION:Marion Carnegie Library\, 206 S Market St\, Marion\, IL\, 62959\, US
CATEGORIES:Young Adult Department
ATTACH;FMTTYPE=image/jpeg:https://www.marioncarnegielibrary.org/wp-content/uploads/2024/01/24177_image_420548890_785779273588887_3937370235154180263_n.jpg
END:VEVENT
BEGIN:VEVENT
DTSTART;TZID=America/Chicago:20240228T160000
DTEND;TZID=America/Chicago:20240228T180000
DTSTAMP:20260425T173654
CREATED:20240118T193517Z
LAST-MODIFIED:20240118T193517Z
UID:24181-1709136000-1709143200@www.marioncarnegielibrary.org
SUMMARY:The Bookworms - Teen Book Club
DESCRIPTION:The Bookworms is a teen book club where we discuss anything you want to read. Stick around after the meeting for a movie based on a YA novel! \nThis event is free and open to ages 12 – 18. No library card is required. \nNOTICE: All participants and parents understand and agree that photos taken at library events may be used in social media postings and future promotions.
URL:https://www.marioncarnegielibrary.org/event/the-bookworms-teen-book-club-2/
LOCATION:Marion Carnegie Library\, 206 S Market St\, Marion\, IL\, 62959\, US
CATEGORIES:Young Adult Department
ATTACH;FMTTYPE=image/jpeg:https://www.marioncarnegielibrary.org/wp-content/uploads/2024/01/24181_image_420587559_785776100255871_3486089548900311501_n.jpg
END:VEVENT
END:VCALENDAR