BEGIN:VCALENDAR
VERSION:2.0
PRODID:-//Marion Carnegie Library | 618-993-5935 - ECPv6.15.12.2//NONSGML v1.0//EN
CALSCALE:GREGORIAN
METHOD:PUBLISH
X-WR-CALNAME:Marion Carnegie Library | 618-993-5935
X-ORIGINAL-URL:https://www.marioncarnegielibrary.org
X-WR-CALDESC:Events for Marion Carnegie Library | 618-993-5935
REFRESH-INTERVAL;VALUE=DURATION:PT1H
X-Robots-Tag:noindex
X-PUBLISHED-TTL:PT1H
BEGIN:VTIMEZONE
TZID:America/Chicago
BEGIN:DAYLIGHT
TZOFFSETFROM:-0600
TZOFFSETTO:-0500
TZNAME:CDT
DTSTART:20230312T080000
END:DAYLIGHT
BEGIN:STANDARD
TZOFFSETFROM:-0500
TZOFFSETTO:-0600
TZNAME:CST
DTSTART:20231105T070000
END:STANDARD
BEGIN:DAYLIGHT
TZOFFSETFROM:-0600
TZOFFSETTO:-0500
TZNAME:CDT
DTSTART:20240310T080000
END:DAYLIGHT
BEGIN:STANDARD
TZOFFSETFROM:-0500
TZOFFSETTO:-0600
TZNAME:CST
DTSTART:20241103T070000
END:STANDARD
BEGIN:DAYLIGHT
TZOFFSETFROM:-0600
TZOFFSETTO:-0500
TZNAME:CDT
DTSTART:20250309T080000
END:DAYLIGHT
BEGIN:STANDARD
TZOFFSETFROM:-0500
TZOFFSETTO:-0600
TZNAME:CST
DTSTART:20251102T070000
END:STANDARD
END:VTIMEZONE
BEGIN:VEVENT
DTSTART;TZID=America/Chicago:20240103T160000
DTEND;TZID=America/Chicago:20240103T180000
DTSTAMP:20260425T173317
CREATED:20231221T153848Z
LAST-MODIFIED:20231221T153848Z
UID:24113-1704297600-1704304800@www.marioncarnegielibrary.org
SUMMARY:MCL Gamers Guild
DESCRIPTION:MCL Gamers Guild is a program dedicated to playing and enjoying board games! Visit this edition of the Gamers Guild and play a game selected by the library’s Young Adult department. \nThis event is free and open to ages 12 – 18. No library card is required. \nNOTICE: All participants and parents understand and agree that photos taken at library events may be used in social media postings and future promotions.
URL:https://www.marioncarnegielibrary.org/event/mcl-gamers-guild-9/
LOCATION:Marion Carnegie Library\, 206 S Market St\, Marion\, IL\, 62959\, US
CATEGORIES:Young Adult Department
ATTACH;FMTTYPE=image/jpeg:https://www.marioncarnegielibrary.org/wp-content/uploads/2023/12/24113_image_412368957_767806902052791_5117915528368544122_n.jpg
END:VEVENT
BEGIN:VEVENT
DTSTART;TZID=America/Chicago:20240110T090000
DTEND;TZID=America/Chicago:20240110T200000
DTSTAMP:20260425T173317
CREATED:20231220T160706Z
LAST-MODIFIED:20231220T160749Z
UID:24087-1704877200-1704916800@www.marioncarnegielibrary.org
SUMMARY:MCL Craft To Go - Sock Gnomes for Ages 12 and up
DESCRIPTION:Starting Wednesday\, January 10 EVERYONE aged 12 and up is invited to pick up a fun Sock Gnome craft-to-go kit from MCL’s Main Desk or Young Adult Department desk (on the library’s top floor)! \nThe kit will contain instructions and all the materials needed to make this adorable winter pal. \nNo registration is required\, but the kits are available while supplies last so don’t wait! One kit per patron\, please. \nNOTICE: All participants and parents understand and agree that photos taken at library events may be used in social media postings and future promotions
URL:https://www.marioncarnegielibrary.org/event/mcl-craft-to-go-sock-gnomes-for-ages-12-and-up/
LOCATION:Marion Carnegie Library\, 206 S Market St\, Marion\, IL\, 62959\, US
CATEGORIES:Adult Department,Young Adult Department
ATTACH;FMTTYPE=image/jpeg:https://www.marioncarnegielibrary.org/wp-content/uploads/2023/12/24087_image_412315974_767166728783475_1973267594529606483_n.jpg
END:VEVENT
BEGIN:VEVENT
DTSTART;TZID=America/Chicago:20240124T160000
DTEND;TZID=America/Chicago:20240124T180000
DTSTAMP:20260425T173317
CREATED:20231221T153844Z
LAST-MODIFIED:20231221T153844Z
UID:24109-1706112000-1706119200@www.marioncarnegielibrary.org
SUMMARY:The Bookworms - Teen Book Club
DESCRIPTION:The Bookworms is a teen book club where we discuss anything you want to read. Stick around after the meeting for a movie based on a YA novel! \nThis event is free and open to ages 12 – 18. No library card is required. \nNOTICE: All participants and parents understand and agree that photos taken at library events may be used in social media postings and future promotions.
URL:https://www.marioncarnegielibrary.org/event/the-bookworms-teen-book-club/
LOCATION:Marion Carnegie Library\, 206 S Market St\, Marion\, IL\, 62959\, US
CATEGORIES:Young Adult Department
ATTACH;FMTTYPE=image/jpeg:https://www.marioncarnegielibrary.org/wp-content/uploads/2023/12/24109_image_412371546_767804952052986_973377734764224374_n.jpg
END:VEVENT
BEGIN:VEVENT
DTSTART;TZID=America/Chicago:20240131T160000
DTEND;TZID=America/Chicago:20240131T180000
DTSTAMP:20260425T173317
CREATED:20231221T153846Z
LAST-MODIFIED:20231221T153846Z
UID:24111-1706716800-1706724000@www.marioncarnegielibrary.org
SUMMARY:Jackbox Game Fest at MCL
DESCRIPTION:Drop into MCL’s Young Adult department and play a few rounds of Jackbox mini-games on the Nintendo Switch. \nThis event is free and open to ages 12 – 18. No library card is required. \nNOTICE: All participants and parents understand and agree that photos taken at library events may be used in social media postings and future promotions.
URL:https://www.marioncarnegielibrary.org/event/jackbox-game-fest-at-mcl-5/
LOCATION:Marion Carnegie Library\, 206 S Market St\, Marion\, IL\, 62959\, US
CATEGORIES:Young Adult Department
ATTACH;FMTTYPE=image/jpeg:https://www.marioncarnegielibrary.org/wp-content/uploads/2023/12/24111_image_412368177_767806268719521_5456849908286729700_n.jpg
END:VEVENT
END:VCALENDAR