BEGIN:VCALENDAR
VERSION:2.0
PRODID:-//Marion Carnegie Library | 618-993-5935 - ECPv6.15.12.2//NONSGML v1.0//EN
CALSCALE:GREGORIAN
METHOD:PUBLISH
X-ORIGINAL-URL:https://www.marioncarnegielibrary.org
X-WR-CALDESC:Events for Marion Carnegie Library | 618-993-5935
REFRESH-INTERVAL;VALUE=DURATION:PT1H
X-Robots-Tag:noindex
X-PUBLISHED-TTL:PT1H
BEGIN:VTIMEZONE
TZID:America/Chicago
BEGIN:DAYLIGHT
TZOFFSETFROM:-0600
TZOFFSETTO:-0500
TZNAME:CDT
DTSTART:20230312T080000
END:DAYLIGHT
BEGIN:STANDARD
TZOFFSETFROM:-0500
TZOFFSETTO:-0600
TZNAME:CST
DTSTART:20231105T070000
END:STANDARD
BEGIN:DAYLIGHT
TZOFFSETFROM:-0600
TZOFFSETTO:-0500
TZNAME:CDT
DTSTART:20240310T080000
END:DAYLIGHT
BEGIN:STANDARD
TZOFFSETFROM:-0500
TZOFFSETTO:-0600
TZNAME:CST
DTSTART:20241103T070000
END:STANDARD
BEGIN:DAYLIGHT
TZOFFSETFROM:-0600
TZOFFSETTO:-0500
TZNAME:CDT
DTSTART:20250309T080000
END:DAYLIGHT
BEGIN:STANDARD
TZOFFSETFROM:-0500
TZOFFSETTO:-0600
TZNAME:CST
DTSTART:20251102T070000
END:STANDARD
END:VTIMEZONE
BEGIN:VEVENT
DTSTART;TZID=America/Chicago:20240210T130000
DTEND;TZID=America/Chicago:20240210T150000
DTSTAMP:20260424T001322
CREATED:20240126T165328Z
LAST-MODIFIED:20240126T165328Z
UID:24287-1707570000-1707577200@www.marioncarnegielibrary.org
SUMMARY:PNG at MCL Saturday Sessions - Gaming
DESCRIPTION:PNG at MCL is celebrating the love of gaming! Visit the MCL Tech Lab each Saturday in February to earn some XP in Virtual Reality\, Augmented Reality\, coding\, and more! \nSaturday Sessions happen each Saturday at 1 pm in the MCL Tech Lab. It’s totally free and open to everyone aged 10 – 18. No library card is required! \nFunding for Project Next Generation is provided by the U.S. Institute of Museum and Library Services to the Secretary of State/Illinois State Library under the provisions of the Library Services and Technology Act (LSTA). \nNOTICE: All participants and parents understand and agree that photos taken at library events may be used in social media postings and future promotions. \nGuardian supervision is not required during PNG at MCL events.
URL:https://www.marioncarnegielibrary.org/event/png-at-mcl-saturday-sessions-gaming-3/
LOCATION:Marion Carnegie Library\, 206 S Market St\, Marion\, IL\, 62959\, US
CATEGORIES:Project Next Generation
ATTACH;FMTTYPE=image/jpeg:https://www.marioncarnegielibrary.org/wp-content/uploads/2024/01/24284_image_421569316_790913796408768_2446496329898520663_n.jpg
END:VEVENT
END:VCALENDAR