BEGIN:VCALENDAR
VERSION:2.0
PRODID:-//Marion Carnegie Library | 618-993-5935 - ECPv6.15.12.2//NONSGML v1.0//EN
CALSCALE:GREGORIAN
METHOD:PUBLISH
X-WR-CALNAME:Marion Carnegie Library | 618-993-5935
X-ORIGINAL-URL:https://www.marioncarnegielibrary.org
X-WR-CALDESC:Events for Marion Carnegie Library | 618-993-5935
REFRESH-INTERVAL;VALUE=DURATION:PT1H
X-Robots-Tag:noindex
X-PUBLISHED-TTL:PT1H
BEGIN:VTIMEZONE
TZID:America/Chicago
BEGIN:DAYLIGHT
TZOFFSETFROM:-0600
TZOFFSETTO:-0500
TZNAME:CDT
DTSTART:20220313T080000
END:DAYLIGHT
BEGIN:STANDARD
TZOFFSETFROM:-0500
TZOFFSETTO:-0600
TZNAME:CST
DTSTART:20221106T070000
END:STANDARD
BEGIN:DAYLIGHT
TZOFFSETFROM:-0600
TZOFFSETTO:-0500
TZNAME:CDT
DTSTART:20230312T080000
END:DAYLIGHT
BEGIN:STANDARD
TZOFFSETFROM:-0500
TZOFFSETTO:-0600
TZNAME:CST
DTSTART:20231105T070000
END:STANDARD
BEGIN:DAYLIGHT
TZOFFSETFROM:-0600
TZOFFSETTO:-0500
TZNAME:CDT
DTSTART:20240310T080000
END:DAYLIGHT
BEGIN:STANDARD
TZOFFSETFROM:-0500
TZOFFSETTO:-0600
TZNAME:CST
DTSTART:20241103T070000
END:STANDARD
END:VTIMEZONE
BEGIN:VEVENT
DTSTART;TZID=America/Chicago:20231125T130000
DTEND;TZID=America/Chicago:20231125T150000
DTSTAMP:20260424T034644
CREATED:20231019T193957Z
LAST-MODIFIED:20231019T193957Z
UID:23770-1700917200-1700924400@www.marioncarnegielibrary.org
SUMMARY:PNG at MCL Saturday Sessions - Engineering
DESCRIPTION:This month\, we’re talking about robotics\, circuits\, and even gravity! There’s something new each week in the MCL Tech Lab! \nPNG at MCL events are always free and open to ages 10 – 18. No library card is required. \nFunding for Project Next Generation is provided by the U.S. Institute of Museum and Library Services to the Secretary of State/Illinois State Library under the provisions of the Library Services and Technology Act (LSTA). \nNOTICE: All participants and parents understand and agree that photos taken at library events may be used in social media postings and future promotions. \nGuardian supervision is not required during PNG at MCL events.
URL:https://www.marioncarnegielibrary.org/event/png-at-mcl-saturday-sessions-engineering-9/
LOCATION:Marion Carnegie Library\, 206 S Market St\, Marion\, IL\, 62959\, US
CATEGORIES:Project Next Generation
ATTACH;FMTTYPE=image/jpeg:https://www.marioncarnegielibrary.org/wp-content/uploads/2023/10/23770_image_393254466_730083405825141_874323917107169285_n.jpg
END:VEVENT
END:VCALENDAR