BEGIN:VCALENDAR
VERSION:2.0
PRODID:-//Marion Carnegie Library | 618-993-5935 - ECPv6.15.12.2//NONSGML v1.0//EN
CALSCALE:GREGORIAN
METHOD:PUBLISH
X-ORIGINAL-URL:https://www.marioncarnegielibrary.org
X-WR-CALDESC:Events for Marion Carnegie Library | 618-993-5935
REFRESH-INTERVAL;VALUE=DURATION:PT1H
X-Robots-Tag:noindex
X-PUBLISHED-TTL:PT1H
BEGIN:VTIMEZONE
TZID:America/New_York
BEGIN:DAYLIGHT
TZOFFSETFROM:-0500
TZOFFSETTO:-0400
TZNAME:EDT
DTSTART:20220313T070000
END:DAYLIGHT
BEGIN:STANDARD
TZOFFSETFROM:-0400
TZOFFSETTO:-0500
TZNAME:EST
DTSTART:20221106T060000
END:STANDARD
BEGIN:DAYLIGHT
TZOFFSETFROM:-0500
TZOFFSETTO:-0400
TZNAME:EDT
DTSTART:20230312T070000
END:DAYLIGHT
BEGIN:STANDARD
TZOFFSETFROM:-0400
TZOFFSETTO:-0500
TZNAME:EST
DTSTART:20231105T060000
END:STANDARD
BEGIN:DAYLIGHT
TZOFFSETFROM:-0500
TZOFFSETTO:-0400
TZNAME:EDT
DTSTART:20240310T070000
END:DAYLIGHT
BEGIN:STANDARD
TZOFFSETFROM:-0400
TZOFFSETTO:-0500
TZNAME:EST
DTSTART:20241103T060000
END:STANDARD
END:VTIMEZONE
BEGIN:VEVENT
DTSTART;TZID=America/New_York:20231028T130000
DTEND;TZID=America/New_York:20231028T150000
DTSTAMP:20260424T045937
CREATED:20230918T161655Z
LAST-MODIFIED:20230918T161655Z
UID:23512-1698498000-1698505200@www.marioncarnegielibrary.org
SUMMARY:PNG at MCL Saturday Sessions - Propulsion
DESCRIPTION:Learn about what makes things go\, this month in PNG at MCL Saturday Sessions. We’ll talk about electric engines\, combustion engines\, a comparison of the two\, and check out some drones – something new each week in the MCL Tech Lab! \nPNG at MCL events are always free and open to ages 10 – 18. No library card is required. \nFunding for Project Next Generation is provided by the U.S. Institute of Museum and Library Services to the Secretary of State/Illinois State Library under the provisions of the Library Services and Technology Act (LSTA). \nNOTICE: All participants and parents understand and agree that photos taken at library events may be used in social media postings and future promotions. \nGuardian supervision is not required during PNG at MCL events.
URL:https://www.marioncarnegielibrary.org/event/png-at-mcl-saturday-sessions-propulsion/
LOCATION:Marion Carnegie Library\, 206 S Market St\, Marion\, IL\, 62959\, US
CATEGORIES:Project Next Generation
ATTACH;FMTTYPE=image/jpeg:https://www.marioncarnegielibrary.org/wp-content/uploads/2023/09/23512_image_379252811_711248011042014_8910521704397246849_n.jpg
END:VEVENT
END:VCALENDAR