BEGIN:VCALENDAR
VERSION:2.0
PRODID:-//Marion Carnegie Library | 618-993-5935 - ECPv6.15.12.2//NONSGML v1.0//EN
CALSCALE:GREGORIAN
METHOD:PUBLISH
X-ORIGINAL-URL:https://www.marioncarnegielibrary.org
X-WR-CALDESC:Events for Marion Carnegie Library | 618-993-5935
REFRESH-INTERVAL;VALUE=DURATION:PT1H
X-Robots-Tag:noindex
X-PUBLISHED-TTL:PT1H
BEGIN:VTIMEZONE
TZID:America/New_York
BEGIN:DAYLIGHT
TZOFFSETFROM:-0500
TZOFFSETTO:-0400
TZNAME:EDT
DTSTART:20220313T070000
END:DAYLIGHT
BEGIN:STANDARD
TZOFFSETFROM:-0400
TZOFFSETTO:-0500
TZNAME:EST
DTSTART:20221106T060000
END:STANDARD
BEGIN:DAYLIGHT
TZOFFSETFROM:-0500
TZOFFSETTO:-0400
TZNAME:EDT
DTSTART:20230312T070000
END:DAYLIGHT
BEGIN:STANDARD
TZOFFSETFROM:-0400
TZOFFSETTO:-0500
TZNAME:EST
DTSTART:20231105T060000
END:STANDARD
BEGIN:DAYLIGHT
TZOFFSETFROM:-0500
TZOFFSETTO:-0400
TZNAME:EDT
DTSTART:20240310T070000
END:DAYLIGHT
BEGIN:STANDARD
TZOFFSETFROM:-0400
TZOFFSETTO:-0500
TZNAME:EST
DTSTART:20241103T060000
END:STANDARD
END:VTIMEZONE
BEGIN:VEVENT
DTSTART;TZID=America/New_York:20230610T130000
DTEND;TZID=America/New_York:20230610T140000
DTSTAMP:20260424T102525
CREATED:20230511T193024Z
LAST-MODIFIED:20230511T193024Z
UID:22821-1686402000-1686405600@www.marioncarnegielibrary.org
SUMMARY:PNG at MCL Saturday Sessions - The Fashion Industry
DESCRIPTION:Learn about graphic design\, logo creation\, how to 3D-print jewelry\, and more during June’s PNG at MCL Saturday Sessions. \nSaturday Sessions are free and open to ages 10 – 18. No library card is required. \nFunding for Project Next Generation is provided by the U.S. Institute of Museum and Library Services to the Secretary of State/Illinois State Library under the provisions of the Library Services and Technology Act (LSTA). \nNOTICE: All participants and parents understand and agree that photos taken at library events may be used in social media postings and future promotions.
URL:https://www.marioncarnegielibrary.org/event/png-at-mcl-saturday-sessions-the-fashion-industry-6/
LOCATION:Marion Carnegie Library\, 206 S Market St\, Marion\, IL\, 62959\, US
CATEGORIES:Project Next Generation
ATTACH;FMTTYPE=image/jpeg:https://www.marioncarnegielibrary.org/wp-content/uploads/2023/05/22815_image_346321363_243621441682152_2883718817967790396_n.jpg
END:VEVENT
BEGIN:VEVENT
DTSTART;TZID=America/New_York:20230610T150000
DTEND;TZID=America/New_York:20230610T160000
DTSTAMP:20260424T102525
CREATED:20230511T193024Z
LAST-MODIFIED:20230511T193024Z
UID:22820-1686409200-1686412800@www.marioncarnegielibrary.org
SUMMARY:PNG at MCL Saturday Sessions - The Fashion Industry
DESCRIPTION:Learn about graphic design\, logo creation\, how to 3D-print jewelry\, and more during June’s PNG at MCL Saturday Sessions. \nSaturday Sessions are free and open to ages 10 – 18. No library card is required. \nFunding for Project Next Generation is provided by the U.S. Institute of Museum and Library Services to the Secretary of State/Illinois State Library under the provisions of the Library Services and Technology Act (LSTA). \nNOTICE: All participants and parents understand and agree that photos taken at library events may be used in social media postings and future promotions.
URL:https://www.marioncarnegielibrary.org/event/png-at-mcl-saturday-sessions-the-fashion-industry-5/
LOCATION:Marion Carnegie Library\, 206 S Market St\, Marion\, IL\, 62959\, US
CATEGORIES:Project Next Generation
ATTACH;FMTTYPE=image/jpeg:https://www.marioncarnegielibrary.org/wp-content/uploads/2023/05/22815_image_346321363_243621441682152_2883718817967790396_n.jpg
END:VEVENT
END:VCALENDAR