BEGIN:VCALENDAR
VERSION:2.0
PRODID:-//Marion Carnegie Library | 618-993-5935 - ECPv6.15.12.2//NONSGML v1.0//EN
CALSCALE:GREGORIAN
METHOD:PUBLISH
X-ORIGINAL-URL:https://www.marioncarnegielibrary.org
X-WR-CALDESC:Events for Marion Carnegie Library | 618-993-5935
REFRESH-INTERVAL;VALUE=DURATION:PT1H
X-Robots-Tag:noindex
X-PUBLISHED-TTL:PT1H
BEGIN:VTIMEZONE
TZID:America/Chicago
BEGIN:DAYLIGHT
TZOFFSETFROM:-0600
TZOFFSETTO:-0500
TZNAME:CDT
DTSTART:20220313T080000
END:DAYLIGHT
BEGIN:STANDARD
TZOFFSETFROM:-0500
TZOFFSETTO:-0600
TZNAME:CST
DTSTART:20221106T070000
END:STANDARD
BEGIN:DAYLIGHT
TZOFFSETFROM:-0600
TZOFFSETTO:-0500
TZNAME:CDT
DTSTART:20230312T080000
END:DAYLIGHT
BEGIN:STANDARD
TZOFFSETFROM:-0500
TZOFFSETTO:-0600
TZNAME:CST
DTSTART:20231105T070000
END:STANDARD
BEGIN:DAYLIGHT
TZOFFSETFROM:-0600
TZOFFSETTO:-0500
TZNAME:CDT
DTSTART:20240310T080000
END:DAYLIGHT
BEGIN:STANDARD
TZOFFSETFROM:-0500
TZOFFSETTO:-0600
TZNAME:CST
DTSTART:20241103T070000
END:STANDARD
END:VTIMEZONE
BEGIN:VEVENT
DTSTART;TZID=America/Chicago:20230311T130000
DTEND;TZID=America/Chicago:20230311T140000
DTSTAMP:20260424T143744
CREATED:20230217T213053Z
LAST-MODIFIED:20230217T213053Z
UID:22197-1678539600-1678543200@www.marioncarnegielibrary.org
SUMMARY:PNG at MCL Saturday Sessions - Engineering
DESCRIPTION:Each Saturday in March\, join PNG at MCL to explore engineering! We’ll talk about circuitry\, renewable energy\, batteries\, and more. And we’ll be joined by a special guest from Boyt Engineering in Marion! \nPNG at MCL events are always free and open to ages 10 – 18. No library card is required. \nFunding for Project Next Generation is provided by the U.S. Institute of Museum and Library Services to the Secretary of State/Illinois State Library under the provisions of the Library Services and Technology Act (LSTA). \nNOTICE: All participants and parents understand and agree that photos taken at library events may be used in social media postings and future promotions. \nGuardian supervision is not required during PNG at MCL events
URL:https://www.marioncarnegielibrary.org/event/png-at-mcl-saturday-sessions-engineering-6/
LOCATION:Marion Carnegie Library\, 206 S Market St\, Marion\, IL\, 62959\, US
CATEGORIES:Project Next Generation
ATTACH;FMTTYPE=image/jpeg:https://www.marioncarnegielibrary.org/wp-content/uploads/2023/02/22191_image_331628506_1143435856367127_2970002119424707979_n.jpg
END:VEVENT
BEGIN:VEVENT
DTSTART;TZID=America/Chicago:20230311T150000
DTEND;TZID=America/Chicago:20230311T160000
DTSTAMP:20260424T143744
CREATED:20230217T213053Z
LAST-MODIFIED:20230217T213053Z
UID:22196-1678546800-1678550400@www.marioncarnegielibrary.org
SUMMARY:PNG at MCL Saturday Sessions - Engineering
DESCRIPTION:Each Saturday in March\, join PNG at MCL to explore engineering! We’ll talk about circuitry\, renewable energy\, batteries\, and more. And we’ll be joined by a special guest from Boyt Engineering in Marion! \nPNG at MCL events are always free and open to ages 10 – 18. No library card is required. \nFunding for Project Next Generation is provided by the U.S. Institute of Museum and Library Services to the Secretary of State/Illinois State Library under the provisions of the Library Services and Technology Act (LSTA). \nNOTICE: All participants and parents understand and agree that photos taken at library events may be used in social media postings and future promotions. \nGuardian supervision is not required during PNG at MCL events
URL:https://www.marioncarnegielibrary.org/event/png-at-mcl-saturday-sessions-engineering-5/
LOCATION:Marion Carnegie Library\, 206 S Market St\, Marion\, IL\, 62959\, US
CATEGORIES:Project Next Generation
ATTACH;FMTTYPE=image/jpeg:https://www.marioncarnegielibrary.org/wp-content/uploads/2023/02/22191_image_331628506_1143435856367127_2970002119424707979_n.jpg
END:VEVENT
END:VCALENDAR