BEGIN:VCALENDAR
VERSION:2.0
PRODID:-//Marion Carnegie Library | 618-993-5935 - ECPv6.15.12.2//NONSGML v1.0//EN
CALSCALE:GREGORIAN
METHOD:PUBLISH
X-ORIGINAL-URL:https://www.marioncarnegielibrary.org
X-WR-CALDESC:Events for Marion Carnegie Library | 618-993-5935
REFRESH-INTERVAL;VALUE=DURATION:PT1H
X-Robots-Tag:noindex
X-PUBLISHED-TTL:PT1H
BEGIN:VTIMEZONE
TZID:America/Chicago
BEGIN:DAYLIGHT
TZOFFSETFROM:-0600
TZOFFSETTO:-0500
TZNAME:CDT
DTSTART:20220313T080000
END:DAYLIGHT
BEGIN:STANDARD
TZOFFSETFROM:-0500
TZOFFSETTO:-0600
TZNAME:CST
DTSTART:20221106T070000
END:STANDARD
BEGIN:DAYLIGHT
TZOFFSETFROM:-0600
TZOFFSETTO:-0500
TZNAME:CDT
DTSTART:20230312T080000
END:DAYLIGHT
BEGIN:STANDARD
TZOFFSETFROM:-0500
TZOFFSETTO:-0600
TZNAME:CST
DTSTART:20231105T070000
END:STANDARD
BEGIN:DAYLIGHT
TZOFFSETFROM:-0600
TZOFFSETTO:-0500
TZNAME:CDT
DTSTART:20240310T080000
END:DAYLIGHT
BEGIN:STANDARD
TZOFFSETFROM:-0500
TZOFFSETTO:-0600
TZNAME:CST
DTSTART:20241103T070000
END:STANDARD
END:VTIMEZONE
BEGIN:VEVENT
DTSTART;TZID=America/Chicago:20230302T160000
DTEND;TZID=America/Chicago:20230302T190000
DTSTAMP:20260424T143328
CREATED:20230217T213057Z
LAST-MODIFIED:20230217T213057Z
UID:22217-1677772800-1677783600@www.marioncarnegielibrary.org
SUMMARY:PNG at MCL Open Lab Hours
DESCRIPTION:In March\, PNG at MCL is focusing on Engineering\, and you can try out all sorts of cool kits and experiments to learn more.  \nOf course\, you can try out any technology you want at Marion Carnegie Library! Visit during Open Lab Hours to complete projects or learn new skills. \nFor ages 10 to 18! No library card is necessary! \nFunding for Project Next Generation is provided by the U.S. Institute of Museum and Library Services to the Secretary of State/Illinois State Library under the provisions of the Library Services and Technology Act (LSTA). \nNOTICE: All participants and parents understand and agree that photos taken at the event may be used in social media postings and future promotions.\nGuardian supervision is not required during PNG at MCL events.
URL:https://www.marioncarnegielibrary.org/event/png-at-mcl-open-lab-hours-81/
LOCATION:Marion Carnegie Library\, 206 S Market St\, Marion\, IL\, 62959\, US
CATEGORIES:Project Next Generation
ATTACH;FMTTYPE=image/jpeg:https://www.marioncarnegielibrary.org/wp-content/uploads/2023/02/22200_image_331650125_3299173393668775_6025847899838586620_n.jpg
END:VEVENT
END:VCALENDAR