BEGIN:VCALENDAR
VERSION:2.0
PRODID:-//Marion Carnegie Library | 618-993-5935 - ECPv6.15.12.2//NONSGML v1.0//EN
CALSCALE:GREGORIAN
METHOD:PUBLISH
X-ORIGINAL-URL:https://www.marioncarnegielibrary.org
X-WR-CALDESC:Events for Marion Carnegie Library | 618-993-5935
REFRESH-INTERVAL;VALUE=DURATION:PT1H
X-Robots-Tag:noindex
X-PUBLISHED-TTL:PT1H
BEGIN:VTIMEZONE
TZID:America/Chicago
BEGIN:DAYLIGHT
TZOFFSETFROM:-0600
TZOFFSETTO:-0500
TZNAME:CDT
DTSTART:20220313T080000
END:DAYLIGHT
BEGIN:STANDARD
TZOFFSETFROM:-0500
TZOFFSETTO:-0600
TZNAME:CST
DTSTART:20221106T070000
END:STANDARD
BEGIN:DAYLIGHT
TZOFFSETFROM:-0600
TZOFFSETTO:-0500
TZNAME:CDT
DTSTART:20230312T080000
END:DAYLIGHT
BEGIN:STANDARD
TZOFFSETFROM:-0500
TZOFFSETTO:-0600
TZNAME:CST
DTSTART:20231105T070000
END:STANDARD
BEGIN:DAYLIGHT
TZOFFSETFROM:-0600
TZOFFSETTO:-0500
TZNAME:CDT
DTSTART:20240310T080000
END:DAYLIGHT
BEGIN:STANDARD
TZOFFSETFROM:-0500
TZOFFSETTO:-0600
TZNAME:CST
DTSTART:20241103T070000
END:STANDARD
END:VTIMEZONE
BEGIN:VEVENT
DTSTART;TZID=America/Chicago:20230131T160000
DTEND;TZID=America/Chicago:20230131T170000
DTSTAMP:20260424T155200
CREATED:20221215T213244Z
LAST-MODIFIED:20221215T213244Z
UID:21694-1675180800-1675184400@www.marioncarnegielibrary.org
SUMMARY:PNG at MCL AV Club - marioNkart Tourney
DESCRIPTION:Visit the MCL Technology Lab\, learn how to set up a live stream on YouTube\, and play some games. What’s not to like? \nThe tournament will be live-streamed on MCL’s YouTube channel. Visit marioncarnegielibrary.org and click the YouTube link at the top of the page to subscribe! \nThis event is free and open to ages 10 – 18. No library card is required. \nFunding for Project Next Generation is provided by the U.S. Institute of Museum and Library Services to the Secretary of State/Illinois State Library under the provisions of the Library Services and Technology Act (LSTA). \nNOTICE: All participants and parents understand and agree that photos taken at library events may be used in social media postings and future promotions.
URL:https://www.marioncarnegielibrary.org/event/png-at-mcl-av-club-marionkart-tourney/
LOCATION:Marion Carnegie Library\, 206 S Market St\, Marion\, IL\, 62959\, US
CATEGORIES:Project Next Generation
ATTACH;FMTTYPE=image/jpeg:https://www.marioncarnegielibrary.org/wp-content/uploads/2022/12/21694_image_319924818_691961788976030_5792031344157372823_n.jpg
END:VEVENT
BEGIN:VEVENT
DTSTART;TZID=America/Chicago:20230131T160000
DTEND;TZID=America/Chicago:20230131T190000
DTSTAMP:20260424T155200
CREATED:20221215T213233Z
LAST-MODIFIED:20221215T213233Z
UID:21666-1675180800-1675191600@www.marioncarnegielibrary.org
SUMMARY:PNG at MCL Open Lab Hours
DESCRIPTION:In January\, the PNG at MCL Open Lab Hours theme is Audio/Visual. Try your hand at DJing\, use our green screen wall\, or try out any technology you want at Marion Carnegie Library! Visit during Open Lab Hours to complete projects or learn new skills. \nFor ages 10 to 18! No library card is necessary! \nFunding for Project Next Generation is provided by the U.S. Institute of Museum and Library Services to the Secretary of State/Illinois State Library under the provisions of the Library Services and Technology Act (LSTA). \nNOTICE: All participants and parents understand and agree that photos taken at the event may be used in social media postings and future promotions. \nGuardian supervision is not required during PNG at MCL events.
URL:https://www.marioncarnegielibrary.org/event/png-at-mcl-open-lab-hours-33/
LOCATION:Marion Carnegie Library\, 206 S Market St\, Marion\, IL\, 62959\, US
CATEGORIES:Project Next Generation
ATTACH;FMTTYPE=image/jpeg:https://www.marioncarnegielibrary.org/wp-content/uploads/2022/12/21666_image_320262620_743346863874695_8439655690648146706_n.jpg
END:VEVENT
END:VCALENDAR