BEGIN:VCALENDAR
VERSION:2.0
PRODID:-//Marion Carnegie Library | 618-993-5935 - ECPv6.15.12.2//NONSGML v1.0//EN
CALSCALE:GREGORIAN
METHOD:PUBLISH
X-ORIGINAL-URL:https://www.marioncarnegielibrary.org
X-WR-CALDESC:Events for Marion Carnegie Library | 618-993-5935
REFRESH-INTERVAL;VALUE=DURATION:PT1H
X-Robots-Tag:noindex
X-PUBLISHED-TTL:PT1H
BEGIN:VTIMEZONE
TZID:America/Chicago
BEGIN:DAYLIGHT
TZOFFSETFROM:-0600
TZOFFSETTO:-0500
TZNAME:CDT
DTSTART:20210314T080000
END:DAYLIGHT
BEGIN:STANDARD
TZOFFSETFROM:-0500
TZOFFSETTO:-0600
TZNAME:CST
DTSTART:20211107T070000
END:STANDARD
BEGIN:DAYLIGHT
TZOFFSETFROM:-0600
TZOFFSETTO:-0500
TZNAME:CDT
DTSTART:20220313T080000
END:DAYLIGHT
BEGIN:STANDARD
TZOFFSETFROM:-0500
TZOFFSETTO:-0600
TZNAME:CST
DTSTART:20221106T070000
END:STANDARD
BEGIN:DAYLIGHT
TZOFFSETFROM:-0600
TZOFFSETTO:-0500
TZNAME:CDT
DTSTART:20230312T080000
END:DAYLIGHT
BEGIN:STANDARD
TZOFFSETFROM:-0500
TZOFFSETTO:-0600
TZNAME:CST
DTSTART:20231105T070000
END:STANDARD
END:VTIMEZONE
BEGIN:VEVENT
DTSTART;TZID=America/Chicago:20221119T130000
DTEND;TZID=America/Chicago:20221119T140000
DTSTAMP:20260424T202319
CREATED:20221021T211000Z
LAST-MODIFIED:20221021T211000Z
UID:21326-1668862800-1668866400@www.marioncarnegielibrary.org
SUMMARY:PNG at MCL Saturday Sessions - The Art of STEAM
DESCRIPTION:Saturday Sessions are back in November\, and you can explore the “art” of technology when you try your hand at 3D Printing\, laser engraving\, digital art on Wacom tablets\, and more! \nThis event is free and open to ages 10 – 18. No library card is required. \nFunding for Project Next Generation is provided by the U.S. Institute of Museum and Library Services to the Secretary of State/Illinois State Library under the provisions of the Library Services and Technology Act (LSTA). \nNOTICE: All participants and parents understand and agree that photos taken at library events may be used in social media postings and future promotions. \nGuardian supervision is not required during PNG at MCL events.
URL:https://www.marioncarnegielibrary.org/event/png-at-mcl-saturday-sessions-the-art-of-steam-5/
LOCATION:Marion Carnegie Library\, 206 S Market St\, Marion\, IL\, 62959\, US
CATEGORIES:Project Next Generation
ATTACH;FMTTYPE=image/jpeg:https://www.marioncarnegielibrary.org/wp-content/uploads/2022/10/21321_image_312199409_488617396638411_4071410541221203163_n.jpg
END:VEVENT
BEGIN:VEVENT
DTSTART;TZID=America/Chicago:20221119T150000
DTEND;TZID=America/Chicago:20221119T160000
DTSTAMP:20260424T202319
CREATED:20221021T211000Z
LAST-MODIFIED:20221021T211000Z
UID:21327-1668870000-1668873600@www.marioncarnegielibrary.org
SUMMARY:PNG at MCL Saturday Sessions - The Art of STEAM
DESCRIPTION:Saturday Sessions are back in November\, and you can explore the “art” of technology when you try your hand at 3D Printing\, laser engraving\, digital art on Wacom tablets\, and more! \nThis event is free and open to ages 10 – 18. No library card is required. \nFunding for Project Next Generation is provided by the U.S. Institute of Museum and Library Services to the Secretary of State/Illinois State Library under the provisions of the Library Services and Technology Act (LSTA). \nNOTICE: All participants and parents understand and agree that photos taken at library events may be used in social media postings and future promotions. \nGuardian supervision is not required during PNG at MCL events.
URL:https://www.marioncarnegielibrary.org/event/png-at-mcl-saturday-sessions-the-art-of-steam-6/
LOCATION:Marion Carnegie Library\, 206 S Market St\, Marion\, IL\, 62959\, US
CATEGORIES:Project Next Generation
ATTACH;FMTTYPE=image/jpeg:https://www.marioncarnegielibrary.org/wp-content/uploads/2022/10/21321_image_312199409_488617396638411_4071410541221203163_n.jpg
END:VEVENT
END:VCALENDAR