BEGIN:VCALENDAR
VERSION:2.0
PRODID:-//Marion Carnegie Library | 618-993-5935 - ECPv6.15.12.2//NONSGML v1.0//EN
CALSCALE:GREGORIAN
METHOD:PUBLISH
X-ORIGINAL-URL:https://www.marioncarnegielibrary.org
X-WR-CALDESC:Events for Marion Carnegie Library | 618-993-5935
REFRESH-INTERVAL;VALUE=DURATION:PT1H
X-Robots-Tag:noindex
X-PUBLISHED-TTL:PT1H
BEGIN:VTIMEZONE
TZID:America/Chicago
BEGIN:DAYLIGHT
TZOFFSETFROM:-0600
TZOFFSETTO:-0500
TZNAME:CDT
DTSTART:20210314T080000
END:DAYLIGHT
BEGIN:STANDARD
TZOFFSETFROM:-0500
TZOFFSETTO:-0600
TZNAME:CST
DTSTART:20211107T070000
END:STANDARD
BEGIN:DAYLIGHT
TZOFFSETFROM:-0600
TZOFFSETTO:-0500
TZNAME:CDT
DTSTART:20220313T080000
END:DAYLIGHT
BEGIN:STANDARD
TZOFFSETFROM:-0500
TZOFFSETTO:-0600
TZNAME:CST
DTSTART:20221106T070000
END:STANDARD
BEGIN:DAYLIGHT
TZOFFSETFROM:-0600
TZOFFSETTO:-0500
TZNAME:CDT
DTSTART:20230312T080000
END:DAYLIGHT
BEGIN:STANDARD
TZOFFSETFROM:-0500
TZOFFSETTO:-0600
TZNAME:CST
DTSTART:20231105T070000
END:STANDARD
END:VTIMEZONE
BEGIN:VEVENT
DTSTART;TZID=America/Chicago:20220402T130000
DTEND;TZID=America/Chicago:20220402T140000
DTSTAMP:20260425T074757
CREATED:20220323T213317Z
LAST-MODIFIED:20220323T213317Z
UID:19724-1648904400-1648908000@www.marioncarnegielibrary.org
SUMMARY:PNG at MCL Saturday Sessions - Photography
DESCRIPTION:In April\, we’ll learn some photography basics\, take some photos\, edit those photos\, and display them throughout the library in the PNG at MCL Pop-Up Gallery at the end of the month! \nPNG at MCL Saturday Sessions at Marion Carnegie Library happen every Saturday at 1 pm and 3 pm in the library’s Technology Lab.  \nThis program is free and available to ages 10 – 18. \nFunding for Project Next Generation is provided by the U.S. Institute of Museum and Library Services to the Secretary of State/Illinois State Library under the provisions of the Library Services and Technology Act (LSTA). \nNOTICE: All participants and parents understand and agree that photos taken at library events may be used in social media postings and future promotions.
URL:https://www.marioncarnegielibrary.org/event/png-at-mcl-saturday-sessions-photography/
LOCATION:Marion Carnegie Library\, 206 S Market St\, Marion\, IL\, 62959\, US
CATEGORIES:Project Next Generation
ATTACH;FMTTYPE=image/jpeg:https://www.marioncarnegielibrary.org/wp-content/uploads/2022/03/19724_image_277219604_10158276605446561_6058918757244121695_n.jpg
END:VEVENT
BEGIN:VEVENT
DTSTART;TZID=America/Chicago:20220402T150000
DTEND;TZID=America/Chicago:20220402T160000
DTSTAMP:20260425T074757
CREATED:20220323T213320Z
LAST-MODIFIED:20220323T213320Z
UID:19726-1648911600-1648915200@www.marioncarnegielibrary.org
SUMMARY:PNG at MCL Saturday Sessions - Photography
DESCRIPTION:In April\, we’ll learn some photography basics\, take some photos\, edit those photos\, and display them throughout the library in the PNG at MCL Pop-Up Gallery at the end of the month! \nPNG at MCL Saturday Sessions at Marion Carnegie Library happen every Saturday at 1 pm and 3 pm in the library’s Technology Lab.  \nThis program is free and available to ages 10 – 18. \nFunding for Project Next Generation is provided by the U.S. Institute of Museum and Library Services to the Secretary of State/Illinois State Library under the provisions of the Library Services and Technology Act (LSTA). \nNOTICE: All participants and parents understand and agree that photos taken at library events may be used in social media postings and future promotions.
URL:https://www.marioncarnegielibrary.org/event/png-at-mcl-saturday-sessions-photography-2/
LOCATION:Marion Carnegie Library\, 206 S Market St\, Marion\, IL\, 62959\, US
CATEGORIES:Project Next Generation
ATTACH;FMTTYPE=image/jpeg:https://www.marioncarnegielibrary.org/wp-content/uploads/2022/03/19724_image_277219604_10158276605446561_6058918757244121695_n.jpg
END:VEVENT
END:VCALENDAR