BEGIN:VCALENDAR
VERSION:2.0
PRODID:-//Marion Carnegie Library | 618-993-5935 - ECPv6.15.12.2//NONSGML v1.0//EN
CALSCALE:GREGORIAN
METHOD:PUBLISH
X-WR-CALNAME:Marion Carnegie Library | 618-993-5935
X-ORIGINAL-URL:https://www.marioncarnegielibrary.org
X-WR-CALDESC:Events for Marion Carnegie Library | 618-993-5935
REFRESH-INTERVAL;VALUE=DURATION:PT1H
X-Robots-Tag:noindex
X-PUBLISHED-TTL:PT1H
BEGIN:VTIMEZONE
TZID:America/Chicago
BEGIN:DAYLIGHT
TZOFFSETFROM:-0600
TZOFFSETTO:-0500
TZNAME:CDT
DTSTART:20230312T080000
END:DAYLIGHT
BEGIN:STANDARD
TZOFFSETFROM:-0500
TZOFFSETTO:-0600
TZNAME:CST
DTSTART:20231105T070000
END:STANDARD
BEGIN:DAYLIGHT
TZOFFSETFROM:-0600
TZOFFSETTO:-0500
TZNAME:CDT
DTSTART:20240310T080000
END:DAYLIGHT
BEGIN:STANDARD
TZOFFSETFROM:-0500
TZOFFSETTO:-0600
TZNAME:CST
DTSTART:20241103T070000
END:STANDARD
BEGIN:DAYLIGHT
TZOFFSETFROM:-0600
TZOFFSETTO:-0500
TZNAME:CDT
DTSTART:20250309T080000
END:DAYLIGHT
BEGIN:STANDARD
TZOFFSETFROM:-0500
TZOFFSETTO:-0600
TZNAME:CST
DTSTART:20251102T070000
END:STANDARD
END:VTIMEZONE
BEGIN:VEVENT
DTSTART;TZID=America/Chicago:20241102T130000
DTEND;TZID=America/Chicago:20241102T150000
DTSTAMP:20260423T093008
CREATED:20241017T175243Z
LAST-MODIFIED:20241017T175243Z
UID:25967-1730552400-1730559600@www.marioncarnegielibrary.org
SUMMARY:PNG at MCL Saturday Sessions - Software
DESCRIPTION:In November\, visit PNG at MCL Saturday Sessions and learn AI\, block coding\, and Arduino programming — because nothing says ‘weekend fun’ like teaching robots to do your chores (we’re still working on that part)! \nSaturday Sessions are totally free and open to everyone aged 10 – 18. No library card is required! \nFunding for Project Next Generation is provided by the U.S. Institute of Museum and Library Services to the Secretary of State/Illinois State Library under the provisions of the Library Services and Technology Act (LSTA). \nNOTICE: All participants and parents understand and agree that photos taken at library events may be used in social media postings and future promotions. \nGuardian supervision is not required during PNG at MCL events.
URL:https://www.marioncarnegielibrary.org/event/png-at-mcl-saturday-sessions-software-4/
LOCATION:Marion Carnegie Library\, 206 S Market St\, Marion\, IL\, 62959\, US
CATEGORIES:Project Next Generation
ATTACH;FMTTYPE=image/jpeg:https://www.marioncarnegielibrary.org/wp-content/uploads/2024/10/25963_image_463614340_969934645173348_2668932402160514670_n.jpg
END:VEVENT
BEGIN:VEVENT
DTSTART;TZID=America/Chicago:20241104T160000
DTEND;TZID=America/Chicago:20241104T190000
DTSTAMP:20260423T093008
CREATED:20241017T174906Z
LAST-MODIFIED:20241017T174906Z
UID:25961-1730736000-1730746800@www.marioncarnegielibrary.org
SUMMARY:PNG at MCL Open Technology Lab Hours
DESCRIPTION:Try out any technology you want at Marion Carnegie Library! Visit during Open Technology Lab Hours to complete projects or learn new skills. \nOpen Technology Lab hours are free to attend for everyone aged 10 to 18! No library card is necessary. \nFunding for Project Next Generation is provided by the U.S. Institute of Museum and Library Services to the Secretary of State/Illinois State Library under the provisions of the Library Services and Technology Act (LSTA). \nNOTICE: All participants and parents understand and agree that photos taken at the event may be used in social media postings and future promotions. Guardian supervision is not required during PNG at MCL events.
URL:https://www.marioncarnegielibrary.org/event/png-at-mcl-open-technology-lab-hours-30/
LOCATION:Marion Carnegie Library\, 206 S Market St\, Marion\, IL\, 62959\, US
CATEGORIES:Project Next Generation
ATTACH;FMTTYPE=image/jpeg:https://www.marioncarnegielibrary.org/wp-content/uploads/2024/09/25765_image_460582663_945911387575674_2461536596842553474_n.jpg
END:VEVENT
BEGIN:VEVENT
DTSTART;TZID=America/Chicago:20241105T160000
DTEND;TZID=America/Chicago:20241105T190000
DTSTAMP:20260423T093008
CREATED:20241017T174905Z
LAST-MODIFIED:20241017T174905Z
UID:25960-1730822400-1730833200@www.marioncarnegielibrary.org
SUMMARY:PNG at MCL Open Technology Lab Hours
DESCRIPTION:Try out any technology you want at Marion Carnegie Library! Visit during Open Technology Lab Hours to complete projects or learn new skills. \nOpen Technology Lab hours are free to attend for everyone aged 10 to 18! No library card is necessary. \nFunding for Project Next Generation is provided by the U.S. Institute of Museum and Library Services to the Secretary of State/Illinois State Library under the provisions of the Library Services and Technology Act (LSTA). \nNOTICE: All participants and parents understand and agree that photos taken at the event may be used in social media postings and future promotions. Guardian supervision is not required during PNG at MCL events.
URL:https://www.marioncarnegielibrary.org/event/png-at-mcl-open-technology-lab-hours-29/
LOCATION:Marion Carnegie Library\, 206 S Market St\, Marion\, IL\, 62959\, US
CATEGORIES:Project Next Generation
ATTACH;FMTTYPE=image/jpeg:https://www.marioncarnegielibrary.org/wp-content/uploads/2024/09/25765_image_460582663_945911387575674_2461536596842553474_n.jpg
END:VEVENT
BEGIN:VEVENT
DTSTART;TZID=America/Chicago:20241106T160000
DTEND;TZID=America/Chicago:20241106T190000
DTSTAMP:20260423T093008
CREATED:20241017T174905Z
LAST-MODIFIED:20241017T174905Z
UID:25959-1730908800-1730919600@www.marioncarnegielibrary.org
SUMMARY:PNG at MCL Open Technology Lab Hours
DESCRIPTION:Try out any technology you want at Marion Carnegie Library! Visit during Open Technology Lab Hours to complete projects or learn new skills. \nOpen Technology Lab hours are free to attend for everyone aged 10 to 18! No library card is necessary. \nFunding for Project Next Generation is provided by the U.S. Institute of Museum and Library Services to the Secretary of State/Illinois State Library under the provisions of the Library Services and Technology Act (LSTA). \nNOTICE: All participants and parents understand and agree that photos taken at the event may be used in social media postings and future promotions. Guardian supervision is not required during PNG at MCL events.
URL:https://www.marioncarnegielibrary.org/event/png-at-mcl-open-technology-lab-hours-28/
LOCATION:Marion Carnegie Library\, 206 S Market St\, Marion\, IL\, 62959\, US
CATEGORIES:Project Next Generation
ATTACH;FMTTYPE=image/jpeg:https://www.marioncarnegielibrary.org/wp-content/uploads/2024/09/25765_image_460582663_945911387575674_2461536596842553474_n.jpg
END:VEVENT
BEGIN:VEVENT
DTSTART;TZID=America/Chicago:20241107T160000
DTEND;TZID=America/Chicago:20241107T190000
DTSTAMP:20260423T093008
CREATED:20241017T174905Z
LAST-MODIFIED:20241017T174905Z
UID:25958-1730995200-1731006000@www.marioncarnegielibrary.org
SUMMARY:PNG at MCL Open Technology Lab Hours
DESCRIPTION:Try out any technology you want at Marion Carnegie Library! Visit during Open Technology Lab Hours to complete projects or learn new skills. \nOpen Technology Lab hours are free to attend for everyone aged 10 to 18! No library card is necessary. \nFunding for Project Next Generation is provided by the U.S. Institute of Museum and Library Services to the Secretary of State/Illinois State Library under the provisions of the Library Services and Technology Act (LSTA). \nNOTICE: All participants and parents understand and agree that photos taken at the event may be used in social media postings and future promotions. Guardian supervision is not required during PNG at MCL events.
URL:https://www.marioncarnegielibrary.org/event/png-at-mcl-open-technology-lab-hours-27/
LOCATION:Marion Carnegie Library\, 206 S Market St\, Marion\, IL\, 62959\, US
CATEGORIES:Project Next Generation
ATTACH;FMTTYPE=image/jpeg:https://www.marioncarnegielibrary.org/wp-content/uploads/2024/09/25765_image_460582663_945911387575674_2461536596842553474_n.jpg
END:VEVENT
BEGIN:VEVENT
DTSTART;TZID=America/Chicago:20241109T130000
DTEND;TZID=America/Chicago:20241109T150000
DTSTAMP:20260423T093008
CREATED:20241017T175243Z
LAST-MODIFIED:20241017T175243Z
UID:25966-1731157200-1731164400@www.marioncarnegielibrary.org
SUMMARY:PNG at MCL Saturday Sessions - Software
DESCRIPTION:In November\, visit PNG at MCL Saturday Sessions and learn AI\, block coding\, and Arduino programming — because nothing says ‘weekend fun’ like teaching robots to do your chores (we’re still working on that part)! \nSaturday Sessions are totally free and open to everyone aged 10 – 18. No library card is required! \nFunding for Project Next Generation is provided by the U.S. Institute of Museum and Library Services to the Secretary of State/Illinois State Library under the provisions of the Library Services and Technology Act (LSTA). \nNOTICE: All participants and parents understand and agree that photos taken at library events may be used in social media postings and future promotions. \nGuardian supervision is not required during PNG at MCL events.
URL:https://www.marioncarnegielibrary.org/event/png-at-mcl-saturday-sessions-software-3/
LOCATION:Marion Carnegie Library\, 206 S Market St\, Marion\, IL\, 62959\, US
CATEGORIES:Project Next Generation
ATTACH;FMTTYPE=image/jpeg:https://www.marioncarnegielibrary.org/wp-content/uploads/2024/10/25963_image_463614340_969934645173348_2668932402160514670_n.jpg
END:VEVENT
BEGIN:VEVENT
DTSTART;TZID=America/Chicago:20241112T160000
DTEND;TZID=America/Chicago:20241112T190000
DTSTAMP:20260423T093008
CREATED:20241017T174905Z
LAST-MODIFIED:20241017T174905Z
UID:25957-1731427200-1731438000@www.marioncarnegielibrary.org
SUMMARY:PNG at MCL Open Technology Lab Hours
DESCRIPTION:Try out any technology you want at Marion Carnegie Library! Visit during Open Technology Lab Hours to complete projects or learn new skills. \nOpen Technology Lab hours are free to attend for everyone aged 10 to 18! No library card is necessary. \nFunding for Project Next Generation is provided by the U.S. Institute of Museum and Library Services to the Secretary of State/Illinois State Library under the provisions of the Library Services and Technology Act (LSTA). \nNOTICE: All participants and parents understand and agree that photos taken at the event may be used in social media postings and future promotions. Guardian supervision is not required during PNG at MCL events.
URL:https://www.marioncarnegielibrary.org/event/png-at-mcl-open-technology-lab-hours-26/
LOCATION:Marion Carnegie Library\, 206 S Market St\, Marion\, IL\, 62959\, US
CATEGORIES:Project Next Generation
ATTACH;FMTTYPE=image/jpeg:https://www.marioncarnegielibrary.org/wp-content/uploads/2024/09/25765_image_460582663_945911387575674_2461536596842553474_n.jpg
END:VEVENT
BEGIN:VEVENT
DTSTART;TZID=America/Chicago:20241113T160000
DTEND;TZID=America/Chicago:20241113T190000
DTSTAMP:20260423T093008
CREATED:20241017T174904Z
LAST-MODIFIED:20241017T174904Z
UID:25956-1731513600-1731524400@www.marioncarnegielibrary.org
SUMMARY:PNG at MCL Open Technology Lab Hours
DESCRIPTION:Try out any technology you want at Marion Carnegie Library! Visit during Open Technology Lab Hours to complete projects or learn new skills. \nOpen Technology Lab hours are free to attend for everyone aged 10 to 18! No library card is necessary. \nFunding for Project Next Generation is provided by the U.S. Institute of Museum and Library Services to the Secretary of State/Illinois State Library under the provisions of the Library Services and Technology Act (LSTA). \nNOTICE: All participants and parents understand and agree that photos taken at the event may be used in social media postings and future promotions. Guardian supervision is not required during PNG at MCL events.
URL:https://www.marioncarnegielibrary.org/event/png-at-mcl-open-technology-lab-hours-25/
LOCATION:Marion Carnegie Library\, 206 S Market St\, Marion\, IL\, 62959\, US
CATEGORIES:Project Next Generation
ATTACH;FMTTYPE=image/jpeg:https://www.marioncarnegielibrary.org/wp-content/uploads/2024/09/25765_image_460582663_945911387575674_2461536596842553474_n.jpg
END:VEVENT
BEGIN:VEVENT
DTSTART;TZID=America/Chicago:20241114T160000
DTEND;TZID=America/Chicago:20241114T190000
DTSTAMP:20260423T093008
CREATED:20241017T174904Z
LAST-MODIFIED:20241017T174904Z
UID:25955-1731600000-1731610800@www.marioncarnegielibrary.org
SUMMARY:PNG at MCL Open Technology Lab Hours
DESCRIPTION:Try out any technology you want at Marion Carnegie Library! Visit during Open Technology Lab Hours to complete projects or learn new skills. \nOpen Technology Lab hours are free to attend for everyone aged 10 to 18! No library card is necessary. \nFunding for Project Next Generation is provided by the U.S. Institute of Museum and Library Services to the Secretary of State/Illinois State Library under the provisions of the Library Services and Technology Act (LSTA). \nNOTICE: All participants and parents understand and agree that photos taken at the event may be used in social media postings and future promotions. Guardian supervision is not required during PNG at MCL events.
URL:https://www.marioncarnegielibrary.org/event/png-at-mcl-open-technology-lab-hours-24/
LOCATION:Marion Carnegie Library\, 206 S Market St\, Marion\, IL\, 62959\, US
CATEGORIES:Project Next Generation
ATTACH;FMTTYPE=image/jpeg:https://www.marioncarnegielibrary.org/wp-content/uploads/2024/09/25765_image_460582663_945911387575674_2461536596842553474_n.jpg
END:VEVENT
BEGIN:VEVENT
DTSTART;TZID=America/Chicago:20241116T130000
DTEND;TZID=America/Chicago:20241116T150000
DTSTAMP:20260423T093008
CREATED:20241017T175242Z
LAST-MODIFIED:20241017T175242Z
UID:25965-1731762000-1731769200@www.marioncarnegielibrary.org
SUMMARY:PNG at MCL Saturday Sessions - Software
DESCRIPTION:In November\, visit PNG at MCL Saturday Sessions and learn AI\, block coding\, and Arduino programming — because nothing says ‘weekend fun’ like teaching robots to do your chores (we’re still working on that part)! \nSaturday Sessions are totally free and open to everyone aged 10 – 18. No library card is required! \nFunding for Project Next Generation is provided by the U.S. Institute of Museum and Library Services to the Secretary of State/Illinois State Library under the provisions of the Library Services and Technology Act (LSTA). \nNOTICE: All participants and parents understand and agree that photos taken at library events may be used in social media postings and future promotions. \nGuardian supervision is not required during PNG at MCL events.
URL:https://www.marioncarnegielibrary.org/event/png-at-mcl-saturday-sessions-software-2/
LOCATION:Marion Carnegie Library\, 206 S Market St\, Marion\, IL\, 62959\, US
CATEGORIES:Project Next Generation
ATTACH;FMTTYPE=image/jpeg:https://www.marioncarnegielibrary.org/wp-content/uploads/2024/10/25963_image_463614340_969934645173348_2668932402160514670_n.jpg
END:VEVENT
BEGIN:VEVENT
DTSTART;TZID=America/Chicago:20241118T160000
DTEND;TZID=America/Chicago:20241118T190000
DTSTAMP:20260423T093008
CREATED:20241017T174904Z
LAST-MODIFIED:20241017T174904Z
UID:25954-1731945600-1731956400@www.marioncarnegielibrary.org
SUMMARY:PNG at MCL Open Technology Lab Hours
DESCRIPTION:Try out any technology you want at Marion Carnegie Library! Visit during Open Technology Lab Hours to complete projects or learn new skills. \nOpen Technology Lab hours are free to attend for everyone aged 10 to 18! No library card is necessary. \nFunding for Project Next Generation is provided by the U.S. Institute of Museum and Library Services to the Secretary of State/Illinois State Library under the provisions of the Library Services and Technology Act (LSTA). \nNOTICE: All participants and parents understand and agree that photos taken at the event may be used in social media postings and future promotions. Guardian supervision is not required during PNG at MCL events.
URL:https://www.marioncarnegielibrary.org/event/png-at-mcl-open-technology-lab-hours-23/
LOCATION:Marion Carnegie Library\, 206 S Market St\, Marion\, IL\, 62959\, US
CATEGORIES:Project Next Generation
ATTACH;FMTTYPE=image/jpeg:https://www.marioncarnegielibrary.org/wp-content/uploads/2024/09/25765_image_460582663_945911387575674_2461536596842553474_n.jpg
END:VEVENT
BEGIN:VEVENT
DTSTART;TZID=America/Chicago:20241119T160000
DTEND;TZID=America/Chicago:20241119T190000
DTSTAMP:20260423T093008
CREATED:20241017T174904Z
LAST-MODIFIED:20241017T174904Z
UID:25953-1732032000-1732042800@www.marioncarnegielibrary.org
SUMMARY:PNG at MCL Open Technology Lab Hours
DESCRIPTION:Try out any technology you want at Marion Carnegie Library! Visit during Open Technology Lab Hours to complete projects or learn new skills. \nOpen Technology Lab hours are free to attend for everyone aged 10 to 18! No library card is necessary. \nFunding for Project Next Generation is provided by the U.S. Institute of Museum and Library Services to the Secretary of State/Illinois State Library under the provisions of the Library Services and Technology Act (LSTA). \nNOTICE: All participants and parents understand and agree that photos taken at the event may be used in social media postings and future promotions. Guardian supervision is not required during PNG at MCL events.
URL:https://www.marioncarnegielibrary.org/event/png-at-mcl-open-technology-lab-hours-22/
LOCATION:Marion Carnegie Library\, 206 S Market St\, Marion\, IL\, 62959\, US
CATEGORIES:Project Next Generation
ATTACH;FMTTYPE=image/jpeg:https://www.marioncarnegielibrary.org/wp-content/uploads/2024/09/25765_image_460582663_945911387575674_2461536596842553474_n.jpg
END:VEVENT
BEGIN:VEVENT
DTSTART;TZID=America/Chicago:20241121T160000
DTEND;TZID=America/Chicago:20241121T190000
DTSTAMP:20260423T093008
CREATED:20241017T174904Z
LAST-MODIFIED:20241121T201320Z
UID:25952-1732204800-1732215600@www.marioncarnegielibrary.org
SUMMARY:PNG at MCL Open Technology Lab Hours
DESCRIPTION:Try out any technology you want at Marion Carnegie Library! Visit during Open Technology Lab Hours to complete projects or learn new skills. \nOpen Technology Lab hours are free to attend for everyone aged 10 to 18! No library card is necessary. \nFunding for Project Next Generation is provided by the U.S. Institute of Museum and Library Services to the Secretary of State/Illinois State Library under the provisions of the Library Services and Technology Act (LSTA). \nNOTICE: All participants and parents understand and agree that photos taken at the event may be used in social media postings and future promotions. Guardian supervision is not required during PNG at MCL events.
URL:https://www.marioncarnegielibrary.org/event/png-at-mcl-open-technology-lab-hours-21/
LOCATION:Marion Carnegie Library\, 206 S Market St\, Marion\, IL\, 62959\, US
CATEGORIES:Project Next Generation
ATTACH;FMTTYPE=image/jpeg:https://www.marioncarnegielibrary.org/wp-content/uploads/2024/09/25765_image_460582663_945911387575674_2461536596842553474_n.jpg
END:VEVENT
BEGIN:VEVENT
DTSTART;TZID=America/Chicago:20241123T130000
DTEND;TZID=America/Chicago:20241123T150000
DTSTAMP:20260423T093008
CREATED:20241017T175240Z
LAST-MODIFIED:20241017T175240Z
UID:25963-1732366800-1732374000@www.marioncarnegielibrary.org
SUMMARY:PNG at MCL Saturday Sessions - Software
DESCRIPTION:In November\, visit PNG at MCL Saturday Sessions and learn AI\, block coding\, and Arduino programming — because nothing says ‘weekend fun’ like teaching robots to do your chores (we’re still working on that part)! \nSaturday Sessions are totally free and open to everyone aged 10 – 18. No library card is required! \nFunding for Project Next Generation is provided by the U.S. Institute of Museum and Library Services to the Secretary of State/Illinois State Library under the provisions of the Library Services and Technology Act (LSTA). \nNOTICE: All participants and parents understand and agree that photos taken at library events may be used in social media postings and future promotions. \nGuardian supervision is not required during PNG at MCL events.
URL:https://www.marioncarnegielibrary.org/event/png-at-mcl-saturday-sessions-software/
LOCATION:Marion Carnegie Library\, 206 S Market St\, Marion\, IL\, 62959\, US
CATEGORIES:Project Next Generation
ATTACH;FMTTYPE=image/jpeg:https://www.marioncarnegielibrary.org/wp-content/uploads/2024/10/25963_image_463614340_969934645173348_2668932402160514670_n.jpg
END:VEVENT
BEGIN:VEVENT
DTSTART;TZID=America/Chicago:20241125T160000
DTEND;TZID=America/Chicago:20241125T190000
DTSTAMP:20260423T093008
CREATED:20241017T174903Z
LAST-MODIFIED:20241017T174903Z
UID:25951-1732550400-1732561200@www.marioncarnegielibrary.org
SUMMARY:PNG at MCL Open Technology Lab Hours
DESCRIPTION:Try out any technology you want at Marion Carnegie Library! Visit during Open Technology Lab Hours to complete projects or learn new skills. \nOpen Technology Lab hours are free to attend for everyone aged 10 to 18! No library card is necessary. \nFunding for Project Next Generation is provided by the U.S. Institute of Museum and Library Services to the Secretary of State/Illinois State Library under the provisions of the Library Services and Technology Act (LSTA). \nNOTICE: All participants and parents understand and agree that photos taken at the event may be used in social media postings and future promotions. Guardian supervision is not required during PNG at MCL events.
URL:https://www.marioncarnegielibrary.org/event/png-at-mcl-open-technology-lab-hours-20/
LOCATION:Marion Carnegie Library\, 206 S Market St\, Marion\, IL\, 62959\, US
CATEGORIES:Project Next Generation
ATTACH;FMTTYPE=image/jpeg:https://www.marioncarnegielibrary.org/wp-content/uploads/2024/09/25765_image_460582663_945911387575674_2461536596842553474_n.jpg
END:VEVENT
BEGIN:VEVENT
DTSTART;TZID=America/Chicago:20241126T160000
DTEND;TZID=America/Chicago:20241126T190000
DTSTAMP:20260423T093008
CREATED:20241017T174903Z
LAST-MODIFIED:20241017T174903Z
UID:25950-1732636800-1732647600@www.marioncarnegielibrary.org
SUMMARY:PNG at MCL Open Technology Lab Hours
DESCRIPTION:Try out any technology you want at Marion Carnegie Library! Visit during Open Technology Lab Hours to complete projects or learn new skills. \nOpen Technology Lab hours are free to attend for everyone aged 10 to 18! No library card is necessary. \nFunding for Project Next Generation is provided by the U.S. Institute of Museum and Library Services to the Secretary of State/Illinois State Library under the provisions of the Library Services and Technology Act (LSTA). \nNOTICE: All participants and parents understand and agree that photos taken at the event may be used in social media postings and future promotions. Guardian supervision is not required during PNG at MCL events.
URL:https://www.marioncarnegielibrary.org/event/png-at-mcl-open-technology-lab-hours-19/
LOCATION:Marion Carnegie Library\, 206 S Market St\, Marion\, IL\, 62959\, US
CATEGORIES:Project Next Generation
ATTACH;FMTTYPE=image/jpeg:https://www.marioncarnegielibrary.org/wp-content/uploads/2024/09/25765_image_460582663_945911387575674_2461536596842553474_n.jpg
END:VEVENT
END:VCALENDAR