BEGIN:VCALENDAR
VERSION:2.0
PRODID:-//Marion Carnegie Library | 618-993-5935 - ECPv6.15.12.2//NONSGML v1.0//EN
CALSCALE:GREGORIAN
METHOD:PUBLISH
X-WR-CALNAME:Marion Carnegie Library | 618-993-5935
X-ORIGINAL-URL:https://www.marioncarnegielibrary.org
X-WR-CALDESC:Events for Marion Carnegie Library | 618-993-5935
REFRESH-INTERVAL;VALUE=DURATION:PT1H
X-Robots-Tag:noindex
X-PUBLISHED-TTL:PT1H
BEGIN:VTIMEZONE
TZID:America/Chicago
BEGIN:DAYLIGHT
TZOFFSETFROM:-0600
TZOFFSETTO:-0500
TZNAME:CDT
DTSTART:20210314T080000
END:DAYLIGHT
BEGIN:STANDARD
TZOFFSETFROM:-0500
TZOFFSETTO:-0600
TZNAME:CST
DTSTART:20211107T070000
END:STANDARD
BEGIN:DAYLIGHT
TZOFFSETFROM:-0600
TZOFFSETTO:-0500
TZNAME:CDT
DTSTART:20220313T080000
END:DAYLIGHT
BEGIN:STANDARD
TZOFFSETFROM:-0500
TZOFFSETTO:-0600
TZNAME:CST
DTSTART:20221106T070000
END:STANDARD
BEGIN:DAYLIGHT
TZOFFSETFROM:-0600
TZOFFSETTO:-0500
TZNAME:CDT
DTSTART:20230312T080000
END:DAYLIGHT
BEGIN:STANDARD
TZOFFSETFROM:-0500
TZOFFSETTO:-0600
TZNAME:CST
DTSTART:20231105T070000
END:STANDARD
END:VTIMEZONE
BEGIN:VEVENT
DTSTART;TZID=America/Chicago:20220319T130000
DTEND;TZID=America/Chicago:20220319T140000
DTSTAMP:20260425T074617
CREATED:20220318T172533Z
LAST-MODIFIED:20220318T172533Z
UID:19364-1647694800-1647698400@www.marioncarnegielibrary.org
SUMMARY:PNG at MCL Saturday Sessions - Tabletop Games and Probability
DESCRIPTION:PNG at MCL Saturday Sessions at Marion Carnegie Library happen every Saturday at 1 pm and 3 pm in the library’s Technology Lab. In March\, we’ll be playing some games and learning about probability and how it can affect gameplay in tabletop games! \nThis program is free and available to ages 10 – 18. \nFunding for Project Next Generation is provided by the U.S. Institute of Museum and Library Services to the Secretary of State/Illinois State Library under the provisions of the Library Services and Technology Act (LSTA). \nNOTICE: All participants and parents understand and agree that photos taken at library events may be used in social media postings and future promotions.
URL:https://www.marioncarnegielibrary.org/event/png-at-mcl-saturday-sessions-tabletop-games-and-probability/
LOCATION:Marion Carnegie Library\, 206 S Market St\, Marion\, IL\, 62959\, US
CATEGORIES:Project Next Generation
ATTACH;FMTTYPE=image/jpeg:https://www.marioncarnegielibrary.org/wp-content/uploads/2022/03/19364_image_274309518_10158228674971561_879656386353712077_n.jpg
END:VEVENT
BEGIN:VEVENT
DTSTART;TZID=America/Chicago:20220319T150000
DTEND;TZID=America/Chicago:20220319T160000
DTSTAMP:20260425T074617
CREATED:20220318T172536Z
LAST-MODIFIED:20220318T172536Z
UID:19366-1647702000-1647705600@www.marioncarnegielibrary.org
SUMMARY:PNG at MCL Saturday Sessions - Tabletop Games and Probability
DESCRIPTION:PNG at MCL Saturday Sessions at Marion Carnegie Library happen every Saturday at 1 pm and 3 pm in the library’s Technology Lab. In March\, we’ll be playing some games and learning about probability and how it can affect gameplay in tabletop games! \nThis program is free and available to ages 10 – 18. \nFunding for Project Next Generation is provided by the U.S. Institute of Museum and Library Services to the Secretary of State/Illinois State Library under the provisions of the Library Services and Technology Act (LSTA). \nNOTICE: All participants and parents understand and agree that photos taken at library events may be used in social media postings and future promotions.
URL:https://www.marioncarnegielibrary.org/event/png-at-mcl-saturday-sessions-tabletop-games-and-probability-2/
LOCATION:Marion Carnegie Library\, 206 S Market St\, Marion\, IL\, 62959\, US
CATEGORIES:Project Next Generation
ATTACH;FMTTYPE=image/jpeg:https://www.marioncarnegielibrary.org/wp-content/uploads/2022/03/19364_image_274309518_10158228674971561_879656386353712077_n.jpg
END:VEVENT
BEGIN:VEVENT
DTSTART;TZID=America/Chicago:20220321T160000
DTEND;TZID=America/Chicago:20220321T200000
DTSTAMP:20260425T074617
CREATED:20220318T173047Z
LAST-MODIFIED:20220318T173047Z
UID:19385-1647878400-1647892800@www.marioncarnegielibrary.org
SUMMARY:Project Next Generation Open Tech Lab Hours
DESCRIPTION:Get your hands on the newest technology at Marion Carnegie Library!  \nVisit during lab hours to complete projects or learn new skills.  \nFor ages 10 to 18!  \nFunding for Project Next Generation is provided by the U.S. Institute of Museum and Library Services to the Secretary of State/Illinois State Library under the provisions of the Library Services and Technology Act (LSTA). \nNOTICE:  All participants and parents understand and agree that photos taken at the event may be used in social media postings and future promotions.
URL:https://www.marioncarnegielibrary.org/event/project-next-generation-open-tech-lab-hours/
LOCATION:Marion Carnegie Library\, 206 S Market St\, Marion\, IL\, 62959\, US
CATEGORIES:Project Next Generation
ATTACH;FMTTYPE=image/jpeg:https://www.marioncarnegielibrary.org/wp-content/uploads/2022/03/19385_image_274023815_10158228710141561_5775827068535255841_n.jpg
END:VEVENT
BEGIN:VEVENT
DTSTART;TZID=America/Chicago:20220322T160000
DTEND;TZID=America/Chicago:20220322T200000
DTSTAMP:20260425T074617
CREATED:20220318T173049Z
LAST-MODIFIED:20220318T173049Z
UID:19387-1647964800-1647979200@www.marioncarnegielibrary.org
SUMMARY:Project Next Generation Open Tech Lab Hours
DESCRIPTION:Get your hands on the newest technology at Marion Carnegie Library!  \nVisit during lab hours to complete projects or learn new skills.  \nFor ages 10 to 18!  \nFunding for Project Next Generation is provided by the U.S. Institute of Museum and Library Services to the Secretary of State/Illinois State Library under the provisions of the Library Services and Technology Act (LSTA). \nNOTICE:  All participants and parents understand and agree that photos taken at the event may be used in social media postings and future promotions.
URL:https://www.marioncarnegielibrary.org/event/project-next-generation-open-tech-lab-hours-2/
LOCATION:Marion Carnegie Library\, 206 S Market St\, Marion\, IL\, 62959\, US
CATEGORIES:Project Next Generation
ATTACH;FMTTYPE=image/jpeg:https://www.marioncarnegielibrary.org/wp-content/uploads/2022/03/19385_image_274023815_10158228710141561_5775827068535255841_n.jpg
END:VEVENT
BEGIN:VEVENT
DTSTART;TZID=America/Chicago:20220323T160000
DTEND;TZID=America/Chicago:20220323T200000
DTSTAMP:20260425T074617
CREATED:20220318T173050Z
LAST-MODIFIED:20220318T173050Z
UID:19388-1648051200-1648065600@www.marioncarnegielibrary.org
SUMMARY:Project Next Generation Open Tech Lab Hours
DESCRIPTION:Get your hands on the newest technology at Marion Carnegie Library!  \nVisit during lab hours to complete projects or learn new skills.  \nFor ages 10 to 18!  \nFunding for Project Next Generation is provided by the U.S. Institute of Museum and Library Services to the Secretary of State/Illinois State Library under the provisions of the Library Services and Technology Act (LSTA). \nNOTICE:  All participants and parents understand and agree that photos taken at the event may be used in social media postings and future promotions.
URL:https://www.marioncarnegielibrary.org/event/project-next-generation-open-tech-lab-hours-3/
LOCATION:Marion Carnegie Library\, 206 S Market St\, Marion\, IL\, 62959\, US
CATEGORIES:Project Next Generation
ATTACH;FMTTYPE=image/jpeg:https://www.marioncarnegielibrary.org/wp-content/uploads/2022/03/19385_image_274023815_10158228710141561_5775827068535255841_n.jpg
END:VEVENT
BEGIN:VEVENT
DTSTART;TZID=America/Chicago:20220324T160000
DTEND;TZID=America/Chicago:20220324T200000
DTSTAMP:20260425T074617
CREATED:20220318T173050Z
LAST-MODIFIED:20220318T173050Z
UID:19389-1648137600-1648152000@www.marioncarnegielibrary.org
SUMMARY:Project Next Generation Open Tech Lab Hours
DESCRIPTION:Get your hands on the newest technology at Marion Carnegie Library!  \nVisit during lab hours to complete projects or learn new skills.  \nFor ages 10 to 18!  \nFunding for Project Next Generation is provided by the U.S. Institute of Museum and Library Services to the Secretary of State/Illinois State Library under the provisions of the Library Services and Technology Act (LSTA). \nNOTICE:  All participants and parents understand and agree that photos taken at the event may be used in social media postings and future promotions.
URL:https://www.marioncarnegielibrary.org/event/project-next-generation-open-tech-lab-hours-4/
LOCATION:Marion Carnegie Library\, 206 S Market St\, Marion\, IL\, 62959\, US
CATEGORIES:Project Next Generation
ATTACH;FMTTYPE=image/jpeg:https://www.marioncarnegielibrary.org/wp-content/uploads/2022/03/19385_image_274023815_10158228710141561_5775827068535255841_n.jpg
END:VEVENT
BEGIN:VEVENT
DTSTART;TZID=America/Chicago:20220326T130000
DTEND;TZID=America/Chicago:20220326T140000
DTSTAMP:20260425T074617
CREATED:20220318T172536Z
LAST-MODIFIED:20220318T172536Z
UID:19367-1648299600-1648303200@www.marioncarnegielibrary.org
SUMMARY:PNG at MCL Saturday Sessions - Tabletop Games and Probability
DESCRIPTION:PNG at MCL Saturday Sessions at Marion Carnegie Library happen every Saturday at 1 pm and 3 pm in the library’s Technology Lab. In March\, we’ll be playing some games and learning about probability and how it can affect gameplay in tabletop games! \nThis program is free and available to ages 10 – 18. \nFunding for Project Next Generation is provided by the U.S. Institute of Museum and Library Services to the Secretary of State/Illinois State Library under the provisions of the Library Services and Technology Act (LSTA). \nNOTICE: All participants and parents understand and agree that photos taken at library events may be used in social media postings and future promotions.
URL:https://www.marioncarnegielibrary.org/event/png-at-mcl-saturday-sessions-tabletop-games-and-probability-3/
LOCATION:Marion Carnegie Library\, 206 S Market St\, Marion\, IL\, 62959\, US
CATEGORIES:Project Next Generation
ATTACH;FMTTYPE=image/jpeg:https://www.marioncarnegielibrary.org/wp-content/uploads/2022/03/19364_image_274309518_10158228674971561_879656386353712077_n.jpg
END:VEVENT
BEGIN:VEVENT
DTSTART;TZID=America/Chicago:20220326T150000
DTEND;TZID=America/Chicago:20220326T160000
DTSTAMP:20260425T074617
CREATED:20220318T172537Z
LAST-MODIFIED:20220318T172537Z
UID:19368-1648306800-1648310400@www.marioncarnegielibrary.org
SUMMARY:PNG at MCL Saturday Sessions - Tabletop Games and Probability
DESCRIPTION:PNG at MCL Saturday Sessions at Marion Carnegie Library happen every Saturday at 1 pm and 3 pm in the library’s Technology Lab. In March\, we’ll be playing some games and learning about probability and how it can affect gameplay in tabletop games! \nThis program is free and available to ages 10 – 18. \nFunding for Project Next Generation is provided by the U.S. Institute of Museum and Library Services to the Secretary of State/Illinois State Library under the provisions of the Library Services and Technology Act (LSTA). \nNOTICE: All participants and parents understand and agree that photos taken at library events may be used in social media postings and future promotions.
URL:https://www.marioncarnegielibrary.org/event/png-at-mcl-saturday-sessions-tabletop-games-and-probability-4/
LOCATION:Marion Carnegie Library\, 206 S Market St\, Marion\, IL\, 62959\, US
CATEGORIES:Project Next Generation
ATTACH;FMTTYPE=image/jpeg:https://www.marioncarnegielibrary.org/wp-content/uploads/2022/03/19364_image_274309518_10158228674971561_879656386353712077_n.jpg
END:VEVENT
BEGIN:VEVENT
DTSTART;TZID=America/Chicago:20220328T160000
DTEND;TZID=America/Chicago:20220328T200000
DTSTAMP:20260425T074617
CREATED:20220318T173050Z
LAST-MODIFIED:20220318T173050Z
UID:19390-1648483200-1648497600@www.marioncarnegielibrary.org
SUMMARY:Project Next Generation Open Tech Lab Hours
DESCRIPTION:Get your hands on the newest technology at Marion Carnegie Library!  \nVisit during lab hours to complete projects or learn new skills.  \nFor ages 10 to 18!  \nFunding for Project Next Generation is provided by the U.S. Institute of Museum and Library Services to the Secretary of State/Illinois State Library under the provisions of the Library Services and Technology Act (LSTA). \nNOTICE:  All participants and parents understand and agree that photos taken at the event may be used in social media postings and future promotions.
URL:https://www.marioncarnegielibrary.org/event/project-next-generation-open-tech-lab-hours-5/
LOCATION:Marion Carnegie Library\, 206 S Market St\, Marion\, IL\, 62959\, US
CATEGORIES:Project Next Generation
ATTACH;FMTTYPE=image/jpeg:https://www.marioncarnegielibrary.org/wp-content/uploads/2022/03/19385_image_274023815_10158228710141561_5775827068535255841_n.jpg
END:VEVENT
BEGIN:VEVENT
DTSTART;TZID=America/Chicago:20220329T160000
DTEND;TZID=America/Chicago:20220329T200000
DTSTAMP:20260425T074617
CREATED:20220318T173051Z
LAST-MODIFIED:20220318T173051Z
UID:19391-1648569600-1648584000@www.marioncarnegielibrary.org
SUMMARY:Project Next Generation Open Tech Lab Hours
DESCRIPTION:Get your hands on the newest technology at Marion Carnegie Library!  \nVisit during lab hours to complete projects or learn new skills.  \nFor ages 10 to 18!  \nFunding for Project Next Generation is provided by the U.S. Institute of Museum and Library Services to the Secretary of State/Illinois State Library under the provisions of the Library Services and Technology Act (LSTA). \nNOTICE:  All participants and parents understand and agree that photos taken at the event may be used in social media postings and future promotions.
URL:https://www.marioncarnegielibrary.org/event/project-next-generation-open-tech-lab-hours-6/
LOCATION:Marion Carnegie Library\, 206 S Market St\, Marion\, IL\, 62959\, US
CATEGORIES:Project Next Generation
ATTACH;FMTTYPE=image/jpeg:https://www.marioncarnegielibrary.org/wp-content/uploads/2022/03/19385_image_274023815_10158228710141561_5775827068535255841_n.jpg
END:VEVENT
BEGIN:VEVENT
DTSTART;TZID=America/Chicago:20220330T160000
DTEND;TZID=America/Chicago:20220330T180000
DTSTAMP:20260425T074617
CREATED:20220318T172537Z
LAST-MODIFIED:20220318T172537Z
UID:19369-1648656000-1648663200@www.marioncarnegielibrary.org
SUMMARY:PNG - Board Game Bonanza
DESCRIPTION:You and your team members will get the chance to introduce your newly created board game to friends and family! Then\, we’ll get to play them!  \nWe’ll enjoy popcorn\, drinks\, and lots of board game fun! \nThis event is absolutely free. \nFunding for Project Next Generation is provided by the U.S. Institute of Museum and Library Services to the Secretary of State/Illinois State Library under the provisions of the Library Services and Technology Act (LSTA). \nNOTICE: All participants and parents understand and agree that photos taken at the event may be used in social media postings and future promotions.
URL:https://www.marioncarnegielibrary.org/event/png-board-game-bonanza/
LOCATION:Marion Carnegie Library\, 206 S Market St\, Marion\, IL\, 62959\, US
CATEGORIES:Project Next Generation
ATTACH;FMTTYPE=image/jpeg:https://www.marioncarnegielibrary.org/wp-content/uploads/2022/03/19369_image_273616898_10158228680331561_6884825923172451477_n.jpg
END:VEVENT
BEGIN:VEVENT
DTSTART;TZID=America/Chicago:20220330T160000
DTEND;TZID=America/Chicago:20220330T200000
DTSTAMP:20260425T074617
CREATED:20220318T173051Z
LAST-MODIFIED:20220318T173051Z
UID:19392-1648656000-1648670400@www.marioncarnegielibrary.org
SUMMARY:Project Next Generation Open Tech Lab Hours
DESCRIPTION:Get your hands on the newest technology at Marion Carnegie Library!  \nVisit during lab hours to complete projects or learn new skills.  \nFor ages 10 to 18!  \nFunding for Project Next Generation is provided by the U.S. Institute of Museum and Library Services to the Secretary of State/Illinois State Library under the provisions of the Library Services and Technology Act (LSTA). \nNOTICE:  All participants and parents understand and agree that photos taken at the event may be used in social media postings and future promotions.
URL:https://www.marioncarnegielibrary.org/event/project-next-generation-open-tech-lab-hours-7/
LOCATION:Marion Carnegie Library\, 206 S Market St\, Marion\, IL\, 62959\, US
CATEGORIES:Project Next Generation
ATTACH;FMTTYPE=image/jpeg:https://www.marioncarnegielibrary.org/wp-content/uploads/2022/03/19385_image_274023815_10158228710141561_5775827068535255841_n.jpg
END:VEVENT
BEGIN:VEVENT
DTSTART;TZID=America/Chicago:20220331T160000
DTEND;TZID=America/Chicago:20220331T200000
DTSTAMP:20260425T074617
CREATED:20220318T173051Z
LAST-MODIFIED:20220318T173051Z
UID:19393-1648742400-1648756800@www.marioncarnegielibrary.org
SUMMARY:Project Next Generation Open Tech Lab Hours
DESCRIPTION:Get your hands on the newest technology at Marion Carnegie Library!  \nVisit during lab hours to complete projects or learn new skills.  \nFor ages 10 to 18!  \nFunding for Project Next Generation is provided by the U.S. Institute of Museum and Library Services to the Secretary of State/Illinois State Library under the provisions of the Library Services and Technology Act (LSTA). \nNOTICE:  All participants and parents understand and agree that photos taken at the event may be used in social media postings and future promotions.
URL:https://www.marioncarnegielibrary.org/event/project-next-generation-open-tech-lab-hours-8/
LOCATION:Marion Carnegie Library\, 206 S Market St\, Marion\, IL\, 62959\, US
CATEGORIES:Project Next Generation
ATTACH;FMTTYPE=image/jpeg:https://www.marioncarnegielibrary.org/wp-content/uploads/2022/03/19385_image_274023815_10158228710141561_5775827068535255841_n.jpg
END:VEVENT
END:VCALENDAR