BEGIN:VCALENDAR
VERSION:2.0
PRODID:-//Marion Carnegie Library | 618-993-5935 - ECPv6.15.12.2//NONSGML v1.0//EN
CALSCALE:GREGORIAN
METHOD:PUBLISH
X-ORIGINAL-URL:https://www.marioncarnegielibrary.org
X-WR-CALDESC:Events for Marion Carnegie Library | 618-993-5935
REFRESH-INTERVAL;VALUE=DURATION:PT1H
X-Robots-Tag:noindex
X-PUBLISHED-TTL:PT1H
BEGIN:VTIMEZONE
TZID:America/Chicago
BEGIN:DAYLIGHT
TZOFFSETFROM:-0600
TZOFFSETTO:-0500
TZNAME:CDT
DTSTART:20210314T080000
END:DAYLIGHT
BEGIN:STANDARD
TZOFFSETFROM:-0500
TZOFFSETTO:-0600
TZNAME:CST
DTSTART:20211107T070000
END:STANDARD
BEGIN:DAYLIGHT
TZOFFSETFROM:-0600
TZOFFSETTO:-0500
TZNAME:CDT
DTSTART:20220313T080000
END:DAYLIGHT
BEGIN:STANDARD
TZOFFSETFROM:-0500
TZOFFSETTO:-0600
TZNAME:CST
DTSTART:20221106T070000
END:STANDARD
BEGIN:DAYLIGHT
TZOFFSETFROM:-0600
TZOFFSETTO:-0500
TZNAME:CDT
DTSTART:20230312T080000
END:DAYLIGHT
BEGIN:STANDARD
TZOFFSETFROM:-0500
TZOFFSETTO:-0600
TZNAME:CST
DTSTART:20231105T070000
END:STANDARD
END:VTIMEZONE
BEGIN:VEVENT
DTSTART;TZID=America/Chicago:20221209T130000
DTEND;TZID=America/Chicago:20221209T160000
DTSTAMP:20260421T034203
CREATED:20221129T202300Z
LAST-MODIFIED:20221129T202300Z
UID:21582-1670590800-1670601600@www.marioncarnegielibrary.org
SUMMARY:Friends of the Marion Carnegie Library Gift-Wrapping Boutique
DESCRIPTION:Let the Friends of MCL help wrap your holiday gifts! All proceeds will help support projects and programs at Marion Carnegie Library. \nSimply bring your unwrapped gifts to Marion Carnegie Library\, and let the Friends of MCL take a little work off of your plate this holiday season. \nSuggested donations are $4 for a small package and $6 for a large package. Donations should be cash only\, please. \nNOTICE: All participants and parents understand and agree that photos taken at the event may be used in social media postings and future promotions.
URL:https://www.marioncarnegielibrary.org/event/friends-of-the-marion-carnegie-library-gift-wrapping-boutique-2/
LOCATION:Marion Carnegie Library\, 206 S Market St\, Marion\, IL\, 62959\, US
CATEGORIES:General Library Events
ATTACH;FMTTYPE=image/jpeg:https://www.marioncarnegielibrary.org/wp-content/uploads/2022/11/21580_image_317093073_517262473773903_1618367289528037146_n.jpg
END:VEVENT
BEGIN:VEVENT
DTSTART;TZID=America/Chicago:20221208T130000
DTEND;TZID=America/Chicago:20221208T160000
DTSTAMP:20260421T034203
CREATED:20221129T202301Z
LAST-MODIFIED:20221129T202301Z
UID:21583-1670504400-1670515200@www.marioncarnegielibrary.org
SUMMARY:Friends of the Marion Carnegie Library Gift-Wrapping Boutique
DESCRIPTION:Let the Friends of MCL help wrap your holiday gifts! All proceeds will help support projects and programs at Marion Carnegie Library. \nSimply bring your unwrapped gifts to Marion Carnegie Library\, and let the Friends of MCL take a little work off of your plate this holiday season. \nSuggested donations are $4 for a small package and $6 for a large package. Donations should be cash only\, please. \nNOTICE: All participants and parents understand and agree that photos taken at the event may be used in social media postings and future promotions.
URL:https://www.marioncarnegielibrary.org/event/friends-of-the-marion-carnegie-library-gift-wrapping-boutique-3/
LOCATION:Marion Carnegie Library\, 206 S Market St\, Marion\, IL\, 62959\, US
CATEGORIES:General Library Events
ATTACH;FMTTYPE=image/jpeg:https://www.marioncarnegielibrary.org/wp-content/uploads/2022/11/21580_image_317093073_517262473773903_1618367289528037146_n.jpg
END:VEVENT
BEGIN:VEVENT
DTSTART;TZID=America/Chicago:20221205T090000
DTEND;TZID=America/Chicago:20221211T170000
DTSTAMP:20260421T034203
CREATED:20221117T175855Z
LAST-MODIFIED:20221117T175855Z
UID:21468-1670230800-1670778000@www.marioncarnegielibrary.org
SUMMARY:Friends of the Marion Carnegie Library Silent Auction
DESCRIPTION:Join us for a silent auction of prints by local artist Shawn Vincelette presented by the Friends of the Marion Carnegie Library! All proceeds go to support Marion Carnegie Library’s projects and programs. \nVisit MCL’s Main Floor anytime from December 5 through December 11 to bid on professionally framed prints from the Marion Landmarks series by local artist Shawn Vincelette. \nPLUS: Bid to have a custom portrait\npainted by Shawn Vincelette! \nNOTICE: All participants and parents understand and agree that photos taken at the event may be used in social media postings and future promotions.
URL:https://www.marioncarnegielibrary.org/event/friends-of-the-marion-carnegie-library-silent-auction/
LOCATION:Marion Carnegie Library\, 206 S Market St\, Marion\, IL\, 62959\, US
CATEGORIES:General Library Events
ATTACH;FMTTYPE=image/jpeg:https://www.marioncarnegielibrary.org/wp-content/uploads/2022/11/21468_image_316029128_508548684645282_1553434956849063896_n.jpg
END:VEVENT
BEGIN:VEVENT
DTSTART;VALUE=DATE:20221124
DTEND;VALUE=DATE:20221126
DTSTAMP:20260421T034203
CREATED:20221021T202823Z
LAST-MODIFIED:20221021T202823Z
UID:21307-1669248000-1669420799@www.marioncarnegielibrary.org
SUMMARY:Library Closed for Thanksgiving
DESCRIPTION:
URL:https://www.marioncarnegielibrary.org/event/library-closed-for-thanksgiving/
CATEGORIES:General Library Events
END:VEVENT
BEGIN:VEVENT
DTSTART;TZID=America/Chicago:20221123T170000
DTEND;TZID=America/Chicago:20221123T200000
DTSTAMP:20260421T034203
CREATED:20221021T202703Z
LAST-MODIFIED:20221021T202703Z
UID:21305-1669222800-1669233600@www.marioncarnegielibrary.org
SUMMARY:Library closes at 5 pm
DESCRIPTION:
URL:https://www.marioncarnegielibrary.org/event/library-closes-at-5-pm/
CATEGORIES:General Library Events
END:VEVENT
BEGIN:VEVENT
DTSTART;TZID=America/Chicago:20221119T100000
DTEND;TZID=America/Chicago:20221119T120000
DTSTAMP:20260421T034203
CREATED:20221017T201833Z
LAST-MODIFIED:20221017T203607Z
UID:21272-1668852000-1668859200@www.marioncarnegielibrary.org
SUMMARY:2022 Local Writers Fair at MCL
DESCRIPTION:Click a title below to borrow it from the Illinois Heartland Library System:\n \nMeet local writers\, hear them read their work live\, and get tips on writing\, publishing\, getting published\, and getting noticed! \nPLUS: Learn about inkie.org –\na FREE suite of resources that offers online writing and publishing tools! \nFeatured local writers are Laura Benedict (reading at 10 am)\, Roselouise Smith (reading at 10:30 am)\, Don Gladden (reading at 11 am)\, and Mandi Jourdan (reading at 11:30 am). Each writer will offer a reading and participate in a Q&A session. \nNOTICE: All participants and parents understand and agree that photos taken at library events may be used in social media postings and future promotions.
URL:https://www.marioncarnegielibrary.org/event/2022-local-writers-fair-at-mcl/
LOCATION:Marion Carnegie Library\, 206 S Market St\, Marion\, IL\, 62959\, US
CATEGORIES:General Library Events
ATTACH;FMTTYPE=image/jpeg:https://www.marioncarnegielibrary.org/wp-content/uploads/2022/10/21272_image_310440558_485628183603999_8769073111306384929_n.jpg
END:VEVENT
BEGIN:VEVENT
DTSTART;TZID=America/Chicago:20221119T090000
DTEND;TZID=America/Chicago:20221119T160000
DTSTAMP:20260421T034203
CREATED:20221017T220033Z
LAST-MODIFIED:20221017T220033Z
UID:21283-1668848400-1668873600@www.marioncarnegielibrary.org
SUMMARY:Friends of the Marion Carnegie Library Book Sale
DESCRIPTION:Join us for a book sale presented by the Friends of the Marion Carnegie Library! All proceeds go to support Marion Carnegie Library’s projects and programs. \nFor more information on how you can help out visit https://www.marioncarnegielibrary.org/friends \nPaperbacks $0.25\nHardbacks $1.00 \nOn Saturday from 2 -4 pm\, fill a shopping bag with books for only $5.00! \nNOTICE: All participants and parents understand and agree that photos taken at the event may be used in social media postings and future promotions.
URL:https://www.marioncarnegielibrary.org/event/friends-of-the-marion-carnegie-library-book-sale-4/
LOCATION:Marion Carnegie Library\, 206 S Market St\, Marion\, IL\, 62959\, US
CATEGORIES:General Library Events
ATTACH;FMTTYPE=image/jpeg:https://www.marioncarnegielibrary.org/wp-content/uploads/2022/10/21281_image_311165677_485676203599197_1918504148372387649_n.jpg
END:VEVENT
BEGIN:VEVENT
DTSTART;TZID=America/Chicago:20221118T090000
DTEND;TZID=America/Chicago:20221118T160000
DTSTAMP:20260421T034203
CREATED:20221017T220029Z
LAST-MODIFIED:20221017T220029Z
UID:21281-1668762000-1668787200@www.marioncarnegielibrary.org
SUMMARY:Friends of the Marion Carnegie Library Book Sale
DESCRIPTION:Join us for a book sale presented by the Friends of the Marion Carnegie Library! All proceeds go to support Marion Carnegie Library’s projects and programs. \nFor more information on how you can help out visit https://www.marioncarnegielibrary.org/friends \nPaperbacks $0.25\nHardbacks $1.00 \nOn Saturday from 2 -4 pm\, fill a shopping bag with books for only $5.00! \nNOTICE: All participants and parents understand and agree that photos taken at the event may be used in social media postings and future promotions.
URL:https://www.marioncarnegielibrary.org/event/friends-of-the-marion-carnegie-library-book-sale-3/
LOCATION:Marion Carnegie Library\, 206 S Market St\, Marion\, IL\, 62959\, US
CATEGORIES:General Library Events
ATTACH;FMTTYPE=image/jpeg:https://www.marioncarnegielibrary.org/wp-content/uploads/2022/10/21281_image_311165677_485676203599197_1918504148372387649_n.jpg
END:VEVENT
BEGIN:VEVENT
DTSTART;VALUE=DATE:20221111
DTEND;VALUE=DATE:20221112
DTSTAMP:20260421T034203
CREATED:20221021T202601Z
LAST-MODIFIED:20221021T202601Z
UID:21303-1668124800-1668211199@www.marioncarnegielibrary.org
SUMMARY:Library Closed in Observance of Veterans Day
DESCRIPTION:
URL:https://www.marioncarnegielibrary.org/event/library-closed-in-observance-of-veterans-day/
CATEGORIES:General Library Events
END:VEVENT
BEGIN:VEVENT
DTSTART;VALUE=DATE:20220905
DTEND;VALUE=DATE:20220906
DTSTAMP:20260421T034203
CREATED:20220818T210447Z
LAST-MODIFIED:20220818T210756Z
UID:20884-1662336000-1662422399@www.marioncarnegielibrary.org
SUMMARY:MCL is Closed in Observance of Labor Day
DESCRIPTION:
URL:https://www.marioncarnegielibrary.org/event/mcl-is-closed-in-observance-of-labor-day/
LOCATION:Marion Carnegie Library\, 206 S Market St\, Marion\, IL\, 62959\, US
CATEGORIES:General Library Events
ATTACH;FMTTYPE=image/png:https://www.marioncarnegielibrary.org/wp-content/uploads/2022/08/Header-Closed-for-Labor-Day-2022.png
END:VEVENT
BEGIN:VEVENT
DTSTART;TZID=America/Chicago:20220729T130000
DTEND;TZID=America/Chicago:20220729T140000
DTSTAMP:20260421T034203
CREATED:20220621T202632Z
LAST-MODIFIED:20220621T202632Z
UID:20515-1659099600-1659103200@www.marioncarnegielibrary.org
SUMMARY:Family Code Camp
DESCRIPTION:Community members of all ages can learn coding basics in the MCL Technology Lab! \nNOTICE: All participants and parents understand and agree that photos taken at library events may be used in social media postings and future promotions.
URL:https://www.marioncarnegielibrary.org/event/family-code-camp-2/
LOCATION:Marion Carnegie Library\, 206 S Market St\, Marion\, IL\, 62959\, US
CATEGORIES:General Library Events
ATTACH;FMTTYPE=image/jpeg:https://www.marioncarnegielibrary.org/wp-content/uploads/2022/06/20513_image_289317025_10158416700321561_4536216744284444854_n.jpg
END:VEVENT
BEGIN:VEVENT
DTSTART;TZID=America/Chicago:20220727T140000
DTEND;TZID=America/Chicago:20220727T160000
DTSTAMP:20260421T034203
CREATED:20220713T213310Z
LAST-MODIFIED:20220713T213310Z
UID:20583-1658930400-1658937600@www.marioncarnegielibrary.org
SUMMARY:Continuing Careers - One-on-One with Man-Tra-Con
DESCRIPTION:Meet with a Man-Tra-Con specialist to get personal career guidance and coaching! Registration is required. Register at the MCL Main Floor Desk for your session. \nFunding for this grant was awarded by the Illinois State Library\, a Department of the Office of Secretary of State\, using funds provided by the U.S. Institute of Museum and Library Services\, under the provisions of the American Rescue Plan Act of 2021 (ARPA). \nNOTICE: All participants and parents understand and agree that photos taken at library events may be used in social media postings and future promotions.
URL:https://www.marioncarnegielibrary.org/event/continuing-careers-one-on-one-with-man-tra-con/
LOCATION:Marion Carnegie Library\, 206 S Market St\, Marion\, IL\, 62959\, US
CATEGORIES:General Library Events
ATTACH;FMTTYPE=image/jpeg:https://www.marioncarnegielibrary.org/wp-content/uploads/2022/07/20583_image_292726295_10158449282816561_2265915255279835044_n.jpg
END:VEVENT
BEGIN:VEVENT
DTSTART;TZID=America/Chicago:20220726T130000
DTEND;TZID=America/Chicago:20220726T150000
DTSTAMP:20260421T034203
CREATED:20220711T183506Z
LAST-MODIFIED:20220711T183506Z
UID:20580-1658840400-1658847600@www.marioncarnegielibrary.org
SUMMARY:Continuing Careers: Free Professional Headshots at MCL
DESCRIPTION:Receive a FREE professional headshot for your LinkedIn profile\, website\, or professional portfolio! \nThis program is open to individuals 18 and older. We recommend wearing business attire. \nRegistration is required and available at the MCL Main Desk or by calling the library at 618-993-5935. \n—– \nFunding for this grant was awarded by the Illinois State Library\, a Department of the Office of Secretary of State\, using funds provided by the U.S. Institute of Museum and Library Services\, under the provisions of the American Rescue Plan Act of 2021 (ARPA). \nNOTICE: All participants and parents understand and agree that photos taken at library events may be used in social media postings and future promotions.
URL:https://www.marioncarnegielibrary.org/event/continuing-careers-free-professional-headshots-at-mcl/
LOCATION:Marion Carnegie Library\, 206 S Market St\, Marion\, IL\, 62959\, US
CATEGORIES:General Library Events
ATTACH;FMTTYPE=image/jpeg:https://www.marioncarnegielibrary.org/wp-content/uploads/2022/07/20580_image_293107191_10158446530171561_8373417000572630227_n.jpg
END:VEVENT
BEGIN:VEVENT
DTSTART;TZID=America/Chicago:20220725T100000
DTEND;TZID=America/Chicago:20220725T120000
DTSTAMP:20260421T034203
CREATED:20220713T213312Z
LAST-MODIFIED:20220713T213312Z
UID:20585-1658743200-1658750400@www.marioncarnegielibrary.org
SUMMARY:Continuing Careers - Monday with Man-Tra-Con
DESCRIPTION:Pick up some essential skills with the help of the premier workforce guidance center in Southern Illinois. \nFunding for this grant was awarded by the Illinois State Library\, a Department of the Office of Secretary of State\, using funds provided by the U.S. Institute of Museum and Library Services\, under the provisions of the American Rescue Plan Act of 2021 (ARPA). \nNOTICE: All participants and parents understand and agree that photos taken at library events may be used in social media postings and future promotions.
URL:https://www.marioncarnegielibrary.org/event/continuing-careers-monday-with-man-tra-con/
LOCATION:Marion Carnegie Library\, 206 S Market St\, Marion\, IL\, 62959\, US
CATEGORIES:General Library Events
ATTACH;FMTTYPE=image/jpeg:https://www.marioncarnegielibrary.org/wp-content/uploads/2022/07/20585_image_293093417_10158449281756561_7012377448416477042_n.jpg
END:VEVENT
BEGIN:VEVENT
DTSTART;TZID=America/Chicago:20220721T140000
DTEND;TZID=America/Chicago:20220721T170000
DTSTAMP:20260421T034203
CREATED:20220617T203544Z
LAST-MODIFIED:20220721T190818Z
UID:20469-1658412000-1658422800@www.marioncarnegielibrary.org
SUMMARY:Carnegie Cosplay Con
DESCRIPTION:Break out your best costume\, it’s time for Cosplay! Kids can meet and greet royalty at a princess sing-a-long\, while adults and teens can explore the library while enjoying popcorn and anime. \nJudging for the costume contest begins at 3:00 p.m. Come dressed alone or bring friends and family and be judged as a group. \nRegistration begins July 7 (Note: all costumes must be appropriate for the public). \nNOTICE: All participants and parents understand and agree that photos taken at library events may be used in social media postings and future promotions.
URL:https://www.marioncarnegielibrary.org/event/carnegie-cosplay-con/
LOCATION:Marion Carnegie Library\, 206 S Market St\, Marion\, IL\, 62959\, US
CATEGORIES:General Library Events
ATTACH;FMTTYPE=image/jpeg:https://www.marioncarnegielibrary.org/wp-content/uploads/2022/06/20469_image_287456944_10158411037146561_8013003119791231463_n.jpg
END:VEVENT
BEGIN:VEVENT
DTSTART;TZID=America/Chicago:20220715T130000
DTEND;TZID=America/Chicago:20220715T140000
DTSTAMP:20260421T034203
CREATED:20220621T202630Z
LAST-MODIFIED:20220621T202630Z
UID:20513-1657890000-1657893600@www.marioncarnegielibrary.org
SUMMARY:Family Code Camp
DESCRIPTION:Community members of all ages can learn coding basics in the MCL Technology Lab! \nNOTICE: All participants and parents understand and agree that photos taken at library events may be used in social media postings and future promotions.
URL:https://www.marioncarnegielibrary.org/event/family-code-camp/
LOCATION:Marion Carnegie Library\, 206 S Market St\, Marion\, IL\, 62959\, US
CATEGORIES:General Library Events
ATTACH;FMTTYPE=image/jpeg:https://www.marioncarnegielibrary.org/wp-content/uploads/2022/06/20513_image_289317025_10158416700321561_4536216744284444854_n.jpg
END:VEVENT
BEGIN:VEVENT
DTSTART;TZID=America/Chicago:20220708T093000
DTEND;TZID=America/Chicago:20220708T160000
DTSTAMP:20260421T034203
CREATED:20220617T203548Z
LAST-MODIFIED:20220617T203548Z
UID:20473-1657272600-1657296000@www.marioncarnegielibrary.org
SUMMARY:Star Wars Escape Room
DESCRIPTION:The Rebel Alliance needs your help!  Solve the clues to find the plans for the Death Star and return them to Princess Leia.  \nThis escape room experience is free and available to all ages. \nRegistration is required. Sign up at the library beginning on June 23. \nNOTICE: All participants and parents understand and agree that photos taken at library events may be used in social media postings and future promotions.
URL:https://www.marioncarnegielibrary.org/event/star-wars-escape-room-2/
LOCATION:Marion Carnegie Library\, 206 S Market St\, Marion\, IL\, 62959\, US
CATEGORIES:General Library Events
ATTACH;FMTTYPE=image/jpeg:https://www.marioncarnegielibrary.org/wp-content/uploads/2022/06/20471_image_288216455_10158411040596561_4274765494816462453_n.jpg
END:VEVENT
BEGIN:VEVENT
DTSTART;TZID=America/Chicago:20220707T093000
DTEND;TZID=America/Chicago:20220707T160000
DTSTAMP:20260421T034203
CREATED:20220617T203546Z
LAST-MODIFIED:20220617T203546Z
UID:20471-1657186200-1657209600@www.marioncarnegielibrary.org
SUMMARY:Star Wars Escape Room
DESCRIPTION:The Rebel Alliance needs your help!  Solve the clues to find the plans for the Death Star and return them to Princess Leia.  \nThis escape room experience is free and available to all ages. \nRegistration is required. Sign up at the library beginning on June 23. \nNOTICE: All participants and parents understand and agree that photos taken at library events may be used in social media postings and future promotions.
URL:https://www.marioncarnegielibrary.org/event/star-wars-escape-room/
LOCATION:Marion Carnegie Library\, 206 S Market St\, Marion\, IL\, 62959\, US
CATEGORIES:General Library Events
ATTACH;FMTTYPE=image/jpeg:https://www.marioncarnegielibrary.org/wp-content/uploads/2022/06/20471_image_288216455_10158411040596561_4274765494816462453_n.jpg
END:VEVENT
BEGIN:VEVENT
DTSTART;VALUE=DATE:20220704
DTEND;VALUE=DATE:20220705
DTSTAMP:20260421T034203
CREATED:20220617T204437Z
LAST-MODIFIED:20220617T204437Z
UID:20476-1656892800-1656979199@www.marioncarnegielibrary.org
SUMMARY:Library Closed in Observance of Independence Day
DESCRIPTION:
URL:https://www.marioncarnegielibrary.org/event/library-closed-in-observance-of-independence-day/
CATEGORIES:General Library Events
END:VEVENT
BEGIN:VEVENT
DTSTART;VALUE=DATE:20220620
DTEND;VALUE=DATE:20220621
DTSTAMP:20260421T034203
CREATED:20220520T213857Z
LAST-MODIFIED:20220520T213857Z
UID:20373-1655683200-1655769599@www.marioncarnegielibrary.org
SUMMARY:MCL Closed in Observance of Juneteenth
DESCRIPTION:
URL:https://www.marioncarnegielibrary.org/event/mcl-closed-in-observance-of-juneteenth/
CATEGORIES:General Library Events
END:VEVENT
BEGIN:VEVENT
DTSTART;VALUE=DATE:20220530
DTEND;VALUE=DATE:20220531
DTSTAMP:20260421T034203
CREATED:20220420T205307Z
LAST-MODIFIED:20220420T205307Z
UID:20108-1653868800-1653955199@www.marioncarnegielibrary.org
SUMMARY:Library Closed for Memorial Day
DESCRIPTION:Marion Carnegie Library will be closed on Monday\, May 30\, 2022\, in observance of Memorial Day. \nThe library will reopen at 9 am on Tuesday\, May 31\, 2022.
URL:https://www.marioncarnegielibrary.org/event/library-closed-for-memorial-day/
LOCATION:Marion Carnegie Library\, 206 S Market St\, Marion\, IL\, 62959\, US
CATEGORIES:General Library Events
END:VEVENT
BEGIN:VEVENT
DTSTART;TZID=America/Chicago:20220528T090000
DTEND;TZID=America/Chicago:20220528T120000
DTSTAMP:20260421T034203
CREATED:20220420T204911Z
LAST-MODIFIED:20220420T205008Z
UID:20095-1653728400-1653739200@www.marioncarnegielibrary.org
SUMMARY:Read Beyond the Beaten Path - MCL Summer Reading Kickoff Event and 5K
DESCRIPTION:Help us kick off 2022’s Summer Reading program in style! Run in a 5K (or a Fun Run for the kiddos)\, enjoy children’s activities like a bounce house\, listen to some music\, and support local food trucks! \nWhile you’re here\, register for Summer Reading! We want to make 2022’s Summer Reading program the biggest ever and we can only do that with your help! \nVisit marioncarnegielibrary.org/summerkickoff for more information.
URL:https://www.marioncarnegielibrary.org/event/read-beyond-the-beaten-path-mcl-summer-reading-kickoff-event-and-5k/
LOCATION:Marion Carnegie Library\, 206 S Market St\, Marion\, IL\, 62959\, US
CATEGORIES:General Library Events
ATTACH;FMTTYPE=image/jpeg:https://www.marioncarnegielibrary.org/wp-content/uploads/2022/04/20095_image_278684398_10158316321881561_4912117618347703108_n.jpg
END:VEVENT
BEGIN:VEVENT
DTSTART;VALUE=DATE:20220415
DTEND;VALUE=DATE:20220416
DTSTAMP:20260421T034203
CREATED:20220321T212120Z
LAST-MODIFIED:20220321T212120Z
UID:19536-1649980800-1650067199@www.marioncarnegielibrary.org
SUMMARY:Closed in Observance of Good Friday
DESCRIPTION:On Friday\, April 15\, 2022 – Marion Carnegie Library will be closed in observance of Good Friday. We will reopen on Saturday\, April 16 at 9 am.
URL:https://www.marioncarnegielibrary.org/event/closed-in-observance-of-good-friday/
CATEGORIES:General Library Events
ATTACH;FMTTYPE=image/png:https://www.marioncarnegielibrary.org/wp-content/uploads/2022/03/Header-Closed-for-Good-Friday-2022.png
END:VEVENT
BEGIN:VEVENT
DTSTART;TZID=America/Chicago:20220319T090000
DTEND;TZID=America/Chicago:20220319T160000
DTSTAMP:20260421T034203
CREATED:20220318T171419Z
LAST-MODIFIED:20220318T171419Z
UID:19338-1647680400-1647705600@www.marioncarnegielibrary.org
SUMMARY:Friends of Marion Carnegie Library Book Sale
DESCRIPTION:Join us for a book sale presented by the Friends of the Marion Carnegie Library! All proceeds go to support Marion Carnegie Library’s projects and programs. \nFor more information on how you can help out visit https://www.marioncarnegielibrary.org/friends-of-marion-carnegie-library \nPaperbacks $0.25\nHardbacks $1.00 \nOn Saturday from 2 -4 pm\, fill a shopping bag with books for only $5.00! \nNOTICE: All participants and parents understand and agree that photos taken at the event may be used in social media postings and future promotions.
URL:https://www.marioncarnegielibrary.org/event/friends-of-marion-carnegie-library-book-sale/
LOCATION:Marion Carnegie Library\, 206 S Market St\, Marion\, IL\, 62959\, US
CATEGORIES:General Library Events
ATTACH;FMTTYPE=image/jpeg:https://www.marioncarnegielibrary.org/wp-content/uploads/2022/03/19338_image_274287045_10158228529411561_5586307207598703663_n.jpg
END:VEVENT
END:VCALENDAR