BEGIN:VCALENDAR
VERSION:2.0
PRODID:-//Marion Carnegie Library | 618-993-5935 - ECPv6.15.12.2//NONSGML v1.0//EN
CALSCALE:GREGORIAN
METHOD:PUBLISH
X-WR-CALNAME:Marion Carnegie Library | 618-993-5935
X-ORIGINAL-URL:https://www.marioncarnegielibrary.org
X-WR-CALDESC:Events for Marion Carnegie Library | 618-993-5935
REFRESH-INTERVAL;VALUE=DURATION:PT1H
X-Robots-Tag:noindex
X-PUBLISHED-TTL:PT1H
BEGIN:VTIMEZONE
TZID:America/Chicago
BEGIN:DAYLIGHT
TZOFFSETFROM:-0600
TZOFFSETTO:-0500
TZNAME:CDT
DTSTART:20230312T080000
END:DAYLIGHT
BEGIN:STANDARD
TZOFFSETFROM:-0500
TZOFFSETTO:-0600
TZNAME:CST
DTSTART:20231105T070000
END:STANDARD
BEGIN:DAYLIGHT
TZOFFSETFROM:-0600
TZOFFSETTO:-0500
TZNAME:CDT
DTSTART:20240310T080000
END:DAYLIGHT
BEGIN:STANDARD
TZOFFSETFROM:-0500
TZOFFSETTO:-0600
TZNAME:CST
DTSTART:20241103T070000
END:STANDARD
BEGIN:DAYLIGHT
TZOFFSETFROM:-0600
TZOFFSETTO:-0500
TZNAME:CDT
DTSTART:20250309T080000
END:DAYLIGHT
BEGIN:STANDARD
TZOFFSETFROM:-0500
TZOFFSETTO:-0600
TZNAME:CST
DTSTART:20251102T070000
END:STANDARD
END:VTIMEZONE
BEGIN:VEVENT
DTSTART;TZID=America/Chicago:20240802T090000
DTEND;TZID=America/Chicago:20240802T160000
DTSTAMP:20260425T092134
CREATED:20240717T184002Z
LAST-MODIFIED:20240722T163858Z
UID:25336-1722589200-1722614400@www.marioncarnegielibrary.org
SUMMARY:Friends of the Marion Carnegie Library Book Sale
DESCRIPTION:Everyone is invited to a book sale presented by the Friends of the Marion Carnegie Library! All proceeds go to support Marion Carnegie Library’s projects and programs. \nFor more information on how you can help out visit https://www.marioncarnegielibrary.org/friends \nPaperbacks $0.25\nHardbacks $1.00\nAnd so much more! \nOn Saturday from 2 -4 pm\, fill a shopping bag with books for only $5.00! \nNOTICE: All participants and parents understand and agree that photos taken at the event may be used in social media postings and future promotions
URL:https://www.marioncarnegielibrary.org/event/friends-of-the-marion-carnegie-library-book-sale-18/
LOCATION:Marion Carnegie Library\, 206 S Market St\, Marion\, IL\, 62959\, US
CATEGORIES:General Library Events
ATTACH;FMTTYPE=image/jpeg:https://www.marioncarnegielibrary.org/wp-content/uploads/2024/07/25334_image_451713784_901813438652136_346977627996312976_n.jpg
END:VEVENT
BEGIN:VEVENT
DTSTART;TZID=America/Chicago:20240803T090000
DTEND;TZID=America/Chicago:20240803T160000
DTSTAMP:20260425T092134
CREATED:20240717T184000Z
LAST-MODIFIED:20240717T184000Z
UID:25334-1722675600-1722700800@www.marioncarnegielibrary.org
SUMMARY:Friends of the Marion Carnegie Library Book Sale
DESCRIPTION:Everyone is invited to a book sale presented by the Friends of the Marion Carnegie Library! All proceeds go to support Marion Carnegie Library’s projects and programs. \nFor more information on how you can help out visit https://www.marioncarnegielibrary.org/friends \nPaperbacks $0.25\nHardbacks $1.00\nAnd so much more! \nOn Saturday from 2 -4 pm\, fill a shopping bag with books for only $5.00! \nNOTICE: All participants and parents understand and agree that photos taken at the event may be used in social media postings and future promotions
URL:https://www.marioncarnegielibrary.org/event/friends-of-the-marion-carnegie-library-book-sale-17/
LOCATION:Marion Carnegie Library\, 206 S Market St\, Marion\, IL\, 62959\, US
CATEGORIES:General Library Events
ATTACH;FMTTYPE=image/jpeg:https://www.marioncarnegielibrary.org/wp-content/uploads/2024/07/25334_image_451713784_901813438652136_346977627996312976_n.jpg
END:VEVENT
BEGIN:VEVENT
DTSTART;TZID=America/Chicago:20240812T183000
DTEND;TZID=America/Chicago:20240812T193000
DTSTAMP:20260425T092134
CREATED:20231129T001227Z
LAST-MODIFIED:20231129T001227Z
UID:23981-1723487400-1723491000@www.marioncarnegielibrary.org
SUMMARY:Library Board Meeting
DESCRIPTION:
URL:https://www.marioncarnegielibrary.org/event/library-board-meeting-11/
LOCATION:Marion Carnegie Library\, 206 S Market St\, Marion\, IL\, 62959\, US
CATEGORIES:General Library Events
END:VEVENT
END:VCALENDAR