BEGIN:VCALENDAR
VERSION:2.0
PRODID:-//Marion Carnegie Library | 618-993-5935 - ECPv6.15.12.2//NONSGML v1.0//EN
CALSCALE:GREGORIAN
METHOD:PUBLISH
X-WR-CALNAME:Marion Carnegie Library | 618-993-5935
X-ORIGINAL-URL:https://www.marioncarnegielibrary.org
X-WR-CALDESC:Events for Marion Carnegie Library | 618-993-5935
REFRESH-INTERVAL;VALUE=DURATION:PT1H
X-Robots-Tag:noindex
X-PUBLISHED-TTL:PT1H
BEGIN:VTIMEZONE
TZID:America/Chicago
BEGIN:DAYLIGHT
TZOFFSETFROM:-0600
TZOFFSETTO:-0500
TZNAME:CDT
DTSTART:20230312T080000
END:DAYLIGHT
BEGIN:STANDARD
TZOFFSETFROM:-0500
TZOFFSETTO:-0600
TZNAME:CST
DTSTART:20231105T070000
END:STANDARD
BEGIN:DAYLIGHT
TZOFFSETFROM:-0600
TZOFFSETTO:-0500
TZNAME:CDT
DTSTART:20240310T080000
END:DAYLIGHT
BEGIN:STANDARD
TZOFFSETFROM:-0500
TZOFFSETTO:-0600
TZNAME:CST
DTSTART:20241103T070000
END:STANDARD
BEGIN:DAYLIGHT
TZOFFSETFROM:-0600
TZOFFSETTO:-0500
TZNAME:CDT
DTSTART:20250309T080000
END:DAYLIGHT
BEGIN:STANDARD
TZOFFSETFROM:-0500
TZOFFSETTO:-0600
TZNAME:CST
DTSTART:20251102T070000
END:STANDARD
END:VTIMEZONE
BEGIN:VEVENT
DTSTART;TZID=America/Chicago:20240601T090000
DTEND;TZID=America/Chicago:20240601T160000
DTSTAMP:20260425T052021
CREATED:20240417T175303Z
LAST-MODIFIED:20240422T190924Z
UID:24769-1717232400-1717257600@www.marioncarnegielibrary.org
SUMMARY:Friends of the Marion Carnegie Library Book Sale
DESCRIPTION:Join us for a book sale presented by the Friends of the Marion Carnegie Library! All proceeds go to support Marion Carnegie Library’s projects and programs. \nFor more information on how you can help out visit https://www.marioncarnegielibrary.org/friends \nPaperbacks $0.25\nHardbacks $1.00\nAnd so much more! \nOn Saturday from 2 -4 pm\, fill a shopping bag with books for only $5.00! \nNOTICE: All participants and parents understand and agree that photos taken at the event may be used in social media postings and future promotions.
URL:https://www.marioncarnegielibrary.org/event/friends-of-the-marion-carnegie-library-book-sale-15/
LOCATION:Marion Carnegie Library\, 206 S Market St\, Marion\, IL\, 62959\, US
CATEGORIES:General Library Events
ATTACH;FMTTYPE=image/jpeg:https://www.marioncarnegielibrary.org/wp-content/uploads/2024/04/24769_image_438910495_842899884543492_6390378079573032290_n.jpg
END:VEVENT
BEGIN:VEVENT
DTSTART;TZID=America/Chicago:20240603T173000
DTEND;TZID=America/Chicago:20240603T190000
DTSTAMP:20260425T052021
CREATED:20240517T202356Z
LAST-MODIFIED:20240529T141844Z
UID:25082-1717435800-1717441200@www.marioncarnegielibrary.org
SUMMARY:MCL Builder's Club with The Ultimate Brick Show
DESCRIPTION:Heartland LUG (LEGO Users Group) will be on hand at Marion Carnegie Library for a special edition of MCL Builder’s Club\, previewing this year’s Ultimate Brick Show event! Bring friends and create whatever you can imagine. \nThis event is open to ALL ages and is completely free – no library card is required! Space is limited\, so arrive early! \nNOTICE: All participants and parents understand and agree that photos taken at library events may be used in social media postings and future promotions. \nChildren 10 years old and younger must be accompanied by a guardian at all times while attending MCL Children’s Department events.
URL:https://www.marioncarnegielibrary.org/event/mcl-builders-club-with-the-ultimate-brick-show/
LOCATION:Marion Carnegie Library\, 206 S Market St\, Marion\, IL\, 62959\, US
CATEGORIES:Children's Department,General Library Events
ATTACH;FMTTYPE=image/png:https://www.marioncarnegielibrary.org/wp-content/uploads/2024/05/Header-Childrens-Builders-Club-June-3-All-Ages.png
END:VEVENT
BEGIN:VEVENT
DTSTART;TZID=America/Chicago:20240610T183000
DTEND;TZID=America/Chicago:20240610T193000
DTSTAMP:20260425T052021
CREATED:20231129T001111Z
LAST-MODIFIED:20231129T001111Z
UID:23979-1718044200-1718047800@www.marioncarnegielibrary.org
SUMMARY:Library Board Meeting
DESCRIPTION:
URL:https://www.marioncarnegielibrary.org/event/library-board-meeting-10/
LOCATION:Marion Carnegie Library\, 206 S Market St\, Marion\, IL\, 62959\, US
CATEGORIES:General Library Events
END:VEVENT
BEGIN:VEVENT
DTSTART;TZID=America/Chicago:20240611T170000
DTEND;TZID=America/Chicago:20240611T190000
DTSTAMP:20260425T052021
CREATED:20240516T195303Z
LAST-MODIFIED:20240604T184449Z
UID:25077-1718125200-1718132400@www.marioncarnegielibrary.org
SUMMARY:Annuals and Alpacas
DESCRIPTION:MCL\, Mandala Gardens\, Rolling Oak Alpaca Ranch\, and Marion Garden Club are teaming up for this special Marion Reads! 2024 Kickoff Event\, and you’re invited! \nBring the kiddos for a special alpaca-themed edition of MCL Story Hour\, complete with an alpaca paper bag puppet craft! Meet\, pet\, and take photos with real alpacas from Rolling Oak Alpaca Ranch! Then plant a flower with help from Marion Garden Club! \nBe sure to sign up for Summer Reading challenges while you’re there! \nThis event is free and open to everyone. No library card is required. \nNOTICE: All participants and parents understand and agree that photos taken at library events may be used in social media postings and future promotions.
URL:https://www.marioncarnegielibrary.org/event/annuals-and-alpacas/
LOCATION:Mandala Gardens\, 1704 N State St\, Marion\, IL\, 62959\, US
CATEGORIES:Adult Department,Children's Department,General Library Events,Young Adult Department
ATTACH;FMTTYPE=image/png:https://www.marioncarnegielibrary.org/wp-content/uploads/2024/05/Header-Rescheduled-General-Annuals-and-Alpacas-June-2024.png
END:VEVENT
BEGIN:VEVENT
DTSTART;VALUE=DATE:20240619
DTEND;VALUE=DATE:20240620
DTSTAMP:20260425T052021
CREATED:20240516T185142Z
LAST-MODIFIED:20240516T185142Z
UID:25074-1718755200-1718841599@www.marioncarnegielibrary.org
SUMMARY:Marion Carnegie Library is Closed in Observance of Juneteenth
DESCRIPTION:MCL will reopen at 9 am on Thursday\, June 20.
URL:https://www.marioncarnegielibrary.org/event/marion-carnegie-library-is-closed-in-observance-of-juneteenth-2/
CATEGORIES:General Library Events
ATTACH;FMTTYPE=image/png:https://www.marioncarnegielibrary.org/wp-content/uploads/2024/05/Header-General-Closed-for-Juneteenth-June-2024.png
END:VEVENT
END:VCALENDAR