BEGIN:VCALENDAR
VERSION:2.0
PRODID:-//Marion Carnegie Library | 618-993-5935 - ECPv6.15.12.2//NONSGML v1.0//EN
CALSCALE:GREGORIAN
METHOD:PUBLISH
X-WR-CALNAME:Marion Carnegie Library | 618-993-5935
X-ORIGINAL-URL:https://www.marioncarnegielibrary.org
X-WR-CALDESC:Events for Marion Carnegie Library | 618-993-5935
REFRESH-INTERVAL;VALUE=DURATION:PT1H
X-Robots-Tag:noindex
X-PUBLISHED-TTL:PT1H
BEGIN:VTIMEZONE
TZID:America/Chicago
BEGIN:DAYLIGHT
TZOFFSETFROM:-0600
TZOFFSETTO:-0500
TZNAME:CDT
DTSTART:20220313T080000
END:DAYLIGHT
BEGIN:STANDARD
TZOFFSETFROM:-0500
TZOFFSETTO:-0600
TZNAME:CST
DTSTART:20221106T070000
END:STANDARD
BEGIN:DAYLIGHT
TZOFFSETFROM:-0600
TZOFFSETTO:-0500
TZNAME:CDT
DTSTART:20230312T080000
END:DAYLIGHT
BEGIN:STANDARD
TZOFFSETFROM:-0500
TZOFFSETTO:-0600
TZNAME:CST
DTSTART:20231105T070000
END:STANDARD
BEGIN:DAYLIGHT
TZOFFSETFROM:-0600
TZOFFSETTO:-0500
TZNAME:CDT
DTSTART:20240310T080000
END:DAYLIGHT
BEGIN:STANDARD
TZOFFSETFROM:-0500
TZOFFSETTO:-0600
TZNAME:CST
DTSTART:20241103T070000
END:STANDARD
END:VTIMEZONE
BEGIN:VEVENT
DTSTART;TZID=America/Chicago:20231007T110000
DTEND;TZID=America/Chicago:20231007T130000
DTSTAMP:20260425T164322
CREATED:20230915T164914Z
LAST-MODIFIED:20230915T164914Z
UID:23458-1696676400-1696683600@www.marioncarnegielibrary.org
SUMMARY:Braiding 101 with Miz BJ'z Hair Haven
DESCRIPTION:Learn how to do 3-strand individual and French braids. Bring your own live or mannequin model. The braiding materials will be provided. \nRegistration is required and is limited to 30 slots. Visit the library’s Main Desk or call 618-993-5935 to register anytime! \n  \nNOTICE: All participants and parents understand and agree that photos taken at library events may be used in social media postings and future promotions.
URL:https://www.marioncarnegielibrary.org/event/braiding-101-with-miz-bjz-hair-haven/
LOCATION:Marion Carnegie Library\, 206 S Market St\, Marion\, IL\, 62959\, US
CATEGORIES:General Library Events
ATTACH;FMTTYPE=image/png:https://www.marioncarnegielibrary.org/wp-content/uploads/2023/09/Header-General-Braiding-101-with-Barbara-Timmons-October-2023.png
END:VEVENT
BEGIN:VEVENT
DTSTART;VALUE=DATE:20231009
DTEND;VALUE=DATE:20231010
DTSTAMP:20260425T164322
CREATED:20230918T180629Z
LAST-MODIFIED:20230918T180629Z
UID:23536-1696809600-1696895999@www.marioncarnegielibrary.org
SUMMARY:Marion Carnegie Library is Closed for a Staff Training Day
DESCRIPTION:The library will reopen at 9 am on Tuesday\, October 10.
URL:https://www.marioncarnegielibrary.org/event/marion-carnegie-library-is-closed-for-a-staff-training-day/
CATEGORIES:General Library Events
END:VEVENT
BEGIN:VEVENT
DTSTART;TZID=America/Chicago:20231016T180000
DTEND;TZID=America/Chicago:20231016T183000
DTSTAMP:20260425T164322
CREATED:20230912T173529Z
LAST-MODIFIED:20230912T181750Z
UID:23435-1697479200-1697481000@www.marioncarnegielibrary.org
SUMMARY:Library Board Special Meeting
DESCRIPTION:The Marion Carnegie Library Board of Trustees will hold a community meeting to discuss the possible addition of a lighted LED sign to the library’s East lawn on Market Street.
URL:https://www.marioncarnegielibrary.org/event/library-board-special-meeting/
LOCATION:Marion Carnegie Library\, 206 S Market St\, Marion\, IL\, 62959\, US
CATEGORIES:General Library Events
END:VEVENT
BEGIN:VEVENT
DTSTART;TZID=America/Chicago:20231016T183000
DTEND;TZID=America/Chicago:20231016T200000
DTSTAMP:20260425T164322
CREATED:20230808T185605Z
LAST-MODIFIED:20230912T173524Z
UID:23255-1697481000-1697486400@www.marioncarnegielibrary.org
SUMMARY:Library Board Meeting
DESCRIPTION:
URL:https://www.marioncarnegielibrary.org/event/library-board-meeting-3/
LOCATION:Marion Carnegie Library\, 206 S Market St\, Marion\, IL\, 62959\, US
CATEGORIES:General Library Events
END:VEVENT
END:VCALENDAR