BEGIN:VCALENDAR
VERSION:2.0
PRODID:-//Marion Carnegie Library | 618-993-5935 - ECPv6.15.12.2//NONSGML v1.0//EN
CALSCALE:GREGORIAN
METHOD:PUBLISH
X-ORIGINAL-URL:https://www.marioncarnegielibrary.org
X-WR-CALDESC:Events for Marion Carnegie Library | 618-993-5935
REFRESH-INTERVAL;VALUE=DURATION:PT1H
X-Robots-Tag:noindex
X-PUBLISHED-TTL:PT1H
BEGIN:VTIMEZONE
TZID:America/New_York
BEGIN:DAYLIGHT
TZOFFSETFROM:-0500
TZOFFSETTO:-0400
TZNAME:EDT
DTSTART:20220313T070000
END:DAYLIGHT
BEGIN:STANDARD
TZOFFSETFROM:-0400
TZOFFSETTO:-0500
TZNAME:EST
DTSTART:20221106T060000
END:STANDARD
BEGIN:DAYLIGHT
TZOFFSETFROM:-0500
TZOFFSETTO:-0400
TZNAME:EDT
DTSTART:20230312T070000
END:DAYLIGHT
BEGIN:STANDARD
TZOFFSETFROM:-0400
TZOFFSETTO:-0500
TZNAME:EST
DTSTART:20231105T060000
END:STANDARD
BEGIN:DAYLIGHT
TZOFFSETFROM:-0500
TZOFFSETTO:-0400
TZNAME:EDT
DTSTART:20240310T070000
END:DAYLIGHT
BEGIN:STANDARD
TZOFFSETFROM:-0400
TZOFFSETTO:-0500
TZNAME:EST
DTSTART:20241103T060000
END:STANDARD
END:VTIMEZONE
BEGIN:VTIMEZONE
TZID:America/Chicago
BEGIN:DAYLIGHT
TZOFFSETFROM:-0600
TZOFFSETTO:-0500
TZNAME:CDT
DTSTART:20220313T080000
END:DAYLIGHT
BEGIN:STANDARD
TZOFFSETFROM:-0500
TZOFFSETTO:-0600
TZNAME:CST
DTSTART:20221106T070000
END:STANDARD
BEGIN:DAYLIGHT
TZOFFSETFROM:-0600
TZOFFSETTO:-0500
TZNAME:CDT
DTSTART:20230312T080000
END:DAYLIGHT
BEGIN:STANDARD
TZOFFSETFROM:-0500
TZOFFSETTO:-0600
TZNAME:CST
DTSTART:20231105T070000
END:STANDARD
BEGIN:DAYLIGHT
TZOFFSETFROM:-0600
TZOFFSETTO:-0500
TZNAME:CDT
DTSTART:20240310T080000
END:DAYLIGHT
BEGIN:STANDARD
TZOFFSETFROM:-0500
TZOFFSETTO:-0600
TZNAME:CST
DTSTART:20241103T070000
END:STANDARD
END:VTIMEZONE
BEGIN:VEVENT
DTSTART;TZID=America/New_York:20230609T090000
DTEND;TZID=America/New_York:20230609T160000
DTSTAMP:20260425T232239
CREATED:20230511T191014Z
LAST-MODIFIED:20230516T192616Z
UID:22796-1686301200-1686326400@www.marioncarnegielibrary.org
SUMMARY:Friends of the Marion Carnegie Library Book Sale
DESCRIPTION:Join us for a book sale presented by the Friends of the Marion Carnegie Library! All proceeds go to support Marion Carnegie Library’s projects and programs. \nFor more information on how you can help out visit https://www.marioncarnegielibrary.org/friends \nPaperbacks $0.25\nHardbacks $1.00\nAnd much more! \nOn Saturday\, June 10 from 2 -4 pm\, fill a shopping bag with books for only $5.00! \nNOTICE: All participants and parents understand and agree that photos taken at the event may be used in social media postings and future promotions.
URL:https://www.marioncarnegielibrary.org/event/friends-of-the-marion-carnegie-library-book-sale-8/
LOCATION:Marion Carnegie Library\, 206 S Market St\, Marion\, IL\, 62959\, US
CATEGORIES:General Library Events
ATTACH;FMTTYPE=image/jpeg:https://www.marioncarnegielibrary.org/wp-content/uploads/2023/05/22794_image_346279637_1267255993885159_8012269694079793272_n.jpg
END:VEVENT
BEGIN:VEVENT
DTSTART;TZID=America/New_York:20230610T090000
DTEND;TZID=America/New_York:20230610T160000
DTSTAMP:20260425T232239
CREATED:20230511T191012Z
LAST-MODIFIED:20230516T192643Z
UID:22794-1686387600-1686412800@www.marioncarnegielibrary.org
SUMMARY:Friends of the Marion Carnegie Library Book Sale
DESCRIPTION:Join us for a book sale presented by the Friends of the Marion Carnegie Library! All proceeds go to support Marion Carnegie Library’s projects and programs. \nFor more information on how you can help out visit https://www.marioncarnegielibrary.org/friends \nPaperbacks $0.25\nHardbacks $1.00\nAnd much more! \nOn Saturday\, June 10 from 2 -4 pm\, fill a shopping bag with books for only $5.00! \nNOTICE: All participants and parents understand and agree that photos taken at the event may be used in social media postings and future promotions.
URL:https://www.marioncarnegielibrary.org/event/friends-of-the-marion-carnegie-library-book-sale-7/
LOCATION:Marion Carnegie Library\, 206 S Market St\, Marion\, IL\, 62959\, US
CATEGORIES:General Library Events
ATTACH;FMTTYPE=image/jpeg:https://www.marioncarnegielibrary.org/wp-content/uploads/2023/05/22794_image_346279637_1267255993885159_8012269694079793272_n.jpg
END:VEVENT
BEGIN:VEVENT
DTSTART;VALUE=DATE:20230619
DTEND;VALUE=DATE:20230620
DTSTAMP:20260425T232239
CREATED:20230511T185647Z
LAST-MODIFIED:20230511T185819Z
UID:22791-1687132800-1687219199@www.marioncarnegielibrary.org
SUMMARY:Marion Carnegie Library is Closed in Observance of Juneteenth
DESCRIPTION:MCL will reopen at 9 am on Tuesday\, June 20.
URL:https://www.marioncarnegielibrary.org/event/marion-carnegie-library-is-closed-in-observance-of-juneteenth/
LOCATION:Marion Carnegie Library\, 206 S Market St\, Marion\, IL\, 62959\, US
CATEGORIES:General Library Events
ATTACH;FMTTYPE=image/png:https://www.marioncarnegielibrary.org/wp-content/uploads/2023/05/Header-General-Closed-for-Juneteenth-June-2023.png
END:VEVENT
BEGIN:VEVENT
DTSTART;TZID=America/New_York:20230624T130000
DTEND;TZID=America/New_York:20230624T140000
DTSTAMP:20260425T232239
CREATED:20230426T183333Z
LAST-MODIFIED:20230426T184113Z
UID:22690-1687611600-1687615200@www.marioncarnegielibrary.org
SUMMARY:One City\, One Book - Marion Reads!
DESCRIPTION:This summer\, read “Murder in the Heartland: Book One” by Southern Illinois’ own Harry Spiller\, and join Harry and MCL Staff for a special conversation about the book on Saturday\, June 24! \nBorrow a copy from Marion Carnegie Library\, and visit MCL Adult Department events in May for special opportunities to win a free copy\, signed by the author! \nMCL’s Summer Reading program is for everyone! \nThis event is absolutely free and intended for ages 18 and older. No registration or library card is necessary. \nNOTICE: All participants and parents understand and agree that photos taken at the event may be used in social media postings and future promotions.
URL:https://www.marioncarnegielibrary.org/event/one-city-one-book-marion-reads/
LOCATION:Marion Carnegie Library\, 206 S Market St\, Marion\, IL\, 62959\, US
CATEGORIES:General Library Events
ATTACH;FMTTYPE=image/jpeg:https://www.marioncarnegielibrary.org/wp-content/uploads/2023/04/22690_image_343536879_2170401856491454_142317922262937426_n.jpg
END:VEVENT
END:VCALENDAR