BEGIN:VCALENDAR
VERSION:2.0
PRODID:-//Marion Carnegie Library | 618-993-5935 - ECPv6.15.12.2//NONSGML v1.0//EN
CALSCALE:GREGORIAN
METHOD:PUBLISH
X-WR-CALNAME:Marion Carnegie Library | 618-993-5935
X-ORIGINAL-URL:https://www.marioncarnegielibrary.org
X-WR-CALDESC:Events for Marion Carnegie Library | 618-993-5935
REFRESH-INTERVAL;VALUE=DURATION:PT1H
X-Robots-Tag:noindex
X-PUBLISHED-TTL:PT1H
BEGIN:VTIMEZONE
TZID:America/Chicago
BEGIN:DAYLIGHT
TZOFFSETFROM:-0600
TZOFFSETTO:-0500
TZNAME:CDT
DTSTART:20210314T080000
END:DAYLIGHT
BEGIN:STANDARD
TZOFFSETFROM:-0500
TZOFFSETTO:-0600
TZNAME:CST
DTSTART:20211107T070000
END:STANDARD
BEGIN:DAYLIGHT
TZOFFSETFROM:-0600
TZOFFSETTO:-0500
TZNAME:CDT
DTSTART:20220313T080000
END:DAYLIGHT
BEGIN:STANDARD
TZOFFSETFROM:-0500
TZOFFSETTO:-0600
TZNAME:CST
DTSTART:20221106T070000
END:STANDARD
BEGIN:DAYLIGHT
TZOFFSETFROM:-0600
TZOFFSETTO:-0500
TZNAME:CDT
DTSTART:20230312T080000
END:DAYLIGHT
BEGIN:STANDARD
TZOFFSETFROM:-0500
TZOFFSETTO:-0600
TZNAME:CST
DTSTART:20231105T070000
END:STANDARD
END:VTIMEZONE
BEGIN:VEVENT
DTSTART;TZID=America/Chicago:20220601T103000
DTEND;TZID=America/Chicago:20220601T103000
DTSTAMP:20260425T075003
CREATED:20220520T211237Z
LAST-MODIFIED:20220520T211237Z
UID:20348-1654079400-1654079400@www.marioncarnegielibrary.org
SUMMARY:Story Hour with Marion Garden Club
DESCRIPTION:Join Marion Carnegie Library and the Marion Garden Club at The Pavilion and read some stories\, sing and dance\, and make an awesome craft! \nNOTICE: All participants and parents understand and agree that photos taken at library events may be used in social media postings and future promotions.
URL:https://www.marioncarnegielibrary.org/event/story-hour-with-marion-garden-club/
LOCATION:The Pavilion Events\, 1602 Sioux Dr\, Marion\, IL\, 62959\, US
CATEGORIES:Children's Department
ATTACH;FMTTYPE=image/jpeg:https://www.marioncarnegielibrary.org/wp-content/uploads/2022/05/20348_image_283264541_10158363429411561_2903516606556391596_n.jpg
END:VEVENT
BEGIN:VEVENT
DTSTART;TZID=America/Chicago:20220602T100000
DTEND;TZID=America/Chicago:20220602T120000
DTSTAMP:20260425T075003
CREATED:20220520T213358Z
LAST-MODIFIED:20220520T213358Z
UID:20366-1654164000-1654171200@www.marioncarnegielibrary.org
SUMMARY:Playroom Playdate
DESCRIPTION:Come meet new friends in our Mariella Aikman Playroom in the library’s Children’s Department!\nBring the kiddos and enjoy puppets\, toys\, games\, and – of course – books! \nNOTICE: All participants and parents understand and agree that photos taken at library events may be used in social media postings and future promotions.
URL:https://www.marioncarnegielibrary.org/event/playroom-playdate-10/
LOCATION:Marion Carnegie Library\, 206 S Market St\, Marion\, IL\, 62959\, US
CATEGORIES:Children's Department
ATTACH;FMTTYPE=image/jpeg:https://www.marioncarnegielibrary.org/wp-content/uploads/2022/05/20366_image_283066263_10158363408246561_8878691701012706253_n.jpg
END:VEVENT
BEGIN:VEVENT
DTSTART;TZID=America/Chicago:20220603T090000
DTEND;TZID=America/Chicago:20220603T090000
DTSTAMP:20260425T075003
CREATED:20220520T211245Z
LAST-MODIFIED:20220520T211245Z
UID:20356-1654246800-1654246800@www.marioncarnegielibrary.org
SUMMARY:Grab-and-Go Tween Craft - Rock Candy
DESCRIPTION:Pick up a grab-and-go craft kit\, and make some tasty rock candy! While supplies last\, stop by the MCL Children’s department and pick up a kit! \nAdult supervision is recommended. \nFree and available to ages 8 – 12.
URL:https://www.marioncarnegielibrary.org/event/grab-and-go-tween-craft-rock-candy/
LOCATION:Marion Carnegie Library\, 206 S Market St\, Marion\, IL\, 62959\, US
CATEGORIES:Children's Department
ATTACH;FMTTYPE=image/jpeg:https://www.marioncarnegielibrary.org/wp-content/uploads/2022/05/20356_image_282002692_10158363410571561_6880530806954762037_n.jpg
END:VEVENT
BEGIN:VEVENT
DTSTART;TZID=America/Chicago:20220604T130000
DTEND;TZID=America/Chicago:20220604T150000
DTSTAMP:20260425T075003
CREATED:20220520T213353Z
LAST-MODIFIED:20220520T213353Z
UID:20361-1654347600-1654354800@www.marioncarnegielibrary.org
SUMMARY:MCL Tween Movie
DESCRIPTION:Join us in the Tween Zone of the Children’s Department each week to watch a featured film!\nFor ages 8 to 12.  \nNOTICE:  All participants and parents understand and agree that photos taken at the event may be used in social media postings and future promotions.
URL:https://www.marioncarnegielibrary.org/event/mcl-tween-movie-12/
LOCATION:Marion Carnegie Library\, 206 S Market St\, Marion\, IL\, 62959\, US
CATEGORIES:Children's Department
ATTACH;FMTTYPE=image/jpeg:https://www.marioncarnegielibrary.org/wp-content/uploads/2022/05/20361_image_282418434_10158363406991561_1409231491905416363_n.jpg
END:VEVENT
BEGIN:VEVENT
DTSTART;TZID=America/Chicago:20220606T173000
DTEND;TZID=America/Chicago:20220606T190000
DTSTAMP:20260425T075003
CREATED:20220520T211248Z
LAST-MODIFIED:20220520T211248Z
UID:20358-1654536600-1654542000@www.marioncarnegielibrary.org
SUMMARY:MCL Lego Club
DESCRIPTION:Stop by Marion Carnegie Library’s Lego Club and create whatever you can imagine\, and don’t forget to bring your friends!  \nFor ages birth to 12.  \nNOTICE:  All participants and parents understand and agree that photos taken at the event may be used in social media postings and future promotions.
URL:https://www.marioncarnegielibrary.org/event/mcl-lego-club-6/
LOCATION:Marion Carnegie Library\, 206 S Market St\, Marion\, IL\, 62959\, US
CATEGORIES:Children's Department
ATTACH;FMTTYPE=image/jpeg:https://www.marioncarnegielibrary.org/wp-content/uploads/2022/05/20358_image_283218568_10158363405941561_6917826199581289128_n.jpg
END:VEVENT
BEGIN:VEVENT
DTSTART;TZID=America/Chicago:20220608T103000
DTEND;TZID=America/Chicago:20220608T113000
DTSTAMP:20260425T075003
CREATED:20220520T211234Z
LAST-MODIFIED:20220523T172706Z
UID:20346-1654684200-1654687800@www.marioncarnegielibrary.org
SUMMARY:Crab Orchard National Wildlife Refuge Story Hour at The Hub
DESCRIPTION:Meet at The Hub to hear some great stories\, including a great butterfly story read by an expert at Crab Orchard National Wildlife Refuge! Sing\, Dance\, and pick up your take-home craft! \nNOTICE: All participants and parents understand and agree that photos taken at library events may be used in social media postings and future promotions.
URL:https://www.marioncarnegielibrary.org/event/butterflies-story-hour-with-crab-orchard-national-wildlife-refuge-at-the-hub/
LOCATION:The HUB Recreation Center\, 917 W. Main Street\, Marion\, IL\, 62959\, US
CATEGORIES:Children's Department
ATTACH;FMTTYPE=image/png:https://www.marioncarnegielibrary.org/wp-content/uploads/2022/05/Header-June-2022-Story-Hour-SR.png
END:VEVENT
BEGIN:VEVENT
DTSTART;TZID=America/Chicago:20220609T100000
DTEND;TZID=America/Chicago:20220609T120000
DTSTAMP:20260425T075003
CREATED:20220520T213400Z
LAST-MODIFIED:20220520T213400Z
UID:20368-1654768800-1654776000@www.marioncarnegielibrary.org
SUMMARY:Playroom Playdate
DESCRIPTION:Come meet new friends in our Mariella Aikman Playroom in the library’s Children’s Department!\nBring the kiddos and enjoy puppets\, toys\, games\, and – of course – books! \nNOTICE: All participants and parents understand and agree that photos taken at library events may be used in social media postings and future promotions.
URL:https://www.marioncarnegielibrary.org/event/playroom-playdate-11/
LOCATION:Marion Carnegie Library\, 206 S Market St\, Marion\, IL\, 62959\, US
CATEGORIES:Children's Department
ATTACH;FMTTYPE=image/jpeg:https://www.marioncarnegielibrary.org/wp-content/uploads/2022/05/20366_image_283066263_10158363408246561_8878691701012706253_n.jpg
END:VEVENT
BEGIN:VEVENT
DTSTART;TZID=America/Chicago:20220609T130000
DTEND;TZID=America/Chicago:20220609T150000
DTSTAMP:20260425T075003
CREATED:20220520T193635Z
LAST-MODIFIED:20220520T193740Z
UID:20316-1654779600-1654786800@www.marioncarnegielibrary.org
SUMMARY:Kindness Riot
DESCRIPTION:Create empowering and supportive posters\, then we’ll riot outside the library and display those posters to spread kindness to our whole community! \nNOTICE: All participants and parents understand and agree that photos taken at library events may be used in social media postings and future promotions.
URL:https://www.marioncarnegielibrary.org/event/kindness-riot/
LOCATION:Marion Carnegie Library\, 206 S Market St\, Marion\, IL\, 62959\, US
CATEGORIES:Children's Department,Young Adult Department
ATTACH;FMTTYPE=image/jpeg:https://www.marioncarnegielibrary.org/wp-content/uploads/2022/05/20316_image_282145695_10158363340516561_7157661260615612090_n.jpg
END:VEVENT
BEGIN:VEVENT
DTSTART;TZID=America/Chicago:20220610T150000
DTEND;TZID=America/Chicago:20220610T160000
DTSTAMP:20260425T075003
CREATED:20220520T193632Z
LAST-MODIFIED:20220520T193729Z
UID:20314-1654873200-1654876800@www.marioncarnegielibrary.org
SUMMARY:Ssssssnakes! at The Hub
DESCRIPTION:Learn about local snake varieties from Kathleen Gaare-Wiese – a retired educator\, Illinois Master Naturalist\, Boy Scouts of America Leader\, and outdoor expert! \nYou may even get to touch a snake*! \n*Snake touching is not required. \nThis event is free and open to ages 0 – 19.
URL:https://www.marioncarnegielibrary.org/event/ssssssnakes-at-the-hub/
LOCATION:The HUB Recreation Center\, 917 W. Main Street\, Marion\, IL\, 62959\, US
CATEGORIES:Children's Department,Young Adult Department
ATTACH;FMTTYPE=image/jpeg:https://www.marioncarnegielibrary.org/wp-content/uploads/2022/05/20314_image_282035553_10158363344091561_6791140964614109325_n.jpg
END:VEVENT
BEGIN:VEVENT
DTSTART;TZID=America/Chicago:20220611T130000
DTEND;TZID=America/Chicago:20220611T150000
DTSTAMP:20260425T075003
CREATED:20220520T213357Z
LAST-MODIFIED:20220520T213357Z
UID:20363-1654952400-1654959600@www.marioncarnegielibrary.org
SUMMARY:MCL Tween Movie
DESCRIPTION:Join us in the Tween Zone of the Children’s Department each week to watch a featured film!\nFor ages 8 to 12.  \nNOTICE:  All participants and parents understand and agree that photos taken at the event may be used in social media postings and future promotions.
URL:https://www.marioncarnegielibrary.org/event/mcl-tween-movie-13/
LOCATION:Marion Carnegie Library\, 206 S Market St\, Marion\, IL\, 62959\, US
CATEGORIES:Children's Department
ATTACH;FMTTYPE=image/jpeg:https://www.marioncarnegielibrary.org/wp-content/uploads/2022/05/20361_image_282418434_10158363406991561_1409231491905416363_n.jpg
END:VEVENT
BEGIN:VEVENT
DTSTART;TZID=America/Chicago:20220615T103000
DTEND;TZID=America/Chicago:20220615T113000
DTSTAMP:20260425T075003
CREATED:20220520T211232Z
LAST-MODIFIED:20220520T211232Z
UID:20344-1655289000-1655292600@www.marioncarnegielibrary.org
SUMMARY:Gymnastics! Story Hour at Extreme Kids
DESCRIPTION:Come hear a fun Gymnastics story\, sing and dance\, and get your take-home craft. Stick around after the Story Hour festivities to climb\, stretch and bounce at the amazing Extreme Kids Gym!
URL:https://www.marioncarnegielibrary.org/event/gymnastics-story-hour-at-extreme-kids/
LOCATION:Extreme Kids\, 1109 N Railroad St\, Marion\, IL\, 62959\, US
CATEGORIES:Children's Department
ATTACH;FMTTYPE=image/jpeg:https://www.marioncarnegielibrary.org/wp-content/uploads/2022/05/20344_image_283024543_10158363434716561_2752233529651840377_n.jpg
END:VEVENT
BEGIN:VEVENT
DTSTART;TZID=America/Chicago:20220616T100000
DTEND;TZID=America/Chicago:20220616T120000
DTSTAMP:20260425T075003
CREATED:20220520T213400Z
LAST-MODIFIED:20220520T213400Z
UID:20369-1655373600-1655380800@www.marioncarnegielibrary.org
SUMMARY:Playroom Playdate
DESCRIPTION:Come meet new friends in our Mariella Aikman Playroom in the library’s Children’s Department!\nBring the kiddos and enjoy puppets\, toys\, games\, and – of course – books! \nNOTICE: All participants and parents understand and agree that photos taken at library events may be used in social media postings and future promotions.
URL:https://www.marioncarnegielibrary.org/event/playroom-playdate-12/
LOCATION:Marion Carnegie Library\, 206 S Market St\, Marion\, IL\, 62959\, US
CATEGORIES:Children's Department
ATTACH;FMTTYPE=image/jpeg:https://www.marioncarnegielibrary.org/wp-content/uploads/2022/05/20366_image_283066263_10158363408246561_8878691701012706253_n.jpg
END:VEVENT
BEGIN:VEVENT
DTSTART;TZID=America/Chicago:20220616T140000
DTEND;TZID=America/Chicago:20220616T160000
DTSTAMP:20260425T075003
CREATED:20220520T192829Z
LAST-MODIFIED:20220520T192928Z
UID:20310-1655388000-1655395200@www.marioncarnegielibrary.org
SUMMARY:marioNkart Tween Tournament
DESCRIPTION:Start your engines and challenge your friends to hit the road and race through fantastical worlds and Beyond the Beaten Path! \nRegistration for either tournament is required. Contact the library starting June 1 to reserve your spot! \nThe age 12 – 19 Tournament will be at 2 pm on Wednesday\, June 15. \nThe age 8 – 12 Tournament will be at 2 pm on Thursday\, June 16. \nNOTICE: All participants and parents understand and agree that photos taken at library events may be used in social media postings and future promotions.
URL:https://www.marioncarnegielibrary.org/event/marionkart-tournament-2/
LOCATION:Marion Carnegie Library\, 206 S Market St\, Marion\, IL\, 62959\, US
CATEGORIES:Children's Department
ATTACH;FMTTYPE=image/jpeg:https://www.marioncarnegielibrary.org/wp-content/uploads/2022/05/20285_image_282767058_10158363296636561_4019292968504656392_n.jpg
END:VEVENT
BEGIN:VEVENT
DTSTART;TZID=America/Chicago:20220618T130000
DTEND;TZID=America/Chicago:20220618T150000
DTSTAMP:20260425T075003
CREATED:20220520T213357Z
LAST-MODIFIED:20220520T213357Z
UID:20364-1655557200-1655564400@www.marioncarnegielibrary.org
SUMMARY:MCL Tween Movie
DESCRIPTION:Join us in the Tween Zone of the Children’s Department each week to watch a featured film!\nFor ages 8 to 12.  \nNOTICE:  All participants and parents understand and agree that photos taken at the event may be used in social media postings and future promotions.
URL:https://www.marioncarnegielibrary.org/event/mcl-tween-movie-14/
LOCATION:Marion Carnegie Library\, 206 S Market St\, Marion\, IL\, 62959\, US
CATEGORIES:Children's Department
ATTACH;FMTTYPE=image/jpeg:https://www.marioncarnegielibrary.org/wp-content/uploads/2022/05/20361_image_282418434_10158363406991561_1409231491905416363_n.jpg
END:VEVENT
BEGIN:VEVENT
DTSTART;TZID=America/Chicago:20220621T100000
DTEND;TZID=America/Chicago:20220621T120000
DTSTAMP:20260425T075003
CREATED:20220520T211242Z
LAST-MODIFIED:20220614T172915Z
UID:20354-1655805600-1655812800@www.marioncarnegielibrary.org
SUMMARY:*CANCELLED* Beyond the Beaten Path Nature Walk
DESCRIPTION:**CANCELLED due to extreme heat.** \nCome explore! See Crab Orchard National Wildlife Refuge with an expert guide! Discover butterflies and their migrations. \nRegistration is required. Pick up a FREE ticket in the MCL Children’s Department starting Tuesday\, June 7. \nMeet us at Harmony Trail at Crab Orchard National Wildlife Refuge. Take Rt 148 south of Marion then turn west on Pigeon Creek Road. \nNOTICE: All participants and parents understand and agree that photos taken at library events may be used in social media postings and future promotions.
URL:https://www.marioncarnegielibrary.org/event/beyond-the-beaten-path-nature-walk/
LOCATION:Harmony Walking Trail Crab Orchard Wildlife Refuge
CATEGORIES:Children's Department
ATTACH;FMTTYPE=image/jpeg:https://www.marioncarnegielibrary.org/wp-content/uploads/2022/05/20354_image_282671673_10158363415356561_2860229875203794352_n.jpg
END:VEVENT
BEGIN:VEVENT
DTSTART;TZID=America/Chicago:20220622T103000
DTEND;TZID=America/Chicago:20220622T113000
DTSTAMP:20260425T075003
CREATED:20220520T211229Z
LAST-MODIFIED:20220520T211229Z
UID:20341-1655893800-1655897400@www.marioncarnegielibrary.org
SUMMARY:Dragons Love Tacos! Story Hour with La Galeria at The Pavilion
DESCRIPTION:Meet Laura Chairez from La Galeria and read “Dragons Love Tacos!” \nEnjoy nachos and a take-home craft! \nNOTICE: All participants and parents understand and agree that photos taken at library events may be used in social media postings and future promotions.
URL:https://www.marioncarnegielibrary.org/event/dragons-love-tacos-story-hour-with-la-galeria-at-the-pavilion/
LOCATION:The Pavilion Events\, 1602 Sioux Dr\, Marion\, IL\, 62959\, US
CATEGORIES:Children's Department
ATTACH;FMTTYPE=image/jpeg:https://www.marioncarnegielibrary.org/wp-content/uploads/2022/05/20341_image_282562073_10158363437821561_6692973148183348197_n.jpg
END:VEVENT
BEGIN:VEVENT
DTSTART;TZID=America/Chicago:20220623T100000
DTEND;TZID=America/Chicago:20220623T120000
DTSTAMP:20260425T075003
CREATED:20220520T213401Z
LAST-MODIFIED:20220520T213401Z
UID:20370-1655978400-1655985600@www.marioncarnegielibrary.org
SUMMARY:Playroom Playdate
DESCRIPTION:Come meet new friends in our Mariella Aikman Playroom in the library’s Children’s Department!\nBring the kiddos and enjoy puppets\, toys\, games\, and – of course – books! \nNOTICE: All participants and parents understand and agree that photos taken at library events may be used in social media postings and future promotions.
URL:https://www.marioncarnegielibrary.org/event/playroom-playdate-13/
LOCATION:Marion Carnegie Library\, 206 S Market St\, Marion\, IL\, 62959\, US
CATEGORIES:Children's Department
ATTACH;FMTTYPE=image/jpeg:https://www.marioncarnegielibrary.org/wp-content/uploads/2022/05/20366_image_283066263_10158363408246561_8878691701012706253_n.jpg
END:VEVENT
BEGIN:VEVENT
DTSTART;TZID=America/Chicago:20220625T130000
DTEND;TZID=America/Chicago:20220625T150000
DTSTAMP:20260425T075003
CREATED:20220520T213357Z
LAST-MODIFIED:20220520T213357Z
UID:20365-1656162000-1656169200@www.marioncarnegielibrary.org
SUMMARY:MCL Tween Movie
DESCRIPTION:Join us in the Tween Zone of the Children’s Department each week to watch a featured film!\nFor ages 8 to 12.  \nNOTICE:  All participants and parents understand and agree that photos taken at the event may be used in social media postings and future promotions.
URL:https://www.marioncarnegielibrary.org/event/mcl-tween-movie-15/
LOCATION:Marion Carnegie Library\, 206 S Market St\, Marion\, IL\, 62959\, US
CATEGORIES:Children's Department
ATTACH;FMTTYPE=image/jpeg:https://www.marioncarnegielibrary.org/wp-content/uploads/2022/05/20361_image_282418434_10158363406991561_1409231491905416363_n.jpg
END:VEVENT
BEGIN:VEVENT
DTSTART;TZID=America/Chicago:20220628T103000
DTEND;TZID=America/Chicago:20220628T113000
DTSTAMP:20260425T075003
CREATED:20220520T211240Z
LAST-MODIFIED:20220520T211240Z
UID:20351-1656412200-1656415800@www.marioncarnegielibrary.org
SUMMARY:Aspire Yoga presents Yoga for Kids!
DESCRIPTION:Learn about Yoga and hear a fun Yoga story!  \nThis event requires registration. It’s totally free and open to ages 0 -12. \nRegister in MCL’s Children’s Department starting Tuesday\, June 14! \nNOTICE: All participants and parents understand and agree that photos taken at library events may be used in social media postings and future promotions.
URL:https://www.marioncarnegielibrary.org/event/aspire-yoga-presents-yoga-for-kids/
LOCATION:Aspire Yoga\, 603 North Court Street\, Marion\, IL\, 62959\, US
CATEGORIES:Children's Department
ATTACH;FMTTYPE=image/jpeg:https://www.marioncarnegielibrary.org/wp-content/uploads/2022/05/20351_image_282226951_10158363420936561_3399385676183364507_n.jpg
END:VEVENT
BEGIN:VEVENT
DTSTART;TZID=America/Chicago:20220629T103000
DTEND;TZID=America/Chicago:20220629T113000
DTSTAMP:20260425T075003
CREATED:20220617T195617Z
LAST-MODIFIED:20220627T192659Z
UID:20463-1656498600-1656502200@www.marioncarnegielibrary.org
SUMMARY:Ocean Story Hour at The Hub
DESCRIPTION:Read ocean stories with Miss Shelley and Miss Twila then take home an ocean craft! \nNOTICE: All participants and parents understand and agree that photos taken at library events may be used in social media postings and future promotions.
URL:https://www.marioncarnegielibrary.org/event/ocean-story-hour-at-the-hub/
LOCATION:The HUB Recreation Center\, 917 W. Main Street\, Marion\, IL\, 62959\, US
CATEGORIES:Children's Department
ATTACH;FMTTYPE=image/png:https://www.marioncarnegielibrary.org/wp-content/uploads/2022/06/Header-Story-Hour-June-29.png
END:VEVENT
BEGIN:VEVENT
DTSTART;TZID=America/Chicago:20220630T100000
DTEND;TZID=America/Chicago:20220630T120000
DTSTAMP:20260425T075003
CREATED:20220520T213401Z
LAST-MODIFIED:20220520T213401Z
UID:20371-1656583200-1656590400@www.marioncarnegielibrary.org
SUMMARY:Playroom Playdate
DESCRIPTION:Come meet new friends in our Mariella Aikman Playroom in the library’s Children’s Department!\nBring the kiddos and enjoy puppets\, toys\, games\, and – of course – books! \nNOTICE: All participants and parents understand and agree that photos taken at library events may be used in social media postings and future promotions.
URL:https://www.marioncarnegielibrary.org/event/playroom-playdate-14/
LOCATION:Marion Carnegie Library\, 206 S Market St\, Marion\, IL\, 62959\, US
CATEGORIES:Children's Department
ATTACH;FMTTYPE=image/jpeg:https://www.marioncarnegielibrary.org/wp-content/uploads/2022/05/20366_image_283066263_10158363408246561_8878691701012706253_n.jpg
END:VEVENT
BEGIN:VEVENT
DTSTART;TZID=America/Chicago:20220701T090000
DTEND;TZID=America/Chicago:20220701T200000
DTSTAMP:20260425T075003
CREATED:20220617T194145Z
LAST-MODIFIED:20220617T194145Z
UID:20453-1656666000-1656705600@www.marioncarnegielibrary.org
SUMMARY:MCL Grab-and-Go Tween Craft - Shrinky Dinks
DESCRIPTION:Starting Friday\, July 1 – and while supplies last – drop by the library’s Children’s Department and pick up a Grab-and-Go kit that contains all the materials needed to make a Shrinky Dink. \nAdult supervision is recommended. \nFree\, available to ages 8 – 12 on a first-come\, first-served basis.
URL:https://www.marioncarnegielibrary.org/event/mcl-grab-and-go-tween-craft-shrinky-dinks/
LOCATION:Marion Carnegie Library\, 206 S Market St\, Marion\, IL\, 62959\, US
CATEGORIES:Children's Department
ATTACH;FMTTYPE=image/jpeg:https://www.marioncarnegielibrary.org/wp-content/uploads/2022/06/20453_image_288670597_10158410918076561_4318061169863077956_n.jpg
END:VEVENT
BEGIN:VEVENT
DTSTART;TZID=America/Chicago:20220702T130000
DTEND;TZID=America/Chicago:20220702T150000
DTSTAMP:20260425T075003
CREATED:20220617T193248Z
LAST-MODIFIED:20220617T193248Z
UID:20434-1656766800-1656774000@www.marioncarnegielibrary.org
SUMMARY:MCL Tween Movie
DESCRIPTION:Join us in the Tween Zone of the Children’s Department each week to watch a featured film!\nFor ages 8 to 12.  \nNOTICE:  All participants and parents understand and agree that photos taken at the event may be used in social media postings and future promotions.
URL:https://www.marioncarnegielibrary.org/event/mcl-tween-movie-16/
LOCATION:Marion Carnegie Library\, 206 S Market St\, Marion\, IL\, 62959\, US
CATEGORIES:Children's Department
ATTACH;FMTTYPE=image/jpeg:https://www.marioncarnegielibrary.org/wp-content/uploads/2022/06/20434_image_288807628_10158410930641561_622701465117579584_n.jpg
END:VEVENT
BEGIN:VEVENT
DTSTART;TZID=America/Chicago:20220706T103000
DTEND;TZID=America/Chicago:20220706T113000
DTSTAMP:20260425T075003
CREATED:20220617T195612Z
LAST-MODIFIED:20220617T195612Z
UID:20459-1657103400-1657107000@www.marioncarnegielibrary.org
SUMMARY:Potion Story Hour with Lavish Bath Box
DESCRIPTION:Hear some witchy stories and take home a fun potion craft with Lavish Bath Box.  Meet at The Hub! \nNOTICE: All participants and parents understand and agree that photos taken at library events may be used in social media postings and future promotions.
URL:https://www.marioncarnegielibrary.org/event/potion-story-hour-with-lavish-bath-box/
LOCATION:The HUB Recreation Center\, 917 W. Main Street\, Marion\, IL\, 62959\, US
CATEGORIES:Children's Department
ATTACH;FMTTYPE=image/jpeg:https://www.marioncarnegielibrary.org/wp-content/uploads/2022/06/20459_image_288857822_10158410974166561_3365864886288164982_n.jpg
END:VEVENT
BEGIN:VEVENT
DTSTART;TZID=America/Chicago:20220707T100000
DTEND;TZID=America/Chicago:20220707T120000
DTSTAMP:20260425T075003
CREATED:20220617T194008Z
LAST-MODIFIED:20220617T194008Z
UID:20442-1657188000-1657195200@www.marioncarnegielibrary.org
SUMMARY:Playroom Playdate
DESCRIPTION:Come meet new friends in our Mariella Aikman Playroom in the library’s Children’s Department!\nBring the kiddos and enjoy puppets\, toys\, games\, and – of course – books! \nNOTICE: All participants and parents understand and agree that photos taken at library events may be used in social media postings and future promotions.
URL:https://www.marioncarnegielibrary.org/event/playroom-playdate-15/
LOCATION:Marion Carnegie Library\, 206 S Market St\, Marion\, IL\, 62959\, US
CATEGORIES:Children's Department
ATTACH;FMTTYPE=image/jpeg:https://www.marioncarnegielibrary.org/wp-content/uploads/2022/06/20442_image_288993966_10158410937076561_7429663866219220570_n.jpg
END:VEVENT
BEGIN:VEVENT
DTSTART;TZID=America/Chicago:20220709T130000
DTEND;TZID=America/Chicago:20220709T150000
DTSTAMP:20260425T075003
CREATED:20220617T193912Z
LAST-MODIFIED:20220617T193912Z
UID:20437-1657371600-1657378800@www.marioncarnegielibrary.org
SUMMARY:MCL Tween Movie
DESCRIPTION:Join us in the Tween Zone of the Children’s Department each week to watch a featured film!\nFor ages 8 to 12.  \nNOTICE:  All participants and parents understand and agree that photos taken at the event may be used in social media postings and future promotions.
URL:https://www.marioncarnegielibrary.org/event/mcl-tween-movie-17/
LOCATION:Marion Carnegie Library\, 206 S Market St\, Marion\, IL\, 62959\, US
CATEGORIES:Children's Department
ATTACH;FMTTYPE=image/jpeg:https://www.marioncarnegielibrary.org/wp-content/uploads/2022/06/20434_image_288807628_10158410930641561_622701465117579584_n.jpg
END:VEVENT
BEGIN:VEVENT
DTSTART;TZID=America/Chicago:20220711T173000
DTEND;TZID=America/Chicago:20220711T190000
DTSTAMP:20260425T075003
CREATED:20220617T194102Z
LAST-MODIFIED:20220617T194102Z
UID:20448-1657560600-1657566000@www.marioncarnegielibrary.org
SUMMARY:MCL Lego Club
DESCRIPTION:Stop by Marion Carnegie Library’s Lego Club and create whatever you can imagine. Don’t forget to bring your friends!  \nFor ages birth to 12.  \nNOTICE:  All participants and parents understand and agree that photos taken at the event may be used in social media postings and future promotions.
URL:https://www.marioncarnegielibrary.org/event/mcl-lego-club-7/
LOCATION:Marion Carnegie Library\, 206 S Market St\, Marion\, IL\, 62959\, US
CATEGORIES:Children's Department
ATTACH;FMTTYPE=image/jpeg:https://www.marioncarnegielibrary.org/wp-content/uploads/2022/06/20448_image_286905804_10158410947431561_9214487796946432559_n.jpg
END:VEVENT
BEGIN:VEVENT
DTSTART;TZID=America/Chicago:20220713T103000
DTEND;TZID=America/Chicago:20220713T113000
DTSTAMP:20260425T075003
CREATED:20220617T195615Z
LAST-MODIFIED:20220617T195615Z
UID:20461-1657708200-1657711800@www.marioncarnegielibrary.org
SUMMARY:Wildcat Story Hour with Marion High School Athletes
DESCRIPTION:Meet some of MHS’ best and brightest athletes.  Hear them read sports stories and take home a fun Wildcat craft! \nNOTICE: All participants and parents understand and agree that photos taken at library events may be used in social media postings and future promotions.
URL:https://www.marioncarnegielibrary.org/event/wildcat-story-hour-with-marion-high-school-athletes/
LOCATION:The HUB Recreation Center\, 917 W. Main Street\, Marion\, IL\, 62959\, US
CATEGORIES:Children's Department
ATTACH;FMTTYPE=image/jpeg:https://www.marioncarnegielibrary.org/wp-content/uploads/2022/06/20461_image_288748797_10158410978736561_2458893651208880361_n.jpg
END:VEVENT
BEGIN:VEVENT
DTSTART;TZID=America/Chicago:20220714T100000
DTEND;TZID=America/Chicago:20220714T120000
DTSTAMP:20260425T075003
CREATED:20220617T194010Z
LAST-MODIFIED:20220617T194010Z
UID:20444-1657792800-1657800000@www.marioncarnegielibrary.org
SUMMARY:Playroom Playdate
DESCRIPTION:Come meet new friends in our Mariella Aikman Playroom in the library’s Children’s Department!\nBring the kiddos and enjoy puppets\, toys\, games\, and – of course – books! \nNOTICE: All participants and parents understand and agree that photos taken at library events may be used in social media postings and future promotions.
URL:https://www.marioncarnegielibrary.org/event/playroom-playdate-16/
LOCATION:Marion Carnegie Library\, 206 S Market St\, Marion\, IL\, 62959\, US
CATEGORIES:Children's Department
ATTACH;FMTTYPE=image/jpeg:https://www.marioncarnegielibrary.org/wp-content/uploads/2022/06/20442_image_288993966_10158410937076561_7429663866219220570_n.jpg
END:VEVENT
BEGIN:VEVENT
DTSTART;TZID=America/Chicago:20220716T130000
DTEND;TZID=America/Chicago:20220716T150000
DTSTAMP:20260425T075003
CREATED:20220617T193912Z
LAST-MODIFIED:20220617T193912Z
UID:20438-1657976400-1657983600@www.marioncarnegielibrary.org
SUMMARY:MCL Tween Movie
DESCRIPTION:Join us in the Tween Zone of the Children’s Department each week to watch a featured film!\nFor ages 8 to 12.  \nNOTICE:  All participants and parents understand and agree that photos taken at the event may be used in social media postings and future promotions.
URL:https://www.marioncarnegielibrary.org/event/mcl-tween-movie-18/
LOCATION:Marion Carnegie Library\, 206 S Market St\, Marion\, IL\, 62959\, US
CATEGORIES:Children's Department
ATTACH;FMTTYPE=image/jpeg:https://www.marioncarnegielibrary.org/wp-content/uploads/2022/06/20434_image_288807628_10158410930641561_622701465117579584_n.jpg
END:VEVENT
END:VCALENDAR