BEGIN:VCALENDAR
VERSION:2.0
PRODID:-//Marion Carnegie Library | 618-993-5935 - ECPv6.15.12.2//NONSGML v1.0//EN
CALSCALE:GREGORIAN
METHOD:PUBLISH
X-ORIGINAL-URL:https://www.marioncarnegielibrary.org
X-WR-CALDESC:Events for Marion Carnegie Library | 618-993-5935
REFRESH-INTERVAL;VALUE=DURATION:PT1H
X-Robots-Tag:noindex
X-PUBLISHED-TTL:PT1H
BEGIN:VTIMEZONE
TZID:America/Chicago
BEGIN:DAYLIGHT
TZOFFSETFROM:-0600
TZOFFSETTO:-0500
TZNAME:CDT
DTSTART:20210314T080000
END:DAYLIGHT
BEGIN:STANDARD
TZOFFSETFROM:-0500
TZOFFSETTO:-0600
TZNAME:CST
DTSTART:20211107T070000
END:STANDARD
BEGIN:DAYLIGHT
TZOFFSETFROM:-0600
TZOFFSETTO:-0500
TZNAME:CDT
DTSTART:20220313T080000
END:DAYLIGHT
BEGIN:STANDARD
TZOFFSETFROM:-0500
TZOFFSETTO:-0600
TZNAME:CST
DTSTART:20221106T070000
END:STANDARD
BEGIN:DAYLIGHT
TZOFFSETFROM:-0600
TZOFFSETTO:-0500
TZNAME:CDT
DTSTART:20230312T080000
END:DAYLIGHT
BEGIN:STANDARD
TZOFFSETFROM:-0500
TZOFFSETTO:-0600
TZNAME:CST
DTSTART:20231105T070000
END:STANDARD
END:VTIMEZONE
BEGIN:VEVENT
DTSTART;TZID=America/Chicago:20220420T103000
DTEND;TZID=America/Chicago:20220420T113000
DTSTAMP:20260424T220515
CREATED:20220323T205851Z
LAST-MODIFIED:20220323T205851Z
UID:19700-1650450600-1650454200@www.marioncarnegielibrary.org
SUMMARY:Story Hour - Earth Day with Marion Garden Club
DESCRIPTION:Join the Marion Garden Club as they read Earth Day books\, sing and dance\, and make an Earth Day craft! \nNOTICE: All participants and parents understand and agree that photos taken at library events may be used in social media postings and future promotions.
URL:https://www.marioncarnegielibrary.org/event/story-hour-earth-day-with-marion-garden-club-2/
LOCATION:Marion Carnegie Library\, 206 S Market St\, Marion\, IL\, 62959\, US
CATEGORIES:Children's Department
ATTACH;FMTTYPE=image/jpeg:https://www.marioncarnegielibrary.org/wp-content/uploads/2022/03/19698_image_276134108_10158276562281561_3103405743313378676_n.jpg
END:VEVENT
BEGIN:VEVENT
DTSTART;TZID=America/Chicago:20220421T103000
DTEND;TZID=America/Chicago:20220421T113000
DTSTAMP:20260424T220515
CREATED:20220323T205849Z
LAST-MODIFIED:20220323T205849Z
UID:19698-1650537000-1650540600@www.marioncarnegielibrary.org
SUMMARY:Story Hour - Earth Day with Marion Garden Club
DESCRIPTION:Join the Marion Garden Club as they read Earth Day books\, sing and dance\, and make an Earth Day craft! \nNOTICE: All participants and parents understand and agree that photos taken at library events may be used in social media postings and future promotions.
URL:https://www.marioncarnegielibrary.org/event/story-hour-earth-day-with-marion-garden-club/
LOCATION:Marion Carnegie Library\, 206 S Market St\, Marion\, IL\, 62959\, US
CATEGORIES:Children's Department
ATTACH;FMTTYPE=image/jpeg:https://www.marioncarnegielibrary.org/wp-content/uploads/2022/03/19698_image_276134108_10158276562281561_3103405743313378676_n.jpg
END:VEVENT
BEGIN:VEVENT
DTSTART;TZID=America/Chicago:20220422T100000
DTEND;TZID=America/Chicago:20220422T120000
DTSTAMP:20260424T220515
CREATED:20220323T203020Z
LAST-MODIFIED:20220323T203020Z
UID:19693-1650621600-1650628800@www.marioncarnegielibrary.org
SUMMARY:Playroom Playdate
DESCRIPTION:Come meet new friends in our Mariella Aikman Playroom in the library’s Children’s Department!\nBring the kiddos and enjoy puppets\, toys\, games\, and – of course – books! \nNOTICE: All participants and parents understand and agree that photos taken at library events may be used in social media postings and future promotions.
URL:https://www.marioncarnegielibrary.org/event/playroom-playdate-4/
LOCATION:Marion Carnegie Library\, 206 S Market St\, Marion\, IL\, 62959\, US
CATEGORIES:Children's Department
ATTACH;FMTTYPE=image/jpeg:https://www.marioncarnegielibrary.org/wp-content/uploads/2022/03/19690_image_276250460_10158276512871561_3148646763062203581_n.jpg
END:VEVENT
BEGIN:VEVENT
DTSTART;TZID=America/Chicago:20220423T130000
DTEND;TZID=America/Chicago:20220423T153000
DTSTAMP:20260424T220515
CREATED:20220323T202916Z
LAST-MODIFIED:20220323T202916Z
UID:19687-1650718800-1650727800@www.marioncarnegielibrary.org
SUMMARY:MCL Tween Movie
DESCRIPTION:Join us in the Tween Zone of the Children’s Department each week to watch a featured film!\nFor ages 8 to 12.  \nNOTICE:  All participants and parents understand and agree that photos taken at the event may be used in social media postings and future promotions.
URL:https://www.marioncarnegielibrary.org/event/mcl-tween-movie-6/
LOCATION:Marion Carnegie Library\, 206 S Market St\, Marion\, IL\, 62959\, US
CATEGORIES:Children's Department
ATTACH;FMTTYPE=image/jpeg:https://www.marioncarnegielibrary.org/wp-content/uploads/2022/03/19683_image_276990934_10158276520881561_6084484968444560526_n.jpg
END:VEVENT
BEGIN:VEVENT
DTSTART;TZID=America/Chicago:20220427T103000
DTEND;TZID=America/Chicago:20220427T113000
DTSTAMP:20260424T220515
CREATED:20220323T205846Z
LAST-MODIFIED:20220323T205846Z
UID:19696-1651055400-1651059000@www.marioncarnegielibrary.org
SUMMARY:Story Hour - Flamingo
DESCRIPTION:Join Miss Twila and Miss Shelley as they read flamingo books\, sing\, dance\, and hand out a flamingo craft! \nNOTICE: All participants and parents understand and agree that photos taken at library events may be used in social media postings and future promotions.
URL:https://www.marioncarnegielibrary.org/event/story-hour-flamingo/
LOCATION:Marion Carnegie Library\, 206 S Market St\, Marion\, IL\, 62959\, US
CATEGORIES:Children's Department
ATTACH;FMTTYPE=image/jpeg:https://www.marioncarnegielibrary.org/wp-content/uploads/2022/03/19696_image_276299841_10158276565711561_6658873013914736021_n.jpg
END:VEVENT
BEGIN:VEVENT
DTSTART;TZID=America/Chicago:20220428T103000
DTEND;TZID=America/Chicago:20220428T113000
DTSTAMP:20260424T220515
CREATED:20220323T205857Z
LAST-MODIFIED:20220323T205857Z
UID:19707-1651141800-1651145400@www.marioncarnegielibrary.org
SUMMARY:Story Hour - Flamingo
DESCRIPTION:Join Miss Twila and Miss Shelley as they read flamingo books\, sing\, dance\, and hand out a flamingo craft! \nNOTICE: All participants and parents understand and agree that photos taken at library events may be used in social media postings and future promotions.
URL:https://www.marioncarnegielibrary.org/event/story-hour-flamingo-2/
LOCATION:Marion Carnegie Library\, 206 S Market St\, Marion\, IL\, 62959\, US
CATEGORIES:Children's Department
ATTACH;FMTTYPE=image/jpeg:https://www.marioncarnegielibrary.org/wp-content/uploads/2022/03/19696_image_276299841_10158276565711561_6658873013914736021_n.jpg
END:VEVENT
BEGIN:VEVENT
DTSTART;TZID=America/Chicago:20220429T100000
DTEND;TZID=America/Chicago:20220429T120000
DTSTAMP:20260424T220515
CREATED:20220323T203020Z
LAST-MODIFIED:20220323T203020Z
UID:19694-1651226400-1651233600@www.marioncarnegielibrary.org
SUMMARY:Playroom Playdate
DESCRIPTION:Come meet new friends in our Mariella Aikman Playroom in the library’s Children’s Department!\nBring the kiddos and enjoy puppets\, toys\, games\, and – of course – books! \nNOTICE: All participants and parents understand and agree that photos taken at library events may be used in social media postings and future promotions.
URL:https://www.marioncarnegielibrary.org/event/playroom-playdate-5/
LOCATION:Marion Carnegie Library\, 206 S Market St\, Marion\, IL\, 62959\, US
CATEGORIES:Children's Department
ATTACH;FMTTYPE=image/jpeg:https://www.marioncarnegielibrary.org/wp-content/uploads/2022/03/19690_image_276250460_10158276512871561_3148646763062203581_n.jpg
END:VEVENT
BEGIN:VEVENT
DTSTART;TZID=America/Chicago:20220430T130000
DTEND;TZID=America/Chicago:20220430T153000
DTSTAMP:20260424T220515
CREATED:20220323T202917Z
LAST-MODIFIED:20220323T202917Z
UID:19688-1651323600-1651332600@www.marioncarnegielibrary.org
SUMMARY:MCL Tween Movie
DESCRIPTION:Join us in the Tween Zone of the Children’s Department each week to watch a featured film!\nFor ages 8 to 12.  \nNOTICE:  All participants and parents understand and agree that photos taken at the event may be used in social media postings and future promotions.
URL:https://www.marioncarnegielibrary.org/event/mcl-tween-movie-7/
LOCATION:Marion Carnegie Library\, 206 S Market St\, Marion\, IL\, 62959\, US
CATEGORIES:Children's Department
ATTACH;FMTTYPE=image/jpeg:https://www.marioncarnegielibrary.org/wp-content/uploads/2022/03/19683_image_276990934_10158276520881561_6084484968444560526_n.jpg
END:VEVENT
BEGIN:VEVENT
DTSTART;TZID=America/Chicago:20220502T173000
DTEND;TZID=America/Chicago:20220502T190000
DTSTAMP:20260424T220515
CREATED:20220419T191856Z
LAST-MODIFIED:20220419T191856Z
UID:20061-1651512600-1651518000@www.marioncarnegielibrary.org
SUMMARY:MCL Lego Club
DESCRIPTION:MCL Lego Club is back! Stop by the library to create whatever you can imagine\, and don’t forget to bring your friends!  \nFor ages birth to 12.  \nNOTICE:  All participants and parents understand and agree that photos taken at the event may be used in social media postings and future promotions.
URL:https://www.marioncarnegielibrary.org/event/mcl-lego-club-4/
LOCATION:Marion Carnegie Library\, 206 S Market St\, Marion\, IL\, 62959\, US
CATEGORIES:Children's Department
ATTACH;FMTTYPE=image/jpeg:https://www.marioncarnegielibrary.org/wp-content/uploads/2022/04/20061_image_278586993_10158314837626561_812427298435178840_n.jpg
END:VEVENT
BEGIN:VEVENT
DTSTART;TZID=America/Chicago:20220504T103000
DTEND;TZID=America/Chicago:20220504T113000
DTSTAMP:20260424T220515
CREATED:20220419T194151Z
LAST-MODIFIED:20220419T194151Z
UID:20078-1651660200-1651663800@www.marioncarnegielibrary.org
SUMMARY:Story Hour - Hat!
DESCRIPTION:Join Miss Shelley and Miss Twila as they read stories about hats\, sing and dance\, and make your own hat! \nNOTICE: All participants and parents understand and agree that photos taken at library events may be used in social media postings and future promotions.
URL:https://www.marioncarnegielibrary.org/event/story-hour-hat/
LOCATION:Marion Carnegie Library\, 206 S Market St\, Marion\, IL\, 62959\, US
CATEGORIES:Children's Department
ATTACH;FMTTYPE=image/jpeg:https://www.marioncarnegielibrary.org/wp-content/uploads/2022/04/20078_image_278600990_10158314871146561_8867841560011522830_n.jpg
END:VEVENT
BEGIN:VEVENT
DTSTART;TZID=America/Chicago:20220505T103000
DTEND;TZID=America/Chicago:20220505T113000
DTSTAMP:20260424T220515
CREATED:20220419T194153Z
LAST-MODIFIED:20220419T194153Z
UID:20080-1651746600-1651750200@www.marioncarnegielibrary.org
SUMMARY:Story Hour - Hat!
DESCRIPTION:Join Miss Shelley and Miss Twila as they read stories about hats\, sing and dance\, and make your own hat! \nNOTICE: All participants and parents understand and agree that photos taken at library events may be used in social media postings and future promotions.
URL:https://www.marioncarnegielibrary.org/event/story-hour-hat-2/
LOCATION:Marion Carnegie Library\, 206 S Market St\, Marion\, IL\, 62959\, US
CATEGORIES:Children's Department
ATTACH;FMTTYPE=image/jpeg:https://www.marioncarnegielibrary.org/wp-content/uploads/2022/04/20078_image_278600990_10158314871146561_8867841560011522830_n.jpg
END:VEVENT
BEGIN:VEVENT
DTSTART;TZID=America/Chicago:20220506T090000
DTEND;TZID=America/Chicago:20220506T200000
DTSTAMP:20260424T220515
CREATED:20220419T191853Z
LAST-MODIFIED:20220419T191853Z
UID:20059-1651827600-1651867200@www.marioncarnegielibrary.org
SUMMARY:MCL Tween Grab-and-Go Activity Pack
DESCRIPTION:Drop by the Children’s Department and pick up a Grab & Go activity pack with quizzes\, coloring pages\, a scavenger hunt\, and more! \nSupplies are limited. For ages 8 to 12.
URL:https://www.marioncarnegielibrary.org/event/mcl-tween-grab-and-go-activity-pack/
LOCATION:Marion Carnegie Library\, 206 S Market St\, Marion\, IL\, 62959\, US
CATEGORIES:Children's Department
ATTACH;FMTTYPE=image/jpeg:https://www.marioncarnegielibrary.org/wp-content/uploads/2022/04/20059_image_278525550_10158314826121561_7033568074991091956_n.jpg
END:VEVENT
BEGIN:VEVENT
DTSTART;TZID=America/Chicago:20220506T100000
DTEND;TZID=America/Chicago:20220506T120000
DTSTAMP:20260424T220515
CREATED:20220419T191857Z
LAST-MODIFIED:20220419T191857Z
UID:20064-1651831200-1651838400@www.marioncarnegielibrary.org
SUMMARY:Playroom Playdate
DESCRIPTION:Come meet new friends in our Mariella Aikman Playroom in the library’s Children’s Department!\nBring the kiddos and enjoy puppets\, toys\, games\, and – of course – books! \nNOTICE: All participants and parents understand and agree that photos taken at library events may be used in social media postings and future promotions.
URL:https://www.marioncarnegielibrary.org/event/playroom-playdate-6/
LOCATION:Marion Carnegie Library\, 206 S Market St\, Marion\, IL\, 62959\, US
CATEGORIES:Children's Department
ATTACH;FMTTYPE=image/jpeg:https://www.marioncarnegielibrary.org/wp-content/uploads/2022/04/20064_image_278676765_10158314839391561_4527110734615985370_n.jpg
END:VEVENT
BEGIN:VEVENT
DTSTART;TZID=America/Chicago:20220507T130000
DTEND;TZID=America/Chicago:20220507T153000
DTSTAMP:20260424T220515
CREATED:20220419T191900Z
LAST-MODIFIED:20220419T191900Z
UID:20069-1651928400-1651937400@www.marioncarnegielibrary.org
SUMMARY:MCL Tween Movie
DESCRIPTION:Join us in the Tween Zone of the Children’s Department each week to watch a featured film!\nFor ages 8 to 12.  \nNOTICE:  All participants and parents understand and agree that photos taken at the event may be used in social media postings and future promotions.
URL:https://www.marioncarnegielibrary.org/event/mcl-tween-movie-8/
LOCATION:Marion Carnegie Library\, 206 S Market St\, Marion\, IL\, 62959\, US
CATEGORIES:Children's Department
ATTACH;FMTTYPE=image/jpeg:https://www.marioncarnegielibrary.org/wp-content/uploads/2022/04/20069_image_278563202_10158314842591561_6415958099320320376_n.jpg
END:VEVENT
BEGIN:VEVENT
DTSTART;TZID=America/Chicago:20220511T103000
DTEND;TZID=America/Chicago:20220511T113000
DTSTAMP:20260424T220515
CREATED:20220419T194153Z
LAST-MODIFIED:20220419T194153Z
UID:20081-1652265000-1652268600@www.marioncarnegielibrary.org
SUMMARY:Story Hour - Train!
DESCRIPTION:Join Miss Shelley and Miss Twila as they read stories about trains\, sing\, and dance\, Then take home a fun craft! \nNOTICE: All participants and parents understand and agree that photos taken at library events may be used in social media postings and future promotions.
URL:https://www.marioncarnegielibrary.org/event/story-hour-train/
LOCATION:Marion Carnegie Library\, 206 S Market St\, Marion\, IL\, 62959\, US
CATEGORIES:Children's Department
ATTACH;FMTTYPE=image/jpeg:https://www.marioncarnegielibrary.org/wp-content/uploads/2022/04/20081_image_278580682_10158314874906561_7695191840120867745_n.jpg
END:VEVENT
BEGIN:VEVENT
DTSTART;TZID=America/Chicago:20220512T103000
DTEND;TZID=America/Chicago:20220512T113000
DTSTAMP:20260424T220515
CREATED:20220419T194156Z
LAST-MODIFIED:20220419T194156Z
UID:20083-1652351400-1652355000@www.marioncarnegielibrary.org
SUMMARY:Story Hour - Train!
DESCRIPTION:Join Miss Shelley and Miss Twila as they read stories about trains\, sing\, and dance\, Then take home a fun craft! \nNOTICE: All participants and parents understand and agree that photos taken at library events may be used in social media postings and future promotions.
URL:https://www.marioncarnegielibrary.org/event/story-hour-train-2/
LOCATION:Marion Carnegie Library\, 206 S Market St\, Marion\, IL\, 62959\, US
CATEGORIES:Children's Department
ATTACH;FMTTYPE=image/jpeg:https://www.marioncarnegielibrary.org/wp-content/uploads/2022/04/20081_image_278580682_10158314874906561_7695191840120867745_n.jpg
END:VEVENT
BEGIN:VEVENT
DTSTART;TZID=America/Chicago:20220513T100000
DTEND;TZID=America/Chicago:20220513T120000
DTSTAMP:20260424T220515
CREATED:20220419T191900Z
LAST-MODIFIED:20220419T191900Z
UID:20066-1652436000-1652443200@www.marioncarnegielibrary.org
SUMMARY:Playroom Playdate
DESCRIPTION:Come meet new friends in our Mariella Aikman Playroom in the library’s Children’s Department!\nBring the kiddos and enjoy puppets\, toys\, games\, and – of course – books! \nNOTICE: All participants and parents understand and agree that photos taken at library events may be used in social media postings and future promotions.
URL:https://www.marioncarnegielibrary.org/event/playroom-playdate-7/
LOCATION:Marion Carnegie Library\, 206 S Market St\, Marion\, IL\, 62959\, US
CATEGORIES:Children's Department
ATTACH;FMTTYPE=image/jpeg:https://www.marioncarnegielibrary.org/wp-content/uploads/2022/04/20064_image_278676765_10158314839391561_4527110734615985370_n.jpg
END:VEVENT
BEGIN:VEVENT
DTSTART;TZID=America/Chicago:20220514T130000
DTEND;TZID=America/Chicago:20220514T153000
DTSTAMP:20260424T220515
CREATED:20220419T191903Z
LAST-MODIFIED:20220419T191903Z
UID:20071-1652533200-1652542200@www.marioncarnegielibrary.org
SUMMARY:MCL Tween Movie
DESCRIPTION:Join us in the Tween Zone of the Children’s Department each week to watch a featured film!\nFor ages 8 to 12.  \nNOTICE:  All participants and parents understand and agree that photos taken at the event may be used in social media postings and future promotions.
URL:https://www.marioncarnegielibrary.org/event/mcl-tween-movie-9/
LOCATION:Marion Carnegie Library\, 206 S Market St\, Marion\, IL\, 62959\, US
CATEGORIES:Children's Department
ATTACH;FMTTYPE=image/jpeg:https://www.marioncarnegielibrary.org/wp-content/uploads/2022/04/20069_image_278563202_10158314842591561_6415958099320320376_n.jpg
END:VEVENT
BEGIN:VEVENT
DTSTART;TZID=America/Chicago:20220516T173000
DTEND;TZID=America/Chicago:20220516T190000
DTSTAMP:20260424T220515
CREATED:20220419T191857Z
LAST-MODIFIED:20220419T191857Z
UID:20063-1652722200-1652727600@www.marioncarnegielibrary.org
SUMMARY:MCL Lego Club
DESCRIPTION:MCL Lego Club is back! Stop by the library to create whatever you can imagine\, and don’t forget to bring your friends!  \nFor ages birth to 12.  \nNOTICE:  All participants and parents understand and agree that photos taken at the event may be used in social media postings and future promotions.
URL:https://www.marioncarnegielibrary.org/event/mcl-lego-club-5/
LOCATION:Marion Carnegie Library\, 206 S Market St\, Marion\, IL\, 62959\, US
CATEGORIES:Children's Department
ATTACH;FMTTYPE=image/jpeg:https://www.marioncarnegielibrary.org/wp-content/uploads/2022/04/20061_image_278586993_10158314837626561_812427298435178840_n.jpg
END:VEVENT
BEGIN:VEVENT
DTSTART;TZID=America/Chicago:20220518T103000
DTEND;TZID=America/Chicago:20220518T113000
DTSTAMP:20260424T220515
CREATED:20220419T194156Z
LAST-MODIFIED:20220419T194156Z
UID:20084-1652869800-1652873400@www.marioncarnegielibrary.org
SUMMARY:Story Hour - Dinosaur!
DESCRIPTION:Join Miss Shelley and Miss Twila as they read stories about dinosaurs\, sing\, and dance! Then\, take home a fun craft! \nNOTICE: All participants and parents understand and agree that photos taken at library events may be used in social media postings and future promotions.
URL:https://www.marioncarnegielibrary.org/event/story-hour-dinosaur/
LOCATION:Marion Carnegie Library\, 206 S Market St\, Marion\, IL\, 62959\, US
CATEGORIES:Children's Department
ATTACH;FMTTYPE=image/jpeg:https://www.marioncarnegielibrary.org/wp-content/uploads/2022/04/20084_image_278811825_10158314876216561_6373598081613073165_n.jpg
END:VEVENT
BEGIN:VEVENT
DTSTART;TZID=America/Chicago:20220519T103000
DTEND;TZID=America/Chicago:20220519T113000
DTSTAMP:20260424T220515
CREATED:20220419T194159Z
LAST-MODIFIED:20220419T194159Z
UID:20086-1652956200-1652959800@www.marioncarnegielibrary.org
SUMMARY:Story Hour - Dinosaur!
DESCRIPTION:Join Miss Shelley and Miss Twila as they read stories about dinosaurs\, sing\, and dance! Then\, take home a fun craft! \nNOTICE: All participants and parents understand and agree that photos taken at library events may be used in social media postings and future promotions.
URL:https://www.marioncarnegielibrary.org/event/story-hour-dinosaur-2/
LOCATION:Marion Carnegie Library\, 206 S Market St\, Marion\, IL\, 62959\, US
CATEGORIES:Children's Department
ATTACH;FMTTYPE=image/jpeg:https://www.marioncarnegielibrary.org/wp-content/uploads/2022/04/20084_image_278811825_10158314876216561_6373598081613073165_n.jpg
END:VEVENT
BEGIN:VEVENT
DTSTART;TZID=America/Chicago:20220520T100000
DTEND;TZID=America/Chicago:20220520T120000
DTSTAMP:20260424T220515
CREATED:20220419T191900Z
LAST-MODIFIED:20220419T191900Z
UID:20067-1653040800-1653048000@www.marioncarnegielibrary.org
SUMMARY:Playroom Playdate
DESCRIPTION:Come meet new friends in our Mariella Aikman Playroom in the library’s Children’s Department!\nBring the kiddos and enjoy puppets\, toys\, games\, and – of course – books! \nNOTICE: All participants and parents understand and agree that photos taken at library events may be used in social media postings and future promotions.
URL:https://www.marioncarnegielibrary.org/event/playroom-playdate-8/
LOCATION:Marion Carnegie Library\, 206 S Market St\, Marion\, IL\, 62959\, US
CATEGORIES:Children's Department
ATTACH;FMTTYPE=image/jpeg:https://www.marioncarnegielibrary.org/wp-content/uploads/2022/04/20064_image_278676765_10158314839391561_4527110734615985370_n.jpg
END:VEVENT
BEGIN:VEVENT
DTSTART;TZID=America/Chicago:20220521T130000
DTEND;TZID=America/Chicago:20220521T153000
DTSTAMP:20260424T220515
CREATED:20220419T191903Z
LAST-MODIFIED:20220419T191903Z
UID:20072-1653138000-1653147000@www.marioncarnegielibrary.org
SUMMARY:MCL Tween Movie
DESCRIPTION:Join us in the Tween Zone of the Children’s Department each week to watch a featured film!\nFor ages 8 to 12.  \nNOTICE:  All participants and parents understand and agree that photos taken at the event may be used in social media postings and future promotions.
URL:https://www.marioncarnegielibrary.org/event/mcl-tween-movie-10/
LOCATION:Marion Carnegie Library\, 206 S Market St\, Marion\, IL\, 62959\, US
CATEGORIES:Children's Department
ATTACH;FMTTYPE=image/jpeg:https://www.marioncarnegielibrary.org/wp-content/uploads/2022/04/20069_image_278563202_10158314842591561_6415958099320320376_n.jpg
END:VEVENT
BEGIN:VEVENT
DTSTART;TZID=America/Chicago:20220525T103000
DTEND;TZID=America/Chicago:20220525T113000
DTSTAMP:20260424T220515
CREATED:20220419T194159Z
LAST-MODIFIED:20220419T194159Z
UID:20087-1653474600-1653478200@www.marioncarnegielibrary.org
SUMMARY:Story Hour - Gary the Police Therapy Dog!
DESCRIPTION:Join Miss Shelley\, Miss Twila\, and special guests from the Marion Police Department. Meet Gary the Police Therapy Dog\, hear some stories\, sing and dance\, and take home a fun craft! \nNOTICE: All participants and parents understand and agree that photos taken at library events may be used in social media postings and future promotions.
URL:https://www.marioncarnegielibrary.org/event/story-hour-gary-the-police-therapy-dog/
LOCATION:Marion Carnegie Library\, 206 S Market St\, Marion\, IL\, 62959\, US
CATEGORIES:Children's Department
ATTACH;FMTTYPE=image/jpeg:https://www.marioncarnegielibrary.org/wp-content/uploads/2022/04/20087_image_278818458_10158314878501561_1512953297496463555_n.jpg
END:VEVENT
BEGIN:VEVENT
DTSTART;TZID=America/Chicago:20220526T103000
DTEND;TZID=America/Chicago:20220526T113000
DTSTAMP:20260424T220515
CREATED:20220419T194201Z
LAST-MODIFIED:20220419T194201Z
UID:20089-1653561000-1653564600@www.marioncarnegielibrary.org
SUMMARY:Story Hour - Gary the Police Therapy Dog!
DESCRIPTION:Join Miss Shelley\, Miss Twila\, and special guests from the Marion Police Department. Meet Gary the Police Therapy Dog\, hear some stories\, sing and dance\, and take home a fun craft! \nNOTICE: All participants and parents understand and agree that photos taken at library events may be used in social media postings and future promotions.
URL:https://www.marioncarnegielibrary.org/event/story-hour-gary-the-police-therapy-dog-2/
LOCATION:Marion Carnegie Library\, 206 S Market St\, Marion\, IL\, 62959\, US
CATEGORIES:Children's Department
ATTACH;FMTTYPE=image/jpeg:https://www.marioncarnegielibrary.org/wp-content/uploads/2022/04/20087_image_278818458_10158314878501561_1512953297496463555_n.jpg
END:VEVENT
BEGIN:VEVENT
DTSTART;TZID=America/Chicago:20220527T100000
DTEND;TZID=America/Chicago:20220527T120000
DTSTAMP:20260424T220515
CREATED:20220419T191900Z
LAST-MODIFIED:20220419T191900Z
UID:20068-1653645600-1653652800@www.marioncarnegielibrary.org
SUMMARY:Playroom Playdate
DESCRIPTION:Come meet new friends in our Mariella Aikman Playroom in the library’s Children’s Department!\nBring the kiddos and enjoy puppets\, toys\, games\, and – of course – books! \nNOTICE: All participants and parents understand and agree that photos taken at library events may be used in social media postings and future promotions.
URL:https://www.marioncarnegielibrary.org/event/playroom-playdate-9/
LOCATION:Marion Carnegie Library\, 206 S Market St\, Marion\, IL\, 62959\, US
CATEGORIES:Children's Department
ATTACH;FMTTYPE=image/jpeg:https://www.marioncarnegielibrary.org/wp-content/uploads/2022/04/20064_image_278676765_10158314839391561_4527110734615985370_n.jpg
END:VEVENT
BEGIN:VEVENT
DTSTART;TZID=America/Chicago:20220528T090000
DTEND;TZID=America/Chicago:20220720T170000
DTSTAMP:20260424T220515
CREATED:20220419T222439Z
LAST-MODIFIED:20220629T150847Z
UID:20091-1653728400-1658336400@www.marioncarnegielibrary.org
SUMMARY:Where's Waldo? - Summer Reading Scavenger Hunt
DESCRIPTION:Start at Marion Carnegie Library and explore Marion while uncovering a word-puzzle mystery! \nPick up your Scavenger Hunt Puzzle and Clue page in the MCL Children’s Department. After you have followed the clues and solved the puzzle\, return the page to the Children’s Department for a Where’s Waldo button!
URL:https://www.marioncarnegielibrary.org/event/wheres-waldo-summer-reading-scavenger-hunt/
LOCATION:Marion Carnegie Library\, 206 S Market St\, Marion\, IL\, 62959\, US
CATEGORIES:Children's Department
ATTACH;FMTTYPE=image/png:https://www.marioncarnegielibrary.org/wp-content/uploads/2022/04/Header-SR-Wheres-Waldo-Scavenger-Hunt.png-No-Date.png
END:VEVENT
BEGIN:VEVENT
DTSTART;TZID=America/Chicago:20220528T130000
DTEND;TZID=America/Chicago:20220528T153000
DTSTAMP:20260424T220515
CREATED:20220419T191903Z
LAST-MODIFIED:20220419T191903Z
UID:20073-1653742800-1653751800@www.marioncarnegielibrary.org
SUMMARY:MCL Tween Movie
DESCRIPTION:Join us in the Tween Zone of the Children’s Department each week to watch a featured film!\nFor ages 8 to 12.  \nNOTICE:  All participants and parents understand and agree that photos taken at the event may be used in social media postings and future promotions.
URL:https://www.marioncarnegielibrary.org/event/mcl-tween-movie-11/
LOCATION:Marion Carnegie Library\, 206 S Market St\, Marion\, IL\, 62959\, US
CATEGORIES:Children's Department
ATTACH;FMTTYPE=image/jpeg:https://www.marioncarnegielibrary.org/wp-content/uploads/2022/04/20069_image_278563202_10158314842591561_6415958099320320376_n.jpg
END:VEVENT
BEGIN:VEVENT
DTSTART;TZID=America/Chicago:20220531T160000
DTEND;TZID=America/Chicago:20220531T160000
DTSTAMP:20260424T220515
CREATED:20220419T194148Z
LAST-MODIFIED:20220419T194148Z
UID:20076-1654012800-1654012800@www.marioncarnegielibrary.org
SUMMARY:Animal Tales: Animal Science at The Hub
DESCRIPTION:Is a dolphin a fish? Is a snake a mammal? Join “Animal Tales” to find out how to classify an animal.  \nDuring the “Animal Science” program you will meet an exotic mammal\, bird\, reptile\, amphibian\, insect\, and arachnid.  \nWhat animals will be in each class? You will have to join us to find out! We look forward to seeing you there!
URL:https://www.marioncarnegielibrary.org/event/animal-tales-animal-science-at-the-hub/
LOCATION:The HUB Recreation Center\, 917 W. Main Street\, Marion\, IL\, 62959\, US
CATEGORIES:Children's Department
ATTACH;FMTTYPE=image/jpeg:https://www.marioncarnegielibrary.org/wp-content/uploads/2022/04/20076_image_278704284_10158314880926561_1938439617318138105_n.jpg
END:VEVENT
BEGIN:VEVENT
DTSTART;TZID=America/Chicago:20220601T103000
DTEND;TZID=America/Chicago:20220601T103000
DTSTAMP:20260424T220515
CREATED:20220520T211237Z
LAST-MODIFIED:20220520T211237Z
UID:20348-1654079400-1654079400@www.marioncarnegielibrary.org
SUMMARY:Story Hour with Marion Garden Club
DESCRIPTION:Join Marion Carnegie Library and the Marion Garden Club at The Pavilion and read some stories\, sing and dance\, and make an awesome craft! \nNOTICE: All participants and parents understand and agree that photos taken at library events may be used in social media postings and future promotions.
URL:https://www.marioncarnegielibrary.org/event/story-hour-with-marion-garden-club/
LOCATION:The Pavilion Events\, 1602 Sioux Dr\, Marion\, IL\, 62959\, US
CATEGORIES:Children's Department
ATTACH;FMTTYPE=image/jpeg:https://www.marioncarnegielibrary.org/wp-content/uploads/2022/05/20348_image_283264541_10158363429411561_2903516606556391596_n.jpg
END:VEVENT
END:VCALENDAR