BEGIN:VCALENDAR
VERSION:2.0
PRODID:-//Marion Carnegie Library | 618-993-5935 - ECPv6.15.12.2//NONSGML v1.0//EN
CALSCALE:GREGORIAN
METHOD:PUBLISH
X-WR-CALNAME:Marion Carnegie Library | 618-993-5935
X-ORIGINAL-URL:https://www.marioncarnegielibrary.org
X-WR-CALDESC:Events for Marion Carnegie Library | 618-993-5935
REFRESH-INTERVAL;VALUE=DURATION:PT1H
X-Robots-Tag:noindex
X-PUBLISHED-TTL:PT1H
BEGIN:VTIMEZONE
TZID:America/Chicago
BEGIN:DAYLIGHT
TZOFFSETFROM:-0600
TZOFFSETTO:-0500
TZNAME:CDT
DTSTART:20230312T080000
END:DAYLIGHT
BEGIN:STANDARD
TZOFFSETFROM:-0500
TZOFFSETTO:-0600
TZNAME:CST
DTSTART:20231105T070000
END:STANDARD
BEGIN:DAYLIGHT
TZOFFSETFROM:-0600
TZOFFSETTO:-0500
TZNAME:CDT
DTSTART:20240310T080000
END:DAYLIGHT
BEGIN:STANDARD
TZOFFSETFROM:-0500
TZOFFSETTO:-0600
TZNAME:CST
DTSTART:20241103T070000
END:STANDARD
BEGIN:DAYLIGHT
TZOFFSETFROM:-0600
TZOFFSETTO:-0500
TZNAME:CDT
DTSTART:20250309T080000
END:DAYLIGHT
BEGIN:STANDARD
TZOFFSETFROM:-0500
TZOFFSETTO:-0600
TZNAME:CST
DTSTART:20251102T070000
END:STANDARD
END:VTIMEZONE
BEGIN:VEVENT
DTSTART;TZID=America/Chicago:20240625T100000
DTEND;TZID=America/Chicago:20240625T120000
DTSTAMP:20260424T152153
CREATED:20240520T144759Z
LAST-MODIFIED:20240520T144759Z
UID:25099-1719309600-1719316800@www.marioncarnegielibrary.org
SUMMARY:Playroom Playdate
DESCRIPTION:Meet new friends in MCL’s Mariella Aikman Playroom in the library’s Children’s Department! Bring the kiddos and enjoy puppets\, toys\, games\, and – of course – books! \nVisit Playroom Playdate on Tuesday mornings AND Thursday evenings! \nNOTICE: All participants and parents understand and agree that photos taken at library events may be used in social media postings and future promotions. \nChildren 10 years old and younger must be accompanied by a guardian at all times while attending MCL Children’s Department events.
URL:https://www.marioncarnegielibrary.org/event/playroom-playdate-123/
LOCATION:Marion Carnegie Library\, 206 S Market St\, Marion\, IL\, 62959\, US
CATEGORIES:Children's Department
ATTACH;FMTTYPE=image/jpeg:https://www.marioncarnegielibrary.org/wp-content/uploads/2024/03/24630_image_433321612_821702939996520_1464837870926854522_n.jpg
END:VEVENT
BEGIN:VEVENT
DTSTART;TZID=America/Chicago:20240625T173000
DTEND;TZID=America/Chicago:20240625T183000
DTSTAMP:20260424T152153
CREATED:20240517T202406Z
LAST-MODIFIED:20240517T202406Z
UID:25090-1719336600-1719340200@www.marioncarnegielibrary.org
SUMMARY:Animal Tales - Zoofari Earth with Marion Carnegie Library
DESCRIPTION:Join Marion Carnegie Library and Animal Tales for Zoofari Earth at The Pavilion in Marion! We’ll take a trip around the globe with six different exotic animal ambassadors from six different continents! \nThis event is completely free – no library card is required! Space is limited\, so arrive early! \nNOTICE: All participants and parents understand and agree that photos taken at library events may be used in social media postings and future promotions.
URL:https://www.marioncarnegielibrary.org/event/animal-tales-zoofari-earth-with-marion-carnegie-library/
LOCATION:The Pavilion Events\, 1602 Sioux Dr\, Marion\, IL\, 62959\, US
CATEGORIES:Children's Department
ATTACH;FMTTYPE=image/jpeg:https://www.marioncarnegielibrary.org/wp-content/uploads/2024/05/25090_image_444763517_862682369231910_5591786528022285237_n.jpg
END:VEVENT
END:VCALENDAR