BEGIN:VCALENDAR
VERSION:2.0
PRODID:-//Marion Carnegie Library | 618-993-5935 - ECPv6.15.12.2//NONSGML v1.0//EN
CALSCALE:GREGORIAN
METHOD:PUBLISH
X-ORIGINAL-URL:https://www.marioncarnegielibrary.org
X-WR-CALDESC:Events for Marion Carnegie Library | 618-993-5935
REFRESH-INTERVAL;VALUE=DURATION:PT1H
X-Robots-Tag:noindex
X-PUBLISHED-TTL:PT1H
BEGIN:VTIMEZONE
TZID:America/Chicago
BEGIN:DAYLIGHT
TZOFFSETFROM:-0600
TZOFFSETTO:-0500
TZNAME:CDT
DTSTART:20230312T080000
END:DAYLIGHT
BEGIN:STANDARD
TZOFFSETFROM:-0500
TZOFFSETTO:-0600
TZNAME:CST
DTSTART:20231105T070000
END:STANDARD
BEGIN:DAYLIGHT
TZOFFSETFROM:-0600
TZOFFSETTO:-0500
TZNAME:CDT
DTSTART:20240310T080000
END:DAYLIGHT
BEGIN:STANDARD
TZOFFSETFROM:-0500
TZOFFSETTO:-0600
TZNAME:CST
DTSTART:20241103T070000
END:STANDARD
BEGIN:DAYLIGHT
TZOFFSETFROM:-0600
TZOFFSETTO:-0500
TZNAME:CDT
DTSTART:20250309T080000
END:DAYLIGHT
BEGIN:STANDARD
TZOFFSETFROM:-0500
TZOFFSETTO:-0600
TZNAME:CST
DTSTART:20251102T070000
END:STANDARD
END:VTIMEZONE
BEGIN:VEVENT
DTSTART;TZID=America/Chicago:20240110T103000
DTEND;TZID=America/Chicago:20240110T113000
DTSTAMP:20260424T082313
CREATED:20231218T193637Z
LAST-MODIFIED:20231218T193637Z
UID:24062-1704882600-1704886200@www.marioncarnegielibrary.org
SUMMARY:MCL Story Hour - Hot Chocolate
DESCRIPTION:Warm up with a mug of MCL Story Hour! Bring the kiddos to read about hot chocolate with Miss Shelley and Miss Twila\, sing\, dance\, and take home a fun craft! \nThis event is free and intended for younger children. \nNOTICE: All participants and parents understand and agree that photos taken at library events may be used in social media postings and future promotions. \nChildren 10 years old and younger must be accompanied by a guardian at all times while attending MCL Children’s Department events.
URL:https://www.marioncarnegielibrary.org/event/mcl-story-hour-hot-chocolate-2/
LOCATION:Marion Carnegie Library\, 206 S Market St\, Marion\, IL\, 62959\, US
CATEGORIES:Children's Department
ATTACH;FMTTYPE=image/jpeg:https://www.marioncarnegielibrary.org/wp-content/uploads/2023/12/24060_image_412235459_765907362242745_4513111596473343426_n.jpg
END:VEVENT
END:VCALENDAR