BEGIN:VCALENDAR
VERSION:2.0
PRODID:-//Marion Carnegie Library | 618-993-5935 - ECPv6.15.12.2//NONSGML v1.0//EN
CALSCALE:GREGORIAN
METHOD:PUBLISH
X-WR-CALNAME:Marion Carnegie Library | 618-993-5935
X-ORIGINAL-URL:https://www.marioncarnegielibrary.org
X-WR-CALDESC:Events for Marion Carnegie Library | 618-993-5935
REFRESH-INTERVAL;VALUE=DURATION:PT1H
X-Robots-Tag:noindex
X-PUBLISHED-TTL:PT1H
BEGIN:VTIMEZONE
TZID:America/New_York
BEGIN:DAYLIGHT
TZOFFSETFROM:-0500
TZOFFSETTO:-0400
TZNAME:EDT
DTSTART:20220313T070000
END:DAYLIGHT
BEGIN:STANDARD
TZOFFSETFROM:-0400
TZOFFSETTO:-0500
TZNAME:EST
DTSTART:20221106T060000
END:STANDARD
BEGIN:DAYLIGHT
TZOFFSETFROM:-0500
TZOFFSETTO:-0400
TZNAME:EDT
DTSTART:20230312T070000
END:DAYLIGHT
BEGIN:STANDARD
TZOFFSETFROM:-0400
TZOFFSETTO:-0500
TZNAME:EST
DTSTART:20231105T060000
END:STANDARD
BEGIN:DAYLIGHT
TZOFFSETFROM:-0500
TZOFFSETTO:-0400
TZNAME:EDT
DTSTART:20240310T070000
END:DAYLIGHT
BEGIN:STANDARD
TZOFFSETFROM:-0400
TZOFFSETTO:-0500
TZNAME:EST
DTSTART:20241103T060000
END:STANDARD
END:VTIMEZONE
BEGIN:VEVENT
DTSTART;TZID=America/New_York:20230605T123000
DTEND;TZID=America/New_York:20230605T143000
DTSTAMP:20260422T030553
CREATED:20230516T183401Z
LAST-MODIFIED:20230516T183401Z
UID:22860-1685968200-1685975400@www.marioncarnegielibrary.org
SUMMARY:Extreme Kids Bounce Party with MCL
DESCRIPTION:Marion Carnegie Library’s Children’s Department invites you to bring the kiddos to Extreme Kids in Marion for a fun\, FREE bounce party.  \nBeginning Monday\, May 22\, visit MCL’s Children’s Department to pick up your Extreme Kids Bounce Party tickets (and sign up for Summer Reading challenges while you’re at it). \nThis program is totally free and open to ages 0 – 12. Registration is required. \nNOTICE: All participants and parents understand and agree that photos taken at library events may be used in social media postings and future promotions.
URL:https://www.marioncarnegielibrary.org/event/extreme-kids-bounce-party-with-mcl/
LOCATION:Extreme Kids\, 1109 N Railroad St\, Marion\, IL\, 62959\, US
CATEGORIES:Children's Department
ATTACH;FMTTYPE=image/jpeg:https://www.marioncarnegielibrary.org/wp-content/uploads/2023/05/22860_image_347135632_3450228438583111_7645343962823906235_n.jpg
END:VEVENT
END:VCALENDAR