BEGIN:VCALENDAR
VERSION:2.0
PRODID:-//Marion Carnegie Library | 618-993-5935 - ECPv6.15.12.2//NONSGML v1.0//EN
CALSCALE:GREGORIAN
METHOD:PUBLISH
X-ORIGINAL-URL:https://www.marioncarnegielibrary.org
X-WR-CALDESC:Events for Marion Carnegie Library | 618-993-5935
REFRESH-INTERVAL;VALUE=DURATION:PT1H
X-Robots-Tag:noindex
X-PUBLISHED-TTL:PT1H
BEGIN:VTIMEZONE
TZID:America/New_York
BEGIN:DAYLIGHT
TZOFFSETFROM:-0500
TZOFFSETTO:-0400
TZNAME:EDT
DTSTART:20220313T070000
END:DAYLIGHT
BEGIN:STANDARD
TZOFFSETFROM:-0400
TZOFFSETTO:-0500
TZNAME:EST
DTSTART:20221106T060000
END:STANDARD
BEGIN:DAYLIGHT
TZOFFSETFROM:-0500
TZOFFSETTO:-0400
TZNAME:EDT
DTSTART:20230312T070000
END:DAYLIGHT
BEGIN:STANDARD
TZOFFSETFROM:-0400
TZOFFSETTO:-0500
TZNAME:EST
DTSTART:20231105T060000
END:STANDARD
BEGIN:DAYLIGHT
TZOFFSETFROM:-0500
TZOFFSETTO:-0400
TZNAME:EDT
DTSTART:20240310T070000
END:DAYLIGHT
BEGIN:STANDARD
TZOFFSETFROM:-0400
TZOFFSETTO:-0500
TZNAME:EST
DTSTART:20241103T060000
END:STANDARD
END:VTIMEZONE
BEGIN:VEVENT
DTSTART;TZID=America/New_York:20230518T103000
DTEND;TZID=America/New_York:20230518T113000
DTSTAMP:20260422T030812
CREATED:20230421T162911Z
LAST-MODIFIED:20230421T162911Z
UID:22662-1684405800-1684409400@www.marioncarnegielibrary.org
SUMMARY:MCL Story Hour - Baby Shark!
DESCRIPTION:Doo-Doo-Doo-Doo-Doo-Doo!  \nEnjoy some Baby Shark stories\, crafts\, and – of course – dancing! And don’t miss the chance to take photos with Baby Shark himself at this extra special story hour! Mitchell Brown will be our special guest reader! \nThis event is free and intended for younger children. \nNOTICE: All participants and parents understand and agree that photos taken at library events may be used in social media postings and future promotions. \nChildren 10 years old and younger must be accompanied by a guardian at all times while attending MCL Children’s Department events.
URL:https://www.marioncarnegielibrary.org/event/mcl-story-hour-baby-shark/
LOCATION:Marion Carnegie Library\, 206 S Market St\, Marion\, IL\, 62959\, US
CATEGORIES:Children's Department
ATTACH;FMTTYPE=image/jpeg:https://www.marioncarnegielibrary.org/wp-content/uploads/2023/04/22662_image_342503229_191789193206612_3106344801639901866_n.jpg
END:VEVENT
BEGIN:VEVENT
DTSTART;TZID=America/New_York:20230518T150000
DTEND;TZID=America/New_York:20230518T190000
DTSTAMP:20260422T030812
CREATED:20230421T165718Z
LAST-MODIFIED:20230426T193423Z
UID:22675-1684422000-1684436400@www.marioncarnegielibrary.org
SUMMARY:MCL Epic Builder's Club!
DESCRIPTION:Celebrate Third Thursday in the City of Marion with this edition of MCL’s Epic Builder’s Club! Bring your friends and create anything you can imagine! \nFor ages birth to 12. \nNOTICE: All participants and parents understand and agree that photos taken at the event may be used in social media postings and future promotions. \nChildren 10 years old and younger must be accompanied by a guardian at all times while attending MCL Children’s Department events.
URL:https://www.marioncarnegielibrary.org/event/mcl-epic-builders-club/
LOCATION:Marion Carnegie Library\, 206 S Market St\, Marion\, IL\, 62959\, US
CATEGORIES:Children's Department
ATTACH;FMTTYPE=image/jpeg:https://www.marioncarnegielibrary.org/wp-content/uploads/2023/04/22675_image_342042066_1395499381248201_1384684621777193894_n.jpg
END:VEVENT
END:VCALENDAR