BEGIN:VCALENDAR
VERSION:2.0
PRODID:-//Marion Carnegie Library | 618-993-5935 - ECPv6.15.12.2//NONSGML v1.0//EN
CALSCALE:GREGORIAN
METHOD:PUBLISH
X-WR-CALNAME:Marion Carnegie Library | 618-993-5935
X-ORIGINAL-URL:https://www.marioncarnegielibrary.org
X-WR-CALDESC:Events for Marion Carnegie Library | 618-993-5935
REFRESH-INTERVAL;VALUE=DURATION:PT1H
X-Robots-Tag:noindex
X-PUBLISHED-TTL:PT1H
BEGIN:VTIMEZONE
TZID:America/Chicago
BEGIN:DAYLIGHT
TZOFFSETFROM:-0600
TZOFFSETTO:-0500
TZNAME:CDT
DTSTART:20220313T080000
END:DAYLIGHT
BEGIN:STANDARD
TZOFFSETFROM:-0500
TZOFFSETTO:-0600
TZNAME:CST
DTSTART:20221106T070000
END:STANDARD
BEGIN:DAYLIGHT
TZOFFSETFROM:-0600
TZOFFSETTO:-0500
TZNAME:CDT
DTSTART:20230312T080000
END:DAYLIGHT
BEGIN:STANDARD
TZOFFSETFROM:-0500
TZOFFSETTO:-0600
TZNAME:CST
DTSTART:20231105T070000
END:STANDARD
BEGIN:DAYLIGHT
TZOFFSETFROM:-0600
TZOFFSETTO:-0500
TZNAME:CDT
DTSTART:20240310T080000
END:DAYLIGHT
BEGIN:STANDARD
TZOFFSETFROM:-0500
TZOFFSETTO:-0600
TZNAME:CST
DTSTART:20241103T070000
END:STANDARD
END:VTIMEZONE
BEGIN:VEVENT
DTSTART;TZID=America/Chicago:20230123T133000
DTEND;TZID=America/Chicago:20230123T140000
DTSTAMP:20260424T075728
CREATED:20221216T164311Z
LAST-MODIFIED:20221216T164311Z
UID:21715-1674480600-1674482400@www.marioncarnegielibrary.org
SUMMARY:EatPlayGrow™ at Marion Carnegie Library
DESCRIPTION:Join MCL and the University of Illinois Cooperative Extension Service for this fun program on healthy choices using art\, stories\, and music! \nThere’s new fun at each edition of EatPlayGrow™ so come as often as you can! \nRegistration is encouraged\, and you can register in the MCL Children’s Department or by phone at 618-993-5935. \nThis event is completely free and no library card is necessary. \nChildren 10 years old and younger must be accompanied by a guardian at all times while attending MCL Children’s Department events. \nNOTICE: All participants and parents understand and agree that photos taken at library events may be used in social media postings and future promotions.
URL:https://www.marioncarnegielibrary.org/event/eatplaygrow-at-marion-carnegie-library-6/
LOCATION:Marion Carnegie Library\, 206 S Market St\, Marion\, IL\, 62959\, US
CATEGORIES:Children's Department
ATTACH;FMTTYPE=image/jpeg:https://www.marioncarnegielibrary.org/wp-content/uploads/2022/12/21715_image_320332162_689445739254903_244547412692001352_n.jpg
END:VEVENT
BEGIN:VEVENT
DTSTART;TZID=America/Chicago:20230123T173000
DTEND;TZID=America/Chicago:20230123T190000
DTSTAMP:20260424T075728
CREATED:20221216T164309Z
LAST-MODIFIED:20221216T164309Z
UID:21713-1674495000-1674500400@www.marioncarnegielibrary.org
SUMMARY:MCL Builder's Club
DESCRIPTION:MCL Lego Club is now Builder’s Club! Join us at Marion Carnegie Library and create whatever you can imagine. Don’t forget to bring your friends! \nFor ages birth to 12. \nNOTICE: All participants and parents understand and agree that photos taken at the event may be used in social media postings and future promotions. \nChildren 10 years old and younger must be accompanied by a guardian at all times while attending MCL Children’s Department events.
URL:https://www.marioncarnegielibrary.org/event/mcl-builders-club-2/
LOCATION:Marion Carnegie Library\, 206 S Market St\, Marion\, IL\, 62959\, US
CATEGORIES:Children's Department
ATTACH;FMTTYPE=image/jpeg:https://www.marioncarnegielibrary.org/wp-content/uploads/2022/12/21713_image_320234488_900313334471453_3671593153798243530_n.jpg
END:VEVENT
END:VCALENDAR