BEGIN:VCALENDAR
VERSION:2.0
PRODID:-//Marion Carnegie Library | 618-993-5935 - ECPv6.15.12.2//NONSGML v1.0//EN
CALSCALE:GREGORIAN
METHOD:PUBLISH
X-ORIGINAL-URL:https://www.marioncarnegielibrary.org
X-WR-CALDESC:Events for Marion Carnegie Library | 618-993-5935
REFRESH-INTERVAL;VALUE=DURATION:PT1H
X-Robots-Tag:noindex
X-PUBLISHED-TTL:PT1H
BEGIN:VTIMEZONE
TZID:America/Chicago
BEGIN:DAYLIGHT
TZOFFSETFROM:-0600
TZOFFSETTO:-0500
TZNAME:CDT
DTSTART:20210314T080000
END:DAYLIGHT
BEGIN:STANDARD
TZOFFSETFROM:-0500
TZOFFSETTO:-0600
TZNAME:CST
DTSTART:20211107T070000
END:STANDARD
BEGIN:DAYLIGHT
TZOFFSETFROM:-0600
TZOFFSETTO:-0500
TZNAME:CDT
DTSTART:20220313T080000
END:DAYLIGHT
BEGIN:STANDARD
TZOFFSETFROM:-0500
TZOFFSETTO:-0600
TZNAME:CST
DTSTART:20221106T070000
END:STANDARD
BEGIN:DAYLIGHT
TZOFFSETFROM:-0600
TZOFFSETTO:-0500
TZNAME:CDT
DTSTART:20230312T080000
END:DAYLIGHT
BEGIN:STANDARD
TZOFFSETFROM:-0500
TZOFFSETTO:-0600
TZNAME:CST
DTSTART:20231105T070000
END:STANDARD
END:VTIMEZONE
BEGIN:VEVENT
DTSTART;TZID=America/Chicago:20221215T103000
DTEND;TZID=America/Chicago:20221215T113000
DTSTAMP:20260424T093047
CREATED:20221118T210715Z
LAST-MODIFIED:20221118T210715Z
UID:21558-1671100200-1671103800@www.marioncarnegielibrary.org
SUMMARY:Story Hour - Reindeer
DESCRIPTION:Read exciting reindeer stories\, sing and dance\, then stay to make a nifty reindeer hat!  \nThis event is free and intended for younger children. \nNOTICE: All participants and parents understand and agree that photos taken at library events may be used in social media postings and future promotions. \nChildren 10 years old and younger must be accompanied by a guardian at all times while attending MCL Children’s Department events.
URL:https://www.marioncarnegielibrary.org/event/story-hour-reindeer/
LOCATION:Marion Carnegie Library\, 206 S Market St\, Marion\, IL\, 62959\, US
CATEGORIES:Children's Department
ATTACH;FMTTYPE=image/jpeg:https://www.marioncarnegielibrary.org/wp-content/uploads/2022/11/21558_image_315070672_509447997888684_385088036729810428_n.jpg
END:VEVENT
BEGIN:VEVENT
DTSTART;TZID=America/Chicago:20221215T133000
DTEND;TZID=America/Chicago:20221215T140000
DTSTAMP:20260424T093047
CREATED:20221118T205656Z
LAST-MODIFIED:20221118T205656Z
UID:21549-1671111000-1671112800@www.marioncarnegielibrary.org
SUMMARY:EatPlayGrow™ at Marion Carnegie Library
DESCRIPTION:Join MCL and the University of Illinois Cooperative Extension Service for this fun program on healthy choices using art\, stories\, and music! \nThere’s new fun at each edition of EatPlayGrow™ so come as often as you can! \nRegistration is encouraged\, and you can register in the MCL Children’s Department or by phone at 618-993-5935. \nThis event is completely free and no library card is necessary. \nChildren 10 years old and younger must be accompanied by a guardian at all times while attending MCL Children’s Department events. \nNOTICE: All participants and parents understand and agree that photos taken at library events may be used in social media postings and future promotions.
URL:https://www.marioncarnegielibrary.org/event/eatplaygrow-at-marion-carnegie-library-5/
LOCATION:Marion Carnegie Library\, 206 S Market St\, Marion\, IL\, 62959\, US
CATEGORIES:Children's Department
ATTACH;FMTTYPE=image/jpeg:https://www.marioncarnegielibrary.org/wp-content/uploads/2022/11/21549_image_315945624_509438154556335_4239547218254781767_n.jpg
END:VEVENT
END:VCALENDAR