BEGIN:VCALENDAR
VERSION:2.0
PRODID:-//Marion Carnegie Library | 618-993-5935 - ECPv6.15.12.2//NONSGML v1.0//EN
CALSCALE:GREGORIAN
METHOD:PUBLISH
X-WR-CALNAME:Marion Carnegie Library | 618-993-5935
X-ORIGINAL-URL:https://www.marioncarnegielibrary.org
X-WR-CALDESC:Events for Marion Carnegie Library | 618-993-5935
REFRESH-INTERVAL;VALUE=DURATION:PT1H
X-Robots-Tag:noindex
X-PUBLISHED-TTL:PT1H
BEGIN:VTIMEZONE
TZID:America/Chicago
BEGIN:DAYLIGHT
TZOFFSETFROM:-0600
TZOFFSETTO:-0500
TZNAME:CDT
DTSTART:20210314T080000
END:DAYLIGHT
BEGIN:STANDARD
TZOFFSETFROM:-0500
TZOFFSETTO:-0600
TZNAME:CST
DTSTART:20211107T070000
END:STANDARD
BEGIN:DAYLIGHT
TZOFFSETFROM:-0600
TZOFFSETTO:-0500
TZNAME:CDT
DTSTART:20220313T080000
END:DAYLIGHT
BEGIN:STANDARD
TZOFFSETFROM:-0500
TZOFFSETTO:-0600
TZNAME:CST
DTSTART:20221106T070000
END:STANDARD
BEGIN:DAYLIGHT
TZOFFSETFROM:-0600
TZOFFSETTO:-0500
TZNAME:CDT
DTSTART:20230312T080000
END:DAYLIGHT
BEGIN:STANDARD
TZOFFSETFROM:-0500
TZOFFSETTO:-0600
TZNAME:CST
DTSTART:20231105T070000
END:STANDARD
END:VTIMEZONE
BEGIN:VEVENT
DTSTART;TZID=America/Chicago:20221208T103000
DTEND;TZID=America/Chicago:20221208T113000
DTSTAMP:20260424T092812
CREATED:20221118T210717Z
LAST-MODIFIED:20221118T210717Z
UID:21561-1670495400-1670499000@www.marioncarnegielibrary.org
SUMMARY:Story Hour - Christmas Carols
DESCRIPTION:Read Christmas Carol books and sing some fun Christmas Carols with local groups! We’ll be joined by the Marion High School Madrigals on Wednesday\, December 7\, and by the Marion Junior High School Jazz Choir on Thursday\, December 8! \nA take-home craft will be available each day. \nThis event is free and intended for younger children. \nNOTICE: All participants and parents understand and agree that photos taken at library events may be used in social media postings and future promotions. \nChildren 10 years old and younger must be accompanied by a guardian at all times while attending MCL Children’s Department events.
URL:https://www.marioncarnegielibrary.org/event/story-hour-christmas-carols/
LOCATION:Marion Carnegie Library\, 206 S Market St\, Marion\, IL\, 62959\, US
CATEGORIES:Children's Department
ATTACH;FMTTYPE=image/jpeg:https://www.marioncarnegielibrary.org/wp-content/uploads/2022/11/21561_image_315760260_509447501222067_7823670462571630663_n.jpg
END:VEVENT
BEGIN:VEVENT
DTSTART;TZID=America/Chicago:20221208T170000
DTEND;TZID=America/Chicago:20221208T190000
DTSTAMP:20260424T092812
CREATED:20221122T210903Z
LAST-MODIFIED:20221122T210903Z
UID:21571-1670518800-1670526000@www.marioncarnegielibrary.org
SUMMARY:MCL's Very Merry Children's Holiday Crafts
DESCRIPTION:Bring the family to MCL to create holiday memories – and some crafts! \nThe library’s Children’s Department provides all the materials you’ll need to make Origami Tree Bookmarks\, Pop-Up Gingerbread Cards\, Letters to Santa\, and Star of David Popsicle Stick Crafts. \nWhile you’re at the library\, visit the Main Floor to enjoy some cocoa – only $1 at Carnegie Commons – and caroling. \nNOTICE: All participants and parents understand and agree that photos taken at library events may be used in social media postings and future promotions.
URL:https://www.marioncarnegielibrary.org/event/mcls-very-merry-childrens-holiday-crafts/
LOCATION:Marion Carnegie Library\, 206 S Market St\, Marion\, IL\, 62959\, US
CATEGORIES:Children's Department
ATTACH;FMTTYPE=image/jpeg:https://www.marioncarnegielibrary.org/wp-content/uploads/2022/11/21571_image_316063848_512379157595568_3729062319026157346_n.jpg
END:VEVENT
END:VCALENDAR