BEGIN:VCALENDAR
VERSION:2.0
PRODID:-//Marion Carnegie Library | 618-993-5935 - ECPv6.15.12.2//NONSGML v1.0//EN
CALSCALE:GREGORIAN
METHOD:PUBLISH
X-WR-CALNAME:Marion Carnegie Library | 618-993-5935
X-ORIGINAL-URL:https://www.marioncarnegielibrary.org
X-WR-CALDESC:Events for Marion Carnegie Library | 618-993-5935
REFRESH-INTERVAL;VALUE=DURATION:PT1H
X-Robots-Tag:noindex
X-PUBLISHED-TTL:PT1H
BEGIN:VTIMEZONE
TZID:America/Chicago
BEGIN:DAYLIGHT
TZOFFSETFROM:-0600
TZOFFSETTO:-0500
TZNAME:CDT
DTSTART:20210314T080000
END:DAYLIGHT
BEGIN:STANDARD
TZOFFSETFROM:-0500
TZOFFSETTO:-0600
TZNAME:CST
DTSTART:20211107T070000
END:STANDARD
BEGIN:DAYLIGHT
TZOFFSETFROM:-0600
TZOFFSETTO:-0500
TZNAME:CDT
DTSTART:20220313T080000
END:DAYLIGHT
BEGIN:STANDARD
TZOFFSETFROM:-0500
TZOFFSETTO:-0600
TZNAME:CST
DTSTART:20221106T070000
END:STANDARD
BEGIN:DAYLIGHT
TZOFFSETFROM:-0600
TZOFFSETTO:-0500
TZNAME:CDT
DTSTART:20230312T080000
END:DAYLIGHT
BEGIN:STANDARD
TZOFFSETFROM:-0500
TZOFFSETTO:-0600
TZNAME:CST
DTSTART:20231105T070000
END:STANDARD
END:VTIMEZONE
BEGIN:VEVENT
DTSTART;TZID=America/Chicago:20221104T090000
DTEND;TZID=America/Chicago:20221104T170000
DTSTAMP:20260424T105416
CREATED:20221021T212056Z
LAST-MODIFIED:20221021T212056Z
UID:21331-1667552400-1667581200@www.marioncarnegielibrary.org
SUMMARY:MCL Grab-and-Go Tween Activity Pack
DESCRIPTION:Starting Friday\, November 4 – and while supplies last – pick up a cool activity pack in the MCL Children’s Department! \nKits are free and available to ages 8 – 12 on a first-come\, first-served basis. \nNOTICE: Children 10 years old and younger must be accompanied by a guardian at all times while attending MCL Children’s Department events.
URL:https://www.marioncarnegielibrary.org/event/mcl-grab-and-go-tween-activity-pack/
LOCATION:Marion Carnegie Library\, 206 S Market St\, Marion\, IL\, 62959\, US
CATEGORIES:Children's Department
ATTACH;FMTTYPE=image/jpeg:https://www.marioncarnegielibrary.org/wp-content/uploads/2022/10/21331_image_312375089_488626899970794_3910101339993940594_n.jpg
END:VEVENT
BEGIN:VEVENT
DTSTART;TZID=America/Chicago:20221104T100000
DTEND;TZID=America/Chicago:20221104T120000
DTSTAMP:20260424T105416
CREATED:20221024T204252Z
LAST-MODIFIED:20221024T204252Z
UID:21364-1667556000-1667563200@www.marioncarnegielibrary.org
SUMMARY:Playroom Playdate
DESCRIPTION:Come meet new friends in our Mariella Aikman Playroom in the library’s Children’s Department!\nBring the kiddos and enjoy puppets\, toys\, games\, and – of course – books! \nNOTICE: All participants and parents understand and agree that photos taken at library events may be used in social media postings and future promotions. \nChildren 10 years old and younger must be accompanied by a guardian at all times while attending MCL Children’s Department events.
URL:https://www.marioncarnegielibrary.org/event/playroom-playdate-33/
LOCATION:Marion Carnegie Library\, 206 S Market St\, Marion\, IL\, 62959\, US
CATEGORIES:Children's Department
ATTACH;FMTTYPE=image/jpeg:https://www.marioncarnegielibrary.org/wp-content/uploads/2022/10/21362_image_312209944_490958009737683_7184985433721808052_n.jpg
END:VEVENT
END:VCALENDAR