BEGIN:VCALENDAR
VERSION:2.0
PRODID:-//Marion Carnegie Library | 618-993-5935 - ECPv6.15.12.2//NONSGML v1.0//EN
CALSCALE:GREGORIAN
METHOD:PUBLISH
X-WR-CALNAME:Marion Carnegie Library | 618-993-5935
X-ORIGINAL-URL:https://www.marioncarnegielibrary.org
X-WR-CALDESC:Events for Marion Carnegie Library | 618-993-5935
REFRESH-INTERVAL;VALUE=DURATION:PT1H
X-Robots-Tag:noindex
X-PUBLISHED-TTL:PT1H
BEGIN:VTIMEZONE
TZID:America/Chicago
BEGIN:DAYLIGHT
TZOFFSETFROM:-0600
TZOFFSETTO:-0500
TZNAME:CDT
DTSTART:20210314T080000
END:DAYLIGHT
BEGIN:STANDARD
TZOFFSETFROM:-0500
TZOFFSETTO:-0600
TZNAME:CST
DTSTART:20211107T070000
END:STANDARD
BEGIN:DAYLIGHT
TZOFFSETFROM:-0600
TZOFFSETTO:-0500
TZNAME:CDT
DTSTART:20220313T080000
END:DAYLIGHT
BEGIN:STANDARD
TZOFFSETFROM:-0500
TZOFFSETTO:-0600
TZNAME:CST
DTSTART:20221106T070000
END:STANDARD
BEGIN:DAYLIGHT
TZOFFSETFROM:-0600
TZOFFSETTO:-0500
TZNAME:CDT
DTSTART:20230312T080000
END:DAYLIGHT
BEGIN:STANDARD
TZOFFSETFROM:-0500
TZOFFSETTO:-0600
TZNAME:CST
DTSTART:20231105T070000
END:STANDARD
END:VTIMEZONE
BEGIN:VEVENT
DTSTART;TZID=America/Chicago:20220528T090000
DTEND;TZID=America/Chicago:20220720T170000
DTSTAMP:20260424T160813
CREATED:20220419T222439Z
LAST-MODIFIED:20220629T150847Z
UID:20091-1653728400-1658336400@www.marioncarnegielibrary.org
SUMMARY:Where's Waldo? - Summer Reading Scavenger Hunt
DESCRIPTION:Start at Marion Carnegie Library and explore Marion while uncovering a word-puzzle mystery! \nPick up your Scavenger Hunt Puzzle and Clue page in the MCL Children’s Department. After you have followed the clues and solved the puzzle\, return the page to the Children’s Department for a Where’s Waldo button!
URL:https://www.marioncarnegielibrary.org/event/wheres-waldo-summer-reading-scavenger-hunt/
LOCATION:Marion Carnegie Library\, 206 S Market St\, Marion\, IL\, 62959\, US
CATEGORIES:Children's Department
ATTACH;FMTTYPE=image/png:https://www.marioncarnegielibrary.org/wp-content/uploads/2022/04/Header-SR-Wheres-Waldo-Scavenger-Hunt.png-No-Date.png
END:VEVENT
BEGIN:VEVENT
DTSTART;TZID=America/Chicago:20220720T110000
DTEND;TZID=America/Chicago:20220720T120000
DTSTAMP:20260424T160813
CREATED:20220617T195608Z
LAST-MODIFIED:20220617T195608Z
UID:20456-1658314800-1658318400@www.marioncarnegielibrary.org
SUMMARY:End of Summer Reading Swimming Party at The Hub
DESCRIPTION:Come swim at The Hub and bring your reading log for your end-of-summer prize bag!   \nRegistration is required. Sign up in the MCL Children’s Department starting July 6! \nNOTICE: All participants and parents understand and agree that photos taken at library events may be used in social media postings and future promotions.
URL:https://www.marioncarnegielibrary.org/event/end-of-summer-reading-swimming-party-at-the-hub/
LOCATION:The HUB Recreation Center\, 917 W. Main Street\, Marion\, IL\, 62959\, US
CATEGORIES:Children's Department
ATTACH;FMTTYPE=image/jpeg:https://www.marioncarnegielibrary.org/wp-content/uploads/2022/06/20456_image_288233047_10158410985581561_1488139986276518778_n.jpg
END:VEVENT
BEGIN:VEVENT
DTSTART;TZID=America/Chicago:20220720T120000
DTEND;TZID=America/Chicago:20220720T130000
DTSTAMP:20260424T160813
CREATED:20220617T195611Z
LAST-MODIFIED:20220617T195611Z
UID:20458-1658318400-1658322000@www.marioncarnegielibrary.org
SUMMARY:End of Summer Reading Swimming Party at The Hub
DESCRIPTION:Come swim at The Hub and bring your reading log for your end-of-summer prize bag!   \nRegistration is required. Sign up in the MCL Children’s Department starting July 6! \nNOTICE: All participants and parents understand and agree that photos taken at library events may be used in social media postings and future promotions.
URL:https://www.marioncarnegielibrary.org/event/end-of-summer-reading-swimming-party-at-the-hub-2/
LOCATION:The HUB Recreation Center\, 917 W. Main Street\, Marion\, IL\, 62959\, US
CATEGORIES:Children's Department
ATTACH;FMTTYPE=image/jpeg:https://www.marioncarnegielibrary.org/wp-content/uploads/2022/06/20456_image_288233047_10158410985581561_1488139986276518778_n.jpg
END:VEVENT
END:VCALENDAR