BEGIN:VCALENDAR
VERSION:2.0
PRODID:-//Marion Carnegie Library | 618-993-5935 - ECPv6.15.12.2//NONSGML v1.0//EN
CALSCALE:GREGORIAN
METHOD:PUBLISH
X-WR-CALNAME:Marion Carnegie Library | 618-993-5935
X-ORIGINAL-URL:https://www.marioncarnegielibrary.org
X-WR-CALDESC:Events for Marion Carnegie Library | 618-993-5935
REFRESH-INTERVAL;VALUE=DURATION:PT1H
X-Robots-Tag:noindex
X-PUBLISHED-TTL:PT1H
BEGIN:VTIMEZONE
TZID:America/Chicago
BEGIN:DAYLIGHT
TZOFFSETFROM:-0600
TZOFFSETTO:-0500
TZNAME:CDT
DTSTART:20210314T080000
END:DAYLIGHT
BEGIN:STANDARD
TZOFFSETFROM:-0500
TZOFFSETTO:-0600
TZNAME:CST
DTSTART:20211107T070000
END:STANDARD
BEGIN:DAYLIGHT
TZOFFSETFROM:-0600
TZOFFSETTO:-0500
TZNAME:CDT
DTSTART:20220313T080000
END:DAYLIGHT
BEGIN:STANDARD
TZOFFSETFROM:-0500
TZOFFSETTO:-0600
TZNAME:CST
DTSTART:20221106T070000
END:STANDARD
BEGIN:DAYLIGHT
TZOFFSETFROM:-0600
TZOFFSETTO:-0500
TZNAME:CDT
DTSTART:20230312T080000
END:DAYLIGHT
BEGIN:STANDARD
TZOFFSETFROM:-0500
TZOFFSETTO:-0600
TZNAME:CST
DTSTART:20231105T070000
END:STANDARD
END:VTIMEZONE
BEGIN:VEVENT
DTSTART;TZID=America/Chicago:20220506T090000
DTEND;TZID=America/Chicago:20220506T200000
DTSTAMP:20260424T191127
CREATED:20220419T191853Z
LAST-MODIFIED:20220419T191853Z
UID:20059-1651827600-1651867200@www.marioncarnegielibrary.org
SUMMARY:MCL Tween Grab-and-Go Activity Pack
DESCRIPTION:Drop by the Children’s Department and pick up a Grab & Go activity pack with quizzes\, coloring pages\, a scavenger hunt\, and more! \nSupplies are limited. For ages 8 to 12.
URL:https://www.marioncarnegielibrary.org/event/mcl-tween-grab-and-go-activity-pack/
LOCATION:Marion Carnegie Library\, 206 S Market St\, Marion\, IL\, 62959\, US
CATEGORIES:Children's Department
ATTACH;FMTTYPE=image/jpeg:https://www.marioncarnegielibrary.org/wp-content/uploads/2022/04/20059_image_278525550_10158314826121561_7033568074991091956_n.jpg
END:VEVENT
BEGIN:VEVENT
DTSTART;TZID=America/Chicago:20220506T100000
DTEND;TZID=America/Chicago:20220506T120000
DTSTAMP:20260424T191127
CREATED:20220419T191857Z
LAST-MODIFIED:20220419T191857Z
UID:20064-1651831200-1651838400@www.marioncarnegielibrary.org
SUMMARY:Playroom Playdate
DESCRIPTION:Come meet new friends in our Mariella Aikman Playroom in the library’s Children’s Department!\nBring the kiddos and enjoy puppets\, toys\, games\, and – of course – books! \nNOTICE: All participants and parents understand and agree that photos taken at library events may be used in social media postings and future promotions.
URL:https://www.marioncarnegielibrary.org/event/playroom-playdate-6/
LOCATION:Marion Carnegie Library\, 206 S Market St\, Marion\, IL\, 62959\, US
CATEGORIES:Children's Department
ATTACH;FMTTYPE=image/jpeg:https://www.marioncarnegielibrary.org/wp-content/uploads/2022/04/20064_image_278676765_10158314839391561_4527110734615985370_n.jpg
END:VEVENT
END:VCALENDAR