BEGIN:VCALENDAR
VERSION:2.0
PRODID:-//Marion Carnegie Library | 618-993-5935 - ECPv6.15.12.2//NONSGML v1.0//EN
CALSCALE:GREGORIAN
METHOD:PUBLISH
X-ORIGINAL-URL:https://www.marioncarnegielibrary.org
X-WR-CALDESC:Events for Marion Carnegie Library | 618-993-5935
REFRESH-INTERVAL;VALUE=DURATION:PT1H
X-Robots-Tag:noindex
X-PUBLISHED-TTL:PT1H
BEGIN:VTIMEZONE
TZID:America/New_York
BEGIN:DAYLIGHT
TZOFFSETFROM:-0500
TZOFFSETTO:-0400
TZNAME:EDT
DTSTART:20220313T070000
END:DAYLIGHT
BEGIN:STANDARD
TZOFFSETFROM:-0400
TZOFFSETTO:-0500
TZNAME:EST
DTSTART:20221106T060000
END:STANDARD
BEGIN:DAYLIGHT
TZOFFSETFROM:-0500
TZOFFSETTO:-0400
TZNAME:EDT
DTSTART:20230312T070000
END:DAYLIGHT
BEGIN:STANDARD
TZOFFSETFROM:-0400
TZOFFSETTO:-0500
TZNAME:EST
DTSTART:20231105T060000
END:STANDARD
BEGIN:DAYLIGHT
TZOFFSETFROM:-0500
TZOFFSETTO:-0400
TZNAME:EDT
DTSTART:20240310T070000
END:DAYLIGHT
BEGIN:STANDARD
TZOFFSETFROM:-0400
TZOFFSETTO:-0500
TZNAME:EST
DTSTART:20241103T060000
END:STANDARD
END:VTIMEZONE
BEGIN:VEVENT
DTSTART;TZID=America/New_York:20230401T090000
DTEND;TZID=America/New_York:20230401T170000
DTSTAMP:20260422T030546
CREATED:20230317T143933Z
LAST-MODIFIED:20230317T143933Z
UID:22389-1680339600-1680368400@www.marioncarnegielibrary.org
SUMMARY:MCL Grab-and-Go Craft - Unicorn Pop-Up Card
DESCRIPTION:Starting Saturday\, April 1 – and while supplies last – visit the MCL Children’s Department and pick up a kit with all the materials you’ll need to make a cool Unicorn Pop-Up Card! \nKits are free and available to ages 8 – 12 on a first-come\, first-served basis. \nNOTICE: Children 10 years old and younger must be accompanied by a guardian at all times while attending MCL Children’s Department events.
URL:https://www.marioncarnegielibrary.org/event/mcl-grab-and-go-craft-unicorn-pop-up-card/
LOCATION:Marion Carnegie Library\, 206 S Market St\, Marion\, IL\, 62959\, US
CATEGORIES:Children's Department
ATTACH;FMTTYPE=image/jpeg:https://www.marioncarnegielibrary.org/wp-content/uploads/2023/03/22389_image_335166718_605343288166476_1731632329927286584_n.jpg
END:VEVENT
BEGIN:VEVENT
DTSTART;TZID=America/New_York:20230401T130000
DTEND;TZID=America/New_York:20230401T150000
DTSTAMP:20260422T030546
CREATED:20230317T141306Z
LAST-MODIFIED:20230317T141306Z
UID:22387-1680354000-1680361200@www.marioncarnegielibrary.org
SUMMARY:MCL Tween Movie
DESCRIPTION:Join us in the Tween Zone of the Children’s Department each week to watch a featured film! \nThis event is free and intended for ages 8 to 12. No library card is required. \nNOTICE: All participants and parents understand and agree that photos taken at the event may be used in social media postings and future promotions. \nChildren 10 years old and younger must be accompanied by a guardian at all times while attending MCL Children’s Department events.
URL:https://www.marioncarnegielibrary.org/event/mcl-tween-movie-58/
LOCATION:Marion Carnegie Library\, 206 S Market St\, Marion\, IL\, 62959\, US
CATEGORIES:Children's Department
ATTACH;FMTTYPE=image/jpeg:https://www.marioncarnegielibrary.org/wp-content/uploads/2023/03/22382_image_336511141_521229216882831_7972250714169090018_n.jpg
END:VEVENT
BEGIN:VEVENT
DTSTART;TZID=America/New_York:20230403T173000
DTEND;TZID=America/New_York:20230403T190000
DTSTAMP:20260422T030546
CREATED:20230317T140226Z
LAST-MODIFIED:20230317T140226Z
UID:22374-1680543000-1680548400@www.marioncarnegielibrary.org
SUMMARY:MCL Builder's Club
DESCRIPTION:Join us at Marion Carnegie Library’s Builder’s Club and create whatever you can imagine. Don’t forget to bring your friends! \nFor ages birth to 12. \nNOTICE: All participants and parents understand and agree that photos taken at the event may be used in social media postings and future promotions. \nChildren 10 years old and younger must be accompanied by a guardian at all times while attending MCL Children’s Department events.
URL:https://www.marioncarnegielibrary.org/event/mcl-builders-club-8/
LOCATION:Marion Carnegie Library\, 206 S Market St\, Marion\, IL\, 62959\, US
CATEGORIES:Children's Department
ATTACH;FMTTYPE=image/jpeg:https://www.marioncarnegielibrary.org/wp-content/uploads/2023/03/22374_image_335436947_674677461014829_3144963301771266509_n.jpg
END:VEVENT
BEGIN:VEVENT
DTSTART;TZID=America/New_York:20230405T103000
DTEND;TZID=America/New_York:20230405T113000
DTSTAMP:20260422T030546
CREATED:20230317T151102Z
LAST-MODIFIED:20230317T151102Z
UID:22398-1680690600-1680694200@www.marioncarnegielibrary.org
SUMMARY:MCL Story Hour - Bunny
DESCRIPTION:Read bunny stories\, sing and dance\, then make bunny ear hats! \nThis event is free and intended for younger children. \nNOTICE: All participants and parents understand and agree that photos taken at library events may be used in social media postings and future promotions. \nChildren 10 years old and younger must be accompanied by a guardian at all times while attending MCL Children’s Department events.
URL:https://www.marioncarnegielibrary.org/event/mcl-story-hour-bunny-2/
LOCATION:Marion Carnegie Library\, 206 S Market St\, Marion\, IL\, 62959\, US
CATEGORIES:Children's Department
ATTACH;FMTTYPE=image/jpeg:https://www.marioncarnegielibrary.org/wp-content/uploads/2023/03/22396_image_335486201_3496861223931479_3754594810658872437_n.jpg
END:VEVENT
BEGIN:VEVENT
DTSTART;TZID=America/New_York:20230406T103000
DTEND;TZID=America/New_York:20230406T113000
DTSTAMP:20260422T030546
CREATED:20230317T151059Z
LAST-MODIFIED:20230317T151059Z
UID:22396-1680777000-1680780600@www.marioncarnegielibrary.org
SUMMARY:MCL Story Hour - Bunny
DESCRIPTION:Read bunny stories\, sing and dance\, then make bunny ear hats! \nThis event is free and intended for younger children. \nNOTICE: All participants and parents understand and agree that photos taken at library events may be used in social media postings and future promotions. \nChildren 10 years old and younger must be accompanied by a guardian at all times while attending MCL Children’s Department events.
URL:https://www.marioncarnegielibrary.org/event/mcl-story-hour-bunny/
LOCATION:Marion Carnegie Library\, 206 S Market St\, Marion\, IL\, 62959\, US
CATEGORIES:Children's Department
ATTACH;FMTTYPE=image/jpeg:https://www.marioncarnegielibrary.org/wp-content/uploads/2023/03/22396_image_335486201_3496861223931479_3754594810658872437_n.jpg
END:VEVENT
BEGIN:VEVENT
DTSTART;TZID=America/New_York:20230408T130000
DTEND;TZID=America/New_York:20230408T150000
DTSTAMP:20260422T030546
CREATED:20230317T141306Z
LAST-MODIFIED:20230317T141306Z
UID:22386-1680958800-1680966000@www.marioncarnegielibrary.org
SUMMARY:MCL Tween Movie
DESCRIPTION:Join us in the Tween Zone of the Children’s Department each week to watch a featured film! \nThis event is free and intended for ages 8 to 12. No library card is required. \nNOTICE: All participants and parents understand and agree that photos taken at the event may be used in social media postings and future promotions. \nChildren 10 years old and younger must be accompanied by a guardian at all times while attending MCL Children’s Department events.
URL:https://www.marioncarnegielibrary.org/event/mcl-tween-movie-57/
LOCATION:Marion Carnegie Library\, 206 S Market St\, Marion\, IL\, 62959\, US
CATEGORIES:Children's Department
ATTACH;FMTTYPE=image/jpeg:https://www.marioncarnegielibrary.org/wp-content/uploads/2023/03/22382_image_336511141_521229216882831_7972250714169090018_n.jpg
END:VEVENT
BEGIN:VEVENT
DTSTART;TZID=America/New_York:20230410T170000
DTEND;TZID=America/New_York:20230410T190000
DTSTAMP:20260422T030546
CREATED:20230317T144803Z
LAST-MODIFIED:20230317T144803Z
UID:22394-1681146000-1681153200@www.marioncarnegielibrary.org
SUMMARY:MCL Children's Spring Crafts!
DESCRIPTION:To celebrate Spring\, the MCL Children’s Department invites you to drop in and make puppets\, paper bunnies\, yarn-knit eggs\, and more! We’ll provide everything you need. \nNOTICE: All participants and parents understand and agree that photos taken at library events may be used in social media postings and future promotions. \nChildren 10 years old and younger must be accompanied by a guardian at all times while attending MCL Children’s Department events.
URL:https://www.marioncarnegielibrary.org/event/mcl-childrens-spring-crafts-2/
LOCATION:Marion Carnegie Library\, 206 S Market St\, Marion\, IL\, 62959\, US
CATEGORIES:Children's Department
ATTACH;FMTTYPE=image/jpeg:https://www.marioncarnegielibrary.org/wp-content/uploads/2023/03/22392_image_335876977_749090346864534_7108878219913367300_n.jpg
END:VEVENT
BEGIN:VEVENT
DTSTART;TZID=America/New_York:20230411T170000
DTEND;TZID=America/New_York:20230411T190000
DTSTAMP:20260422T030546
CREATED:20230317T144801Z
LAST-MODIFIED:20230317T144801Z
UID:22392-1681232400-1681239600@www.marioncarnegielibrary.org
SUMMARY:MCL Children's Spring Crafts!
DESCRIPTION:To celebrate Spring\, the MCL Children’s Department invites you to drop in and make puppets\, paper bunnies\, yarn-knit eggs\, and more! We’ll provide everything you need. \nNOTICE: All participants and parents understand and agree that photos taken at library events may be used in social media postings and future promotions. \nChildren 10 years old and younger must be accompanied by a guardian at all times while attending MCL Children’s Department events.
URL:https://www.marioncarnegielibrary.org/event/mcl-childrens-spring-crafts/
LOCATION:Marion Carnegie Library\, 206 S Market St\, Marion\, IL\, 62959\, US
CATEGORIES:Children's Department
ATTACH;FMTTYPE=image/jpeg:https://www.marioncarnegielibrary.org/wp-content/uploads/2023/03/22392_image_335876977_749090346864534_7108878219913367300_n.jpg
END:VEVENT
BEGIN:VEVENT
DTSTART;TZID=America/New_York:20230412T103000
DTEND;TZID=America/New_York:20230412T113000
DTSTAMP:20260422T030546
CREATED:20230317T151104Z
LAST-MODIFIED:20230317T151104Z
UID:22401-1681295400-1681299000@www.marioncarnegielibrary.org
SUMMARY:MCL Story Hour - Egg
DESCRIPTION:Read egg stories\, sing and dance\, then take home a fun egg craft. \nThis event is free and intended for younger children. \nNOTICE: All participants and parents understand and agree that photos taken at library events may be used in social media postings and future promotions. \nChildren 10 years old and younger must be accompanied by a guardian at all times while attending MCL Children’s Department events.
URL:https://www.marioncarnegielibrary.org/event/mcl-story-hour-egg-2/
LOCATION:Marion Carnegie Library\, 206 S Market St\, Marion\, IL\, 62959\, US
CATEGORIES:Children's Department
ATTACH;FMTTYPE=image/jpeg:https://www.marioncarnegielibrary.org/wp-content/uploads/2023/03/22399_image_336509166_3457892077833672_3921452299406719458_n.jpg
END:VEVENT
BEGIN:VEVENT
DTSTART;TZID=America/New_York:20230413T103000
DTEND;TZID=America/New_York:20230413T113000
DTSTAMP:20260422T030546
CREATED:20230317T151102Z
LAST-MODIFIED:20230317T151102Z
UID:22399-1681381800-1681385400@www.marioncarnegielibrary.org
SUMMARY:MCL Story Hour - Egg
DESCRIPTION:Read egg stories\, sing and dance\, then take home a fun egg craft. \nThis event is free and intended for younger children. \nNOTICE: All participants and parents understand and agree that photos taken at library events may be used in social media postings and future promotions. \nChildren 10 years old and younger must be accompanied by a guardian at all times while attending MCL Children’s Department events.
URL:https://www.marioncarnegielibrary.org/event/mcl-story-hour-egg/
LOCATION:Marion Carnegie Library\, 206 S Market St\, Marion\, IL\, 62959\, US
CATEGORIES:Children's Department
ATTACH;FMTTYPE=image/jpeg:https://www.marioncarnegielibrary.org/wp-content/uploads/2023/03/22399_image_336509166_3457892077833672_3921452299406719458_n.jpg
END:VEVENT
BEGIN:VEVENT
DTSTART;TZID=America/New_York:20230414T100000
DTEND;TZID=America/New_York:20230414T120000
DTSTAMP:20260422T030546
CREATED:20230317T140919Z
LAST-MODIFIED:20230317T140919Z
UID:22380-1681466400-1681473600@www.marioncarnegielibrary.org
SUMMARY:Playroom Playdate
DESCRIPTION:Come meet new friends in our Mariella Aikman Playroom in the library’s Children’s Department!\nBring the kiddos\nand enjoy puppets\, toys\, games\, and – of course – books! \nNOTICE: All participants and parents understand and agree that photos taken at library events may be used in social media postings and future promotions. \nChildren 10 years old and younger must be accompanied by a guardian at all times while attending MCL Children’s Department events.
URL:https://www.marioncarnegielibrary.org/event/playroom-playdate-53/
LOCATION:Marion Carnegie Library\, 206 S Market St\, Marion\, IL\, 62959\, US
CATEGORIES:Children's Department
ATTACH;FMTTYPE=image/jpeg:https://www.marioncarnegielibrary.org/wp-content/uploads/2023/03/22377_image_335296077_552253690332322_694761220275447074_n.jpg
END:VEVENT
BEGIN:VEVENT
DTSTART;TZID=America/New_York:20230415T130000
DTEND;TZID=America/New_York:20230415T150000
DTSTAMP:20260422T030546
CREATED:20230317T141306Z
LAST-MODIFIED:20230317T141306Z
UID:22385-1681563600-1681570800@www.marioncarnegielibrary.org
SUMMARY:MCL Tween Movie
DESCRIPTION:Join us in the Tween Zone of the Children’s Department each week to watch a featured film! \nThis event is free and intended for ages 8 to 12. No library card is required. \nNOTICE: All participants and parents understand and agree that photos taken at the event may be used in social media postings and future promotions. \nChildren 10 years old and younger must be accompanied by a guardian at all times while attending MCL Children’s Department events.
URL:https://www.marioncarnegielibrary.org/event/mcl-tween-movie-56/
LOCATION:Marion Carnegie Library\, 206 S Market St\, Marion\, IL\, 62959\, US
CATEGORIES:Children's Department
ATTACH;FMTTYPE=image/jpeg:https://www.marioncarnegielibrary.org/wp-content/uploads/2023/03/22382_image_336511141_521229216882831_7972250714169090018_n.jpg
END:VEVENT
BEGIN:VEVENT
DTSTART;TZID=America/New_York:20230417T173000
DTEND;TZID=America/New_York:20230417T190000
DTSTAMP:20260422T030546
CREATED:20230317T140223Z
LAST-MODIFIED:20230317T140223Z
UID:22372-1681752600-1681758000@www.marioncarnegielibrary.org
SUMMARY:MCL Builder's Club
DESCRIPTION:Join us at Marion Carnegie Library’s Builder’s Club and create whatever you can imagine. Don’t forget to bring your friends! \nFor ages birth to 12. \nNOTICE: All participants and parents understand and agree that photos taken at the event may be used in social media postings and future promotions. \nChildren 10 years old and younger must be accompanied by a guardian at all times while attending MCL Children’s Department events.
URL:https://www.marioncarnegielibrary.org/event/mcl-builders-club-7/
LOCATION:Marion Carnegie Library\, 206 S Market St\, Marion\, IL\, 62959\, US
CATEGORIES:Children's Department
ATTACH;FMTTYPE=image/jpeg:https://www.marioncarnegielibrary.org/wp-content/uploads/2023/03/22372_image_336645064_966488914724093_2435789098648622187_n.jpg
END:VEVENT
BEGIN:VEVENT
DTSTART;TZID=America/New_York:20230419T103000
DTEND;TZID=America/New_York:20230419T113000
DTSTAMP:20260422T030546
CREATED:20230317T151106Z
LAST-MODIFIED:20230317T151106Z
UID:22404-1681900200-1681903800@www.marioncarnegielibrary.org
SUMMARY:MCL Story Hour - Zoo
DESCRIPTION:Read fun zoo stories\, sing and dance\, then take home a mystery zoo animal puppet craft! \nThis event is free and intended for younger children. \nNOTICE: All participants and parents understand and agree that photos taken at library events may be used in social media postings and future promotions. \nChildren 10 years old and younger must be accompanied by a guardian at all times while attending MCL Children’s Department events.
URL:https://www.marioncarnegielibrary.org/event/mcl-story-hour-zoo-2/
LOCATION:Marion Carnegie Library\, 206 S Market St\, Marion\, IL\, 62959\, US
CATEGORIES:Children's Department
ATTACH;FMTTYPE=image/jpeg:https://www.marioncarnegielibrary.org/wp-content/uploads/2023/03/22402_image_335943715_188589443895051_8996035881946231196_n.jpg
END:VEVENT
BEGIN:VEVENT
DTSTART;TZID=America/New_York:20230420T103000
DTEND;TZID=America/New_York:20230420T113000
DTSTAMP:20260422T030546
CREATED:20230317T151104Z
LAST-MODIFIED:20230317T151104Z
UID:22402-1681986600-1681990200@www.marioncarnegielibrary.org
SUMMARY:MCL Story Hour - Zoo
DESCRIPTION:Read fun zoo stories\, sing and dance\, then take home a mystery zoo animal puppet craft! \nThis event is free and intended for younger children. \nNOTICE: All participants and parents understand and agree that photos taken at library events may be used in social media postings and future promotions. \nChildren 10 years old and younger must be accompanied by a guardian at all times while attending MCL Children’s Department events.
URL:https://www.marioncarnegielibrary.org/event/mcl-story-hour-zoo/
LOCATION:Marion Carnegie Library\, 206 S Market St\, Marion\, IL\, 62959\, US
CATEGORIES:Children's Department
ATTACH;FMTTYPE=image/jpeg:https://www.marioncarnegielibrary.org/wp-content/uploads/2023/03/22402_image_335943715_188589443895051_8996035881946231196_n.jpg
END:VEVENT
BEGIN:VEVENT
DTSTART;TZID=America/New_York:20230421T100000
DTEND;TZID=America/New_York:20230421T120000
DTSTAMP:20260422T030546
CREATED:20230317T140919Z
LAST-MODIFIED:20230317T140919Z
UID:22379-1682071200-1682078400@www.marioncarnegielibrary.org
SUMMARY:Playroom Playdate
DESCRIPTION:Come meet new friends in our Mariella Aikman Playroom in the library’s Children’s Department!\nBring the kiddos\nand enjoy puppets\, toys\, games\, and – of course – books! \nNOTICE: All participants and parents understand and agree that photos taken at library events may be used in social media postings and future promotions. \nChildren 10 years old and younger must be accompanied by a guardian at all times while attending MCL Children’s Department events.
URL:https://www.marioncarnegielibrary.org/event/playroom-playdate-52/
LOCATION:Marion Carnegie Library\, 206 S Market St\, Marion\, IL\, 62959\, US
CATEGORIES:Children's Department
ATTACH;FMTTYPE=image/jpeg:https://www.marioncarnegielibrary.org/wp-content/uploads/2023/03/22377_image_335296077_552253690332322_694761220275447074_n.jpg
END:VEVENT
BEGIN:VEVENT
DTSTART;TZID=America/New_York:20230422T130000
DTEND;TZID=America/New_York:20230422T150000
DTSTAMP:20260422T030546
CREATED:20230317T141306Z
LAST-MODIFIED:20230317T141306Z
UID:22384-1682168400-1682175600@www.marioncarnegielibrary.org
SUMMARY:MCL Tween Movie
DESCRIPTION:Join us in the Tween Zone of the Children’s Department each week to watch a featured film! \nThis event is free and intended for ages 8 to 12. No library card is required. \nNOTICE: All participants and parents understand and agree that photos taken at the event may be used in social media postings and future promotions. \nChildren 10 years old and younger must be accompanied by a guardian at all times while attending MCL Children’s Department events.
URL:https://www.marioncarnegielibrary.org/event/mcl-tween-movie-55/
LOCATION:Marion Carnegie Library\, 206 S Market St\, Marion\, IL\, 62959\, US
CATEGORIES:Children's Department
ATTACH;FMTTYPE=image/jpeg:https://www.marioncarnegielibrary.org/wp-content/uploads/2023/03/22382_image_336511141_521229216882831_7972250714169090018_n.jpg
END:VEVENT
BEGIN:VEVENT
DTSTART;TZID=America/New_York:20230426T103000
DTEND;TZID=America/New_York:20230426T113000
DTSTAMP:20260422T030546
CREATED:20230317T151108Z
LAST-MODIFIED:20230317T151108Z
UID:22407-1682505000-1682508600@www.marioncarnegielibrary.org
SUMMARY:MCL Story Hour - Earth Day with Marion Garden Club
DESCRIPTION:Read stories about Earth Day\, sing and dance\, then make a book planter with our friends from the Marion Garden Club! \nThis event is free and intended for younger children. \nNOTICE: All participants and parents understand and agree that photos taken at library events may be used in social media postings and future promotions. \nChildren 10 years old and younger must be accompanied by a guardian at all times while attending MCL Children’s Department events.
URL:https://www.marioncarnegielibrary.org/event/mcl-story-hour-earth-day-with-marion-garden-club-2/
LOCATION:Marion Carnegie Library\, 206 S Market St\, Marion\, IL\, 62959\, US
CATEGORIES:Children's Department
ATTACH;FMTTYPE=image/jpeg:https://www.marioncarnegielibrary.org/wp-content/uploads/2023/03/22405_image_336540793_730898508514352_1503796977306984265_n.jpg
END:VEVENT
BEGIN:VEVENT
DTSTART;TZID=America/New_York:20230427T103000
DTEND;TZID=America/New_York:20230427T113000
DTSTAMP:20260422T030546
CREATED:20230317T151106Z
LAST-MODIFIED:20230327T170436Z
UID:22405-1682591400-1682595000@www.marioncarnegielibrary.org
SUMMARY:MCL Story Hour - Earth Day with Marion Garden Club
DESCRIPTION:Read stories about Earth Day\, sing and dance\, then make a book planter with our friends from the Marion Garden Club! \nThis event is free and intended for younger children. \nNOTICE: All participants and parents understand and agree that photos taken at library events may be used in social media postings and future promotions. \nChildren 10 years old and younger must be accompanied by a guardian at all times while attending MCL Children’s Department events.
URL:https://www.marioncarnegielibrary.org/event/mcl-story-hour-earth-day-with-marion-garden-club/
LOCATION:Marion Carnegie Library\, 206 S Market St\, Marion\, IL\, 62959\, US
CATEGORIES:Children's Department
ATTACH;FMTTYPE=image/jpeg:https://www.marioncarnegielibrary.org/wp-content/uploads/2023/03/22405_image_336540793_730898508514352_1503796977306984265_n.jpg
END:VEVENT
BEGIN:VEVENT
DTSTART;TZID=America/New_York:20230428T100000
DTEND;TZID=America/New_York:20230428T120000
DTSTAMP:20260422T030546
CREATED:20230317T140917Z
LAST-MODIFIED:20230317T140917Z
UID:22377-1682676000-1682683200@www.marioncarnegielibrary.org
SUMMARY:Playroom Playdate
DESCRIPTION:Come meet new friends in our Mariella Aikman Playroom in the library’s Children’s Department!\nBring the kiddos\nand enjoy puppets\, toys\, games\, and – of course – books! \nNOTICE: All participants and parents understand and agree that photos taken at library events may be used in social media postings and future promotions. \nChildren 10 years old and younger must be accompanied by a guardian at all times while attending MCL Children’s Department events.
URL:https://www.marioncarnegielibrary.org/event/playroom-playdate-51/
LOCATION:Marion Carnegie Library\, 206 S Market St\, Marion\, IL\, 62959\, US
CATEGORIES:Children's Department
ATTACH;FMTTYPE=image/jpeg:https://www.marioncarnegielibrary.org/wp-content/uploads/2023/03/22377_image_335296077_552253690332322_694761220275447074_n.jpg
END:VEVENT
BEGIN:VEVENT
DTSTART;TZID=America/New_York:20230429T130000
DTEND;TZID=America/New_York:20230429T150000
DTSTAMP:20260422T030546
CREATED:20230317T141304Z
LAST-MODIFIED:20230317T141304Z
UID:22382-1682773200-1682780400@www.marioncarnegielibrary.org
SUMMARY:MCL Tween Movie
DESCRIPTION:Join us in the Tween Zone of the Children’s Department each week to watch a featured film! \nThis event is free and intended for ages 8 to 12. No library card is required. \nNOTICE: All participants and parents understand and agree that photos taken at the event may be used in social media postings and future promotions. \nChildren 10 years old and younger must be accompanied by a guardian at all times while attending MCL Children’s Department events.
URL:https://www.marioncarnegielibrary.org/event/mcl-tween-movie-54/
LOCATION:Marion Carnegie Library\, 206 S Market St\, Marion\, IL\, 62959\, US
CATEGORIES:Children's Department
ATTACH;FMTTYPE=image/jpeg:https://www.marioncarnegielibrary.org/wp-content/uploads/2023/03/22382_image_336511141_521229216882831_7972250714169090018_n.jpg
END:VEVENT
END:VCALENDAR