BEGIN:VCALENDAR
VERSION:2.0
PRODID:-//Marion Carnegie Library | 618-993-5935 - ECPv6.15.12.2//NONSGML v1.0//EN
CALSCALE:GREGORIAN
METHOD:PUBLISH
X-ORIGINAL-URL:https://www.marioncarnegielibrary.org
X-WR-CALDESC:Events for Marion Carnegie Library | 618-993-5935
REFRESH-INTERVAL;VALUE=DURATION:PT1H
X-Robots-Tag:noindex
X-PUBLISHED-TTL:PT1H
BEGIN:VTIMEZONE
TZID:America/Chicago
BEGIN:DAYLIGHT
TZOFFSETFROM:-0600
TZOFFSETTO:-0500
TZNAME:CDT
DTSTART:20210314T080000
END:DAYLIGHT
BEGIN:STANDARD
TZOFFSETFROM:-0500
TZOFFSETTO:-0600
TZNAME:CST
DTSTART:20211107T070000
END:STANDARD
BEGIN:DAYLIGHT
TZOFFSETFROM:-0600
TZOFFSETTO:-0500
TZNAME:CDT
DTSTART:20220313T080000
END:DAYLIGHT
BEGIN:STANDARD
TZOFFSETFROM:-0500
TZOFFSETTO:-0600
TZNAME:CST
DTSTART:20221106T070000
END:STANDARD
BEGIN:DAYLIGHT
TZOFFSETFROM:-0600
TZOFFSETTO:-0500
TZNAME:CDT
DTSTART:20230312T080000
END:DAYLIGHT
BEGIN:STANDARD
TZOFFSETFROM:-0500
TZOFFSETTO:-0600
TZNAME:CST
DTSTART:20231105T070000
END:STANDARD
END:VTIMEZONE
BEGIN:VEVENT
DTSTART;TZID=America/Chicago:20220319T130000
DTEND;TZID=America/Chicago:20220319T153000
DTSTAMP:20260424T203020
CREATED:20220318T172319Z
LAST-MODIFIED:20220318T172319Z
UID:19357-1647694800-1647703800@www.marioncarnegielibrary.org
SUMMARY:MCL Tween Movie
DESCRIPTION:Join us in the Tween Zone of the Children’s Department each week to watch a featured film!\nFor ages 8 to 12.  \nNOTICE:  All participants and parents understand and agree that photos taken at the event may be used in social media postings and future promotions.
URL:https://www.marioncarnegielibrary.org/event/mcl-tween-movie/
LOCATION:Marion Carnegie Library\, 206 S Market St\, Marion\, IL\, 62959\, US
CATEGORIES:Children's Department
ATTACH;FMTTYPE=image/jpeg:https://www.marioncarnegielibrary.org/wp-content/uploads/2022/03/19357_image_274010449_10158228727586561_3756582182974409598_n.jpg
END:VEVENT
BEGIN:VEVENT
DTSTART;TZID=America/Chicago:20220321T173000
DTEND;TZID=America/Chicago:20220321T190000
DTSTAMP:20260424T203020
CREATED:20220318T172317Z
LAST-MODIFIED:20220318T172317Z
UID:19355-1647883800-1647889200@www.marioncarnegielibrary.org
SUMMARY:MCL Lego Club
DESCRIPTION:MCL Lego Club is back! Stop by the library to create whatever you can imagine\, and don’t forget to bring your friends!  \nFor ages birth to 12.  \nNOTICE:  All participants and parents understand and agree that photos taken at the event may be used in social media postings and future promotions.
URL:https://www.marioncarnegielibrary.org/event/mcl-lego-club/
LOCATION:Marion Carnegie Library\, 206 S Market St\, Marion\, IL\, 62959\, US
CATEGORIES:Children's Department
ATTACH;FMTTYPE=image/jpeg:https://www.marioncarnegielibrary.org/wp-content/uploads/2022/03/19355_image_273325297_10158228733271561_2686596070327418363_n.jpg
END:VEVENT
BEGIN:VEVENT
DTSTART;TZID=America/Chicago:20220323T103000
DTEND;TZID=America/Chicago:20220323T113000
DTSTAMP:20260424T203020
CREATED:20220318T172202Z
LAST-MODIFIED:20220318T172202Z
UID:19350-1648031400-1648035000@www.marioncarnegielibrary.org
SUMMARY:Story Hour - Spring
DESCRIPTION:Read spring books\, sing and dance\, and take home a fun craft! \nNOTICE: All participants and parents understand and agree that photos taken at the event may be used in social media postings and future promotions.
URL:https://www.marioncarnegielibrary.org/event/story-hour-spring-2/
LOCATION:Marion Carnegie Library\, 206 S Market St\, Marion\, IL\, 62959\, US
CATEGORIES:Children's Department
ATTACH;FMTTYPE=image/jpeg:https://www.marioncarnegielibrary.org/wp-content/uploads/2022/03/19348_image_273704770_10158228741916561_4686320562950041635_n.jpg
END:VEVENT
BEGIN:VEVENT
DTSTART;TZID=America/Chicago:20220324T103000
DTEND;TZID=America/Chicago:20220324T113000
DTSTAMP:20260424T203020
CREATED:20220318T172200Z
LAST-MODIFIED:20220318T172200Z
UID:19348-1648117800-1648121400@www.marioncarnegielibrary.org
SUMMARY:Story Hour - Spring
DESCRIPTION:Read spring books\, sing and dance\, and take home a fun craft! \nNOTICE: All participants and parents understand and agree that photos taken at the event may be used in social media postings and future promotions.
URL:https://www.marioncarnegielibrary.org/event/story-hour-spring/
LOCATION:Marion Carnegie Library\, 206 S Market St\, Marion\, IL\, 62959\, US
CATEGORIES:Children's Department
ATTACH;FMTTYPE=image/jpeg:https://www.marioncarnegielibrary.org/wp-content/uploads/2022/03/19348_image_273704770_10158228741916561_4686320562950041635_n.jpg
END:VEVENT
BEGIN:VEVENT
DTSTART;TZID=America/Chicago:20220325T100000
DTEND;TZID=America/Chicago:20220325T120000
DTSTAMP:20260424T203020
CREATED:20220318T172404Z
LAST-MODIFIED:20220318T172404Z
UID:19361-1648202400-1648209600@www.marioncarnegielibrary.org
SUMMARY:Playroom Playdate
DESCRIPTION:Come meet new friends in our Mariella Aikman Playroom in the library’s Children’s Department!\nBring the kiddos and enjoy puppets\, toys\, games\, and – of course – books! \nNOTICE: All participants and parents understand and agree that photos taken at library events may be used in social media postings and future promotions.
URL:https://www.marioncarnegielibrary.org/event/playroom-playdate/
LOCATION:Marion Carnegie Library\, 206 S Market St\, Marion\, IL\, 62959\, US
CATEGORIES:Children's Department
ATTACH;FMTTYPE=image/jpeg:https://www.marioncarnegielibrary.org/wp-content/uploads/2022/03/19361_image_273558379_10158228726006561_5627323523806545732_n.jpg
END:VEVENT
BEGIN:VEVENT
DTSTART;TZID=America/Chicago:20220326T130000
DTEND;TZID=America/Chicago:20220326T153000
DTSTAMP:20260424T203020
CREATED:20220318T172321Z
LAST-MODIFIED:20220318T172321Z
UID:19359-1648299600-1648308600@www.marioncarnegielibrary.org
SUMMARY:MCL Tween Movie
DESCRIPTION:Join us in the Tween Zone of the Children’s Department each week to watch a featured film!\nFor ages 8 to 12.  \nNOTICE:  All participants and parents understand and agree that photos taken at the event may be used in social media postings and future promotions.
URL:https://www.marioncarnegielibrary.org/event/mcl-tween-movie-2/
LOCATION:Marion Carnegie Library\, 206 S Market St\, Marion\, IL\, 62959\, US
CATEGORIES:Children's Department
ATTACH;FMTTYPE=image/jpeg:https://www.marioncarnegielibrary.org/wp-content/uploads/2022/03/19357_image_274010449_10158228727586561_3756582182974409598_n.jpg
END:VEVENT
BEGIN:VEVENT
DTSTART;TZID=America/Chicago:20220330T103000
DTEND;TZID=America/Chicago:20220330T113000
DTSTAMP:20260424T203020
CREATED:20220318T172316Z
LAST-MODIFIED:20220318T172316Z
UID:19354-1648636200-1648639800@www.marioncarnegielibrary.org
SUMMARY:Story Hour - Mother Goose
DESCRIPTION:Read Mother Goose stories\, sing and dance\, and take home a fun craft! \nNOTICE: All participants and parents understand and agree that photos taken at the event may be used in social media postings and future promotions.
URL:https://www.marioncarnegielibrary.org/event/story-hour-mother-goose-2/
LOCATION:Marion Carnegie Library\, 206 S Market St\, Marion\, IL\, 62959\, US
CATEGORIES:Children's Department
ATTACH;FMTTYPE=image/jpeg:https://www.marioncarnegielibrary.org/wp-content/uploads/2022/03/19352_image_273219829_10158228742981561_3675307015497583765_n.jpg
END:VEVENT
BEGIN:VEVENT
DTSTART;TZID=America/Chicago:20220331T103000
DTEND;TZID=America/Chicago:20220331T113000
DTSTAMP:20260424T203020
CREATED:20220318T172314Z
LAST-MODIFIED:20220318T172314Z
UID:19352-1648722600-1648726200@www.marioncarnegielibrary.org
SUMMARY:Story Hour - Mother Goose
DESCRIPTION:Read Mother Goose stories\, sing and dance\, and take home a fun craft! \nNOTICE: All participants and parents understand and agree that photos taken at the event may be used in social media postings and future promotions.
URL:https://www.marioncarnegielibrary.org/event/story-hour-mother-goose/
LOCATION:Marion Carnegie Library\, 206 S Market St\, Marion\, IL\, 62959\, US
CATEGORIES:Children's Department
ATTACH;FMTTYPE=image/jpeg:https://www.marioncarnegielibrary.org/wp-content/uploads/2022/03/19352_image_273219829_10158228742981561_3675307015497583765_n.jpg
END:VEVENT
END:VCALENDAR