BEGIN:VCALENDAR
VERSION:2.0
PRODID:-//Marion Carnegie Library | 618-993-5935 - ECPv6.15.12.2//NONSGML v1.0//EN
CALSCALE:GREGORIAN
METHOD:PUBLISH
X-ORIGINAL-URL:https://www.marioncarnegielibrary.org
X-WR-CALDESC:Events for Marion Carnegie Library | 618-993-5935
REFRESH-INTERVAL;VALUE=DURATION:PT1H
X-Robots-Tag:noindex
X-PUBLISHED-TTL:PT1H
BEGIN:VTIMEZONE
TZID:America/Chicago
BEGIN:DAYLIGHT
TZOFFSETFROM:-0600
TZOFFSETTO:-0500
TZNAME:CDT
DTSTART:20210314T080000
END:DAYLIGHT
BEGIN:STANDARD
TZOFFSETFROM:-0500
TZOFFSETTO:-0600
TZNAME:CST
DTSTART:20211107T070000
END:STANDARD
BEGIN:DAYLIGHT
TZOFFSETFROM:-0600
TZOFFSETTO:-0500
TZNAME:CDT
DTSTART:20220313T080000
END:DAYLIGHT
BEGIN:STANDARD
TZOFFSETFROM:-0500
TZOFFSETTO:-0600
TZNAME:CST
DTSTART:20221106T070000
END:STANDARD
BEGIN:DAYLIGHT
TZOFFSETFROM:-0600
TZOFFSETTO:-0500
TZNAME:CDT
DTSTART:20230312T080000
END:DAYLIGHT
BEGIN:STANDARD
TZOFFSETFROM:-0500
TZOFFSETTO:-0600
TZNAME:CST
DTSTART:20231105T070000
END:STANDARD
END:VTIMEZONE
BEGIN:VEVENT
DTSTART;TZID=America/Chicago:20220414T090000
DTEND;TZID=America/Chicago:20220414T090000
DTSTAMP:20260425T175818
CREATED:20220321T211649Z
LAST-MODIFIED:20220321T211649Z
UID:19531-1649926800-1649926800@www.marioncarnegielibrary.org
SUMMARY:MCL Adult Craft To-Go - Spring-themed Notecards
DESCRIPTION:Pick up a kit with all the materials you’ll need to create a set of 4 spring-themed notecards! \nSupplies are limited. Kits are available on a first-come\, first-served basis starting at 9 am on Thursday\, April 14 at the Marion Carnegie Library main desk. \nMCL Adult Craft To-Go kits are free and available to adults age 18 and up.
URL:https://www.marioncarnegielibrary.org/event/mcl-adult-craft-to-go-spring-themed-notecards/
LOCATION:Marion Carnegie Library\, 206 S Market St\, Marion\, IL\, 62959\, US
CATEGORIES:Adult Department
ATTACH;FMTTYPE=image/jpeg:https://www.marioncarnegielibrary.org/wp-content/uploads/2022/03/19531_image_276140719_10158273761751561_7955814561426022602_n.jpg
END:VEVENT
BEGIN:VEVENT
DTSTART;TZID=America/Chicago:20220412T173000
DTEND;TZID=America/Chicago:20220412T193000
DTSTAMP:20260425T175818
CREATED:20220321T204642Z
LAST-MODIFIED:20220321T204642Z
UID:19526-1649784600-1649791800@www.marioncarnegielibrary.org
SUMMARY:Lawyer in the Library
DESCRIPTION:An attorney will be available for 20-minute\, one-on-one meetings to assist you with legal coaching\,\ndocument review\, referrals to additional community services\, e-filing court documents\, and legal questions.   \n-No Fees!\n-Please Pre-Register at the Main Floor Circulation Desk\n-Bring paperwork that relates to your legal matter    \n*This program is free and open to the public.*    \n– Maximum of one session per person every 2 months.\n– You are not eligible to participate if you are currently represented by an attorney.\n– Participants should reside within the First Judicial Circuit of Illinois. \nSponsored in part by Self-Represented Litigant Coordinator Grant through Access to Justice Division\, AOIC 		Brenda Sprague\, Coordinator	Office of the Chief Judge\, First Judicial Circuit
URL:https://www.marioncarnegielibrary.org/event/lawyer-in-the-library/
LOCATION:Marion Carnegie Library\, 206 S Market St\, Marion\, IL\, 62959\, US
CATEGORIES:Adult Department
ATTACH;FMTTYPE=image/jpeg:https://www.marioncarnegielibrary.org/wp-content/uploads/2022/03/19526_image_277096037_10158273709641561_1436419098412213377_n.jpg
END:VEVENT
BEGIN:VEVENT
DTSTART;TZID=America/Chicago:20220326T100000
DTEND;TZID=America/Chicago:20220326T120000
DTSTAMP:20260425T175818
CREATED:20220318T172838Z
LAST-MODIFIED:20220318T172838Z
UID:19382-1648288800-1648296000@www.marioncarnegielibrary.org
SUMMARY:MCL Book Club
DESCRIPTION:Join the Marion Carnegie Library Book Club in the library’s McCoskey Room!  Remember to bring a few book recommendations and your best discussion questions to the meeting! \nIn March\, we’ll be discussing “Something in the Water” by Catherine Steadman. \nFor ages 18 and older.  \nNOTICE:  All participants and parents understand and agree that photos taken at the event may be used in social media postings and future promotions.
URL:https://www.marioncarnegielibrary.org/event/mcl-book-club/
LOCATION:Marion Carnegie Library\, 206 S Market St\, Marion\, IL\, 62959\, US
CATEGORIES:Adult Department
ATTACH;FMTTYPE=image/jpeg:https://www.marioncarnegielibrary.org/wp-content/uploads/2022/03/19382_image_275018181_10158243759781561_6826384863823884717_n.jpg
END:VEVENT
END:VCALENDAR