BEGIN:VCALENDAR
VERSION:2.0
PRODID:-//Marion Carnegie Library | 618-993-5935 - ECPv6.15.12.2//NONSGML v1.0//EN
CALSCALE:GREGORIAN
METHOD:PUBLISH
X-WR-CALNAME:Marion Carnegie Library | 618-993-5935
X-ORIGINAL-URL:https://www.marioncarnegielibrary.org
X-WR-CALDESC:Events for Marion Carnegie Library | 618-993-5935
REFRESH-INTERVAL;VALUE=DURATION:PT1H
X-Robots-Tag:noindex
X-PUBLISHED-TTL:PT1H
BEGIN:VTIMEZONE
TZID:America/Chicago
BEGIN:DAYLIGHT
TZOFFSETFROM:-0600
TZOFFSETTO:-0500
TZNAME:CDT
DTSTART:20240310T080000
END:DAYLIGHT
BEGIN:STANDARD
TZOFFSETFROM:-0500
TZOFFSETTO:-0600
TZNAME:CST
DTSTART:20241103T070000
END:STANDARD
BEGIN:DAYLIGHT
TZOFFSETFROM:-0600
TZOFFSETTO:-0500
TZNAME:CDT
DTSTART:20250309T080000
END:DAYLIGHT
BEGIN:STANDARD
TZOFFSETFROM:-0500
TZOFFSETTO:-0600
TZNAME:CST
DTSTART:20251102T070000
END:STANDARD
BEGIN:DAYLIGHT
TZOFFSETFROM:-0600
TZOFFSETTO:-0500
TZNAME:CDT
DTSTART:20260308T080000
END:DAYLIGHT
BEGIN:STANDARD
TZOFFSETFROM:-0500
TZOFFSETTO:-0600
TZNAME:CST
DTSTART:20261101T070000
END:STANDARD
END:VTIMEZONE
BEGIN:VEVENT
DTSTART;TZID=America/Chicago:20251113T150000
DTEND;TZID=America/Chicago:20251113T170000
DTSTAMP:20260425T122631
CREATED:20251103T224441Z
LAST-MODIFIED:20251110T163818Z
UID:28173-1763046000-1763053200@www.marioncarnegielibrary.org
SUMMARY:Adult Craft: Sharpened Pencil Bouquets
DESCRIPTION:“I would send you a bouquet of newly sharpened pencils if I knew your name and address.” \nCreate a cozy bouquet of sharpened pencils to keep or gift to someone special! \nAges 18+. Registration required – begins November 5th
URL:https://www.marioncarnegielibrary.org/event/november-adult-craft-1/
LOCATION:206 S Market St\, Marion\, IL\, United States\, Illinois 62959
CATEGORIES:Adult Department
ATTACH;FMTTYPE=image/jpeg:https://www.marioncarnegielibrary.org/wp-content/uploads/2025/11/Nov25-Adult-Craft.jpg
END:VEVENT
BEGIN:VEVENT
DTSTART;TZID=America/Chicago:20251113T173000
DTEND;TZID=America/Chicago:20251113T193000
DTSTAMP:20260425T122631
CREATED:20251103T224600Z
LAST-MODIFIED:20251110T163911Z
UID:28175-1763055000-1763062200@www.marioncarnegielibrary.org
SUMMARY:Adult Craft: Sharpened Pencil Bouquets
DESCRIPTION:“I would send you a bouquet of newly sharpened pencils if I knew your name and address.” \nCreate a cozy bouquet of sharpened pencils to keep or gift to someone special! \nAges 18+. Registration required – begins November 5th
URL:https://www.marioncarnegielibrary.org/event/november-adult-craft-2/
LOCATION:206 S Market St\, Marion\, IL\, United States\, Illinois 62959
CATEGORIES:Adult Department
ATTACH;FMTTYPE=image/jpeg:https://www.marioncarnegielibrary.org/wp-content/uploads/2025/11/Nov25-Adult-Craft.jpg
END:VEVENT
END:VCALENDAR