BEGIN:VCALENDAR
VERSION:2.0
PRODID:-//Marion Carnegie Library | 618-993-5935 - ECPv6.15.12.2//NONSGML v1.0//EN
CALSCALE:GREGORIAN
METHOD:PUBLISH
X-ORIGINAL-URL:https://www.marioncarnegielibrary.org
X-WR-CALDESC:Events for Marion Carnegie Library | 618-993-5935
REFRESH-INTERVAL;VALUE=DURATION:PT1H
X-Robots-Tag:noindex
X-PUBLISHED-TTL:PT1H
BEGIN:VTIMEZONE
TZID:America/Chicago
BEGIN:DAYLIGHT
TZOFFSETFROM:-0600
TZOFFSETTO:-0500
TZNAME:CDT
DTSTART:20240310T080000
END:DAYLIGHT
BEGIN:STANDARD
TZOFFSETFROM:-0500
TZOFFSETTO:-0600
TZNAME:CST
DTSTART:20241103T070000
END:STANDARD
BEGIN:DAYLIGHT
TZOFFSETFROM:-0600
TZOFFSETTO:-0500
TZNAME:CDT
DTSTART:20250309T080000
END:DAYLIGHT
BEGIN:STANDARD
TZOFFSETFROM:-0500
TZOFFSETTO:-0600
TZNAME:CST
DTSTART:20251102T070000
END:STANDARD
BEGIN:DAYLIGHT
TZOFFSETFROM:-0600
TZOFFSETTO:-0500
TZNAME:CDT
DTSTART:20260308T080000
END:DAYLIGHT
BEGIN:STANDARD
TZOFFSETFROM:-0500
TZOFFSETTO:-0600
TZNAME:CST
DTSTART:20261101T070000
END:STANDARD
END:VTIMEZONE
BEGIN:VEVENT
DTSTART;TZID=America/Chicago:20250322T100000
DTEND;TZID=America/Chicago:20250322T110000
DTSTAMP:20260421T093339
CREATED:20250225T221326Z
LAST-MODIFIED:20250225T221326Z
UID:26785-1742637600-1742641200@www.marioncarnegielibrary.org
SUMMARY:MCL Book Club
DESCRIPTION:Join us for MCL Book Club! Meet up with fellow book lovers to discuss a book selected by the group! Be a part of the discussion\, help select what we read\, and make new friends! \nThis month\, we will be discussing “Nettle and Bone” by T. Kingfisher at 10:00 a.m. on Saturday\, March 22nd in the MCL McCoskey Room. \nMCL Book Club is intended for ages 18 and older. \nWe do have a book club for teens called “The Bookworms” that meets separately. Visit marioncarnegielibrary.org/events for more details. \nNOTICE: All participants and parents understand and agree that photos taken at the event may be used in social media postings and future promotions.
URL:https://www.marioncarnegielibrary.org/event/mcl-book-club-34/
LOCATION:206 S Market St\, Marion\, IL\, United States\, Illinois 62959
CATEGORIES:Adult Department
ATTACH;FMTTYPE=image/jpeg:https://www.marioncarnegielibrary.org/wp-content/uploads/2025/02/26785_image_481907407_1068278328672312_3592893446656891250_n.jpg
END:VEVENT
END:VCALENDAR