BEGIN:VCALENDAR
VERSION:2.0
PRODID:-//Marion Carnegie Library | 618-993-5935 - ECPv6.15.12.2//NONSGML v1.0//EN
CALSCALE:GREGORIAN
METHOD:PUBLISH
X-WR-CALNAME:Marion Carnegie Library | 618-993-5935
X-ORIGINAL-URL:https://www.marioncarnegielibrary.org
X-WR-CALDESC:Events for Marion Carnegie Library | 618-993-5935
REFRESH-INTERVAL;VALUE=DURATION:PT1H
X-Robots-Tag:noindex
X-PUBLISHED-TTL:PT1H
BEGIN:VTIMEZONE
TZID:America/Chicago
BEGIN:DAYLIGHT
TZOFFSETFROM:-0600
TZOFFSETTO:-0500
TZNAME:CDT
DTSTART:20230312T080000
END:DAYLIGHT
BEGIN:STANDARD
TZOFFSETFROM:-0500
TZOFFSETTO:-0600
TZNAME:CST
DTSTART:20231105T070000
END:STANDARD
BEGIN:DAYLIGHT
TZOFFSETFROM:-0600
TZOFFSETTO:-0500
TZNAME:CDT
DTSTART:20240310T080000
END:DAYLIGHT
BEGIN:STANDARD
TZOFFSETFROM:-0500
TZOFFSETTO:-0600
TZNAME:CST
DTSTART:20241103T070000
END:STANDARD
BEGIN:DAYLIGHT
TZOFFSETFROM:-0600
TZOFFSETTO:-0500
TZNAME:CDT
DTSTART:20250309T080000
END:DAYLIGHT
BEGIN:STANDARD
TZOFFSETFROM:-0500
TZOFFSETTO:-0600
TZNAME:CST
DTSTART:20251102T070000
END:STANDARD
END:VTIMEZONE
BEGIN:VEVENT
DTSTART;TZID=America/Chicago:20240727T100000
DTEND;TZID=America/Chicago:20240727T110000
DTSTAMP:20260425T161639
CREATED:20240530T160253Z
LAST-MODIFIED:20240530T160253Z
UID:25215-1722074400-1722078000@www.marioncarnegielibrary.org
SUMMARY:MCL Book Club
DESCRIPTION:In July\, the MCL Book Club will read and discuss “Beautiful Little Fools” by Jillian Cantor. \nBONUS: This book will satisfy one of this year’s Marion Reads! reading challenges! \nThis event is absolutely free and intended for ages 18 and older. No registration or library card is necessary. \nRemember to bring a few book recommendations and your best discussion questions to the meeting! \nNOTICE:  All participants and parents understand and agree that photos taken at the event may be used in social media postings and future promotions.
URL:https://www.marioncarnegielibrary.org/event/mcl-book-club-27/
LOCATION:Marion Carnegie Library\, 206 S Market St\, Marion\, IL\, 62959\, US
CATEGORIES:Adult Department
ATTACH;FMTTYPE=image/jpeg:https://www.marioncarnegielibrary.org/wp-content/uploads/2024/05/25215_image_446688929_870946601738820_8854618553125938156_n.jpg
END:VEVENT
BEGIN:VEVENT
DTSTART;TZID=America/Chicago:20240727T120000
DTEND;TZID=America/Chicago:20240727T160000
DTSTAMP:20260425T161639
CREATED:20240606T214001Z
LAST-MODIFIED:20240606T214001Z
UID:25261-1722081600-1722096000@www.marioncarnegielibrary.org
SUMMARY:Lawyer in the Library Day
DESCRIPTION:Meet one-on-one with a local attorney at this special afternoon-long edition of Lawyer in the Library Day at MCL! Several attorneys will be available to help with legal coaching\, document review\, referrals to additional community services\, e-filing court documents\, and other legal questions. \n-No Fees!\n-Max 20-minute Meetings\n-Walk-in appointments only\n-Walk-ins accepted until 3 pm\n-Bring paperwork that relates to your legal matter    \n*This event is free and open to the public.*    \nPlease note:\n– You are not eligible to participate if you are currently represented by an attorney.\n– Participants should reside within the First Judicial Circuit of Illinois. \nSponsored in part by Self-Represented Litigant Coordinator Grant through Access to Justice Division\, AOIC Brenda Sprague\, Coordinator Office of the Chief Judge\, First Judicial Circuit.
URL:https://www.marioncarnegielibrary.org/event/lawyer-in-the-library-day/
LOCATION:Marion Carnegie Library\, 206 S Market St\, Marion\, IL\, 62959\, US
CATEGORIES:Adult Department
ATTACH;FMTTYPE=image/jpeg:https://www.marioncarnegielibrary.org/wp-content/uploads/2024/06/25261_image_447974044_875472704619543_3207561278121497326_n.jpg
END:VEVENT
END:VCALENDAR