BEGIN:VCALENDAR
VERSION:2.0
PRODID:-//Marion Carnegie Library | 618-993-5935 - ECPv6.15.12.2//NONSGML v1.0//EN
CALSCALE:GREGORIAN
METHOD:PUBLISH
X-WR-CALNAME:Marion Carnegie Library | 618-993-5935
X-ORIGINAL-URL:https://www.marioncarnegielibrary.org
X-WR-CALDESC:Events for Marion Carnegie Library | 618-993-5935
REFRESH-INTERVAL;VALUE=DURATION:PT1H
X-Robots-Tag:noindex
X-PUBLISHED-TTL:PT1H
BEGIN:VTIMEZONE
TZID:America/Chicago
BEGIN:DAYLIGHT
TZOFFSETFROM:-0600
TZOFFSETTO:-0500
TZNAME:CDT
DTSTART:20240310T080000
END:DAYLIGHT
BEGIN:STANDARD
TZOFFSETFROM:-0500
TZOFFSETTO:-0600
TZNAME:CST
DTSTART:20241103T070000
END:STANDARD
BEGIN:DAYLIGHT
TZOFFSETFROM:-0600
TZOFFSETTO:-0500
TZNAME:CDT
DTSTART:20250309T080000
END:DAYLIGHT
BEGIN:STANDARD
TZOFFSETFROM:-0500
TZOFFSETTO:-0600
TZNAME:CST
DTSTART:20251102T070000
END:STANDARD
BEGIN:DAYLIGHT
TZOFFSETFROM:-0600
TZOFFSETTO:-0500
TZNAME:CDT
DTSTART:20260308T080000
END:DAYLIGHT
BEGIN:STANDARD
TZOFFSETFROM:-0500
TZOFFSETTO:-0600
TZNAME:CST
DTSTART:20261101T070000
END:STANDARD
END:VTIMEZONE
BEGIN:VEVENT
DTSTART;TZID=America/Chicago:20250715T170000
DTEND;TZID=America/Chicago:20250715T190000
DTSTAMP:20260424T043443
CREATED:20250513T193623Z
LAST-MODIFIED:20250513T193623Z
UID:27387-1752598800-1752606000@www.marioncarnegielibrary.org
SUMMARY:Lawyer in the Library
DESCRIPTION:An attorney will be available for 20-minute\, one-on-one meetings to assist with legal coaching\, document review\, referrals to additional community services\, e-filing court documents\, and legal questions. (Lawyer Julian Valdes) \nAges 18+
URL:https://www.marioncarnegielibrary.org/event/lawyer-in-the-library-39/
LOCATION:206 S Market St\, Marion\, IL\, United States\, Illinois 62959
CATEGORIES:Adult Department
ATTACH;FMTTYPE=image/jpeg:https://www.marioncarnegielibrary.org/wp-content/uploads/2025/05/Marion-Flier-MAY-JULY-2025.jpg
END:VEVENT
BEGIN:VEVENT
DTSTART;TZID=America/Chicago:20250717T150000
DTEND;TZID=America/Chicago:20250717T160000
DTSTAMP:20260424T043443
CREATED:20250702T182801Z
LAST-MODIFIED:20250702T182801Z
UID:27540-1752764400-1752768000@www.marioncarnegielibrary.org
SUMMARY:Art Seminar
DESCRIPTION:On July 17th\, Marion Art Squared will be joining us to discuss the Golden Phase work of Austrian Symbolist painter\, Gustav Klimt.  Required registration begins on July 9th at the Main Desk.  This seminar is open to everyone aged 18 and up. \nNOTICE: All participants understand and agree that photos taken at the event may be used in social media postings and future promotions.
URL:https://www.marioncarnegielibrary.org/event/art-seminar/
LOCATION:206 S Market St\, Marion\, IL\, United States\, Illinois 62959
CATEGORIES:Adult Department
ATTACH;FMTTYPE=image/png:https://www.marioncarnegielibrary.org/wp-content/uploads/2025/07/Art-Seminar-with-Marion-Art-Squared-July-17th-3pm-Learn-more-about-artist-Gustav-Klimt-then-create-your-own-artwork-in-his-style.-Required-Registration-begins-July-9th-.-1920-x-1080-px2.png
END:VEVENT
BEGIN:VEVENT
DTSTART;TZID=America/Chicago:20250726T100000
DTEND;TZID=America/Chicago:20250726T110000
DTSTAMP:20260424T043443
CREATED:20250702T181712Z
LAST-MODIFIED:20250702T182442Z
UID:27535-1753524000-1753527600@www.marioncarnegielibrary.org
SUMMARY:Book Club
DESCRIPTION:Join us on July 26th at 10 a.m.\, in the McCoskey Room\, to discuss Snow Flower and the Secret Fan by Lisa See.  Open to everyone aged 18 and up.\nNOTICE: All participants understand and agree that photos taken at the event may be used in social media postings and future promotions.
URL:https://www.marioncarnegielibrary.org/event/book-club-2/
LOCATION:206 S Market St\, Marion\, IL\, United States\, Illinois 62959
CATEGORIES:Adult Department
ATTACH;FMTTYPE=image/png:https://www.marioncarnegielibrary.org/wp-content/uploads/2025/07/July-Book-Club.png
END:VEVENT
BEGIN:VEVENT
DTSTART;TZID=America/Chicago:20250729T180000
DTEND;TZID=America/Chicago:20250729T190000
DTSTAMP:20260424T043443
CREATED:20250722T182612Z
LAST-MODIFIED:20250722T194254Z
UID:27618-1753812000-1753815600@www.marioncarnegielibrary.org
SUMMARY:Summer Reading Social
DESCRIPTION:Celebrate the end of the Adult Summer Reading Challenge with other bookish friends! Create an arrangement with the Shawnee Stems Bouquet Bar and enjoy catering by Milkweed Provisions. Required Registration begins July 26th. Or\, earn all 8 reading badges and reserve your spot early! (Patrons with all 8 badges must come by the Main Desk before July 26th to reserve early registration.) \nNOTICE: All participants and parents understand and agree that photos taken at events may be used in social media postings and future promotions.
URL:https://www.marioncarnegielibrary.org/event/27618/
LOCATION:206 S Market St\, Marion\, IL\, United States\, Illinois 62959
CATEGORIES:Adult Department
ATTACH;FMTTYPE=image/png:https://www.marioncarnegielibrary.org/wp-content/uploads/2025/07/Adult-Summer-Reading-Social1.png
END:VEVENT
END:VCALENDAR