BEGIN:VCALENDAR
VERSION:2.0
PRODID:-//Marion Carnegie Library | 618-993-5935 - ECPv6.15.12.2//NONSGML v1.0//EN
CALSCALE:GREGORIAN
METHOD:PUBLISH
X-WR-CALNAME:Marion Carnegie Library | 618-993-5935
X-ORIGINAL-URL:https://www.marioncarnegielibrary.org
X-WR-CALDESC:Events for Marion Carnegie Library | 618-993-5935
REFRESH-INTERVAL;VALUE=DURATION:PT1H
X-Robots-Tag:noindex
X-PUBLISHED-TTL:PT1H
BEGIN:VTIMEZONE
TZID:America/Chicago
BEGIN:DAYLIGHT
TZOFFSETFROM:-0600
TZOFFSETTO:-0500
TZNAME:CDT
DTSTART:20240310T080000
END:DAYLIGHT
BEGIN:STANDARD
TZOFFSETFROM:-0500
TZOFFSETTO:-0600
TZNAME:CST
DTSTART:20241103T070000
END:STANDARD
BEGIN:DAYLIGHT
TZOFFSETFROM:-0600
TZOFFSETTO:-0500
TZNAME:CDT
DTSTART:20250309T080000
END:DAYLIGHT
BEGIN:STANDARD
TZOFFSETFROM:-0500
TZOFFSETTO:-0600
TZNAME:CST
DTSTART:20251102T070000
END:STANDARD
BEGIN:DAYLIGHT
TZOFFSETFROM:-0600
TZOFFSETTO:-0500
TZNAME:CDT
DTSTART:20260308T080000
END:DAYLIGHT
BEGIN:STANDARD
TZOFFSETFROM:-0500
TZOFFSETTO:-0600
TZNAME:CST
DTSTART:20261101T070000
END:STANDARD
END:VTIMEZONE
BEGIN:VEVENT
DTSTART;TZID=America/Chicago:20250508T150000
DTEND;TZID=America/Chicago:20250508T160000
DTSTAMP:20260422T023303
CREATED:20250423T143337Z
LAST-MODIFIED:20250423T143506Z
UID:27052-1746716400-1746720000@www.marioncarnegielibrary.org
SUMMARY:Adult Craft: Spring Wreath
DESCRIPTION:Come make a spring inspired wreath! Registration is required and begins on April 30th. For ages 18 and older. Sessions at 3:00 p.m. and 5:30 p.m. on Thursday\, May 8th. Sign up at Main Floor Circulation Desk. \nNOTICE: All participants understand and agree that photos taken at the event may be used in social media postings and future promotions.
URL:https://www.marioncarnegielibrary.org/event/adult-craft-spring-wreath-2/
LOCATION:206 S Market St\, Marion\, IL\, United States\, Illinois 62959
CATEGORIES:Adult Department
ATTACH;FMTTYPE=image/jpeg:https://www.marioncarnegielibrary.org/wp-content/uploads/2025/04/27050_image_492487552_1115218957311582_3783938975797038202_n.jpg
END:VEVENT
BEGIN:VEVENT
DTSTART;TZID=America/Chicago:20250508T173000
DTEND;TZID=America/Chicago:20250508T183000
DTSTAMP:20260422T023303
CREATED:20250423T143334Z
LAST-MODIFIED:20250423T143458Z
UID:27050-1746725400-1746729000@www.marioncarnegielibrary.org
SUMMARY:Adult Craft: Spring Wreath
DESCRIPTION:Come make a spring inspired wreath! Registration is required and begins on April 30th. For ages 18 and older. Sessions at 3:00 p.m. and 5:30 p.m. on Thursday\, May 8th. Sign up at Main Floor Circulation Desk. \nNOTICE: All participants understand and agree that photos taken at the event may be used in social media postings and future promotions.
URL:https://www.marioncarnegielibrary.org/event/adult-craft-spring-wreath/
LOCATION:206 S Market St\, Marion\, IL\, United States\, Illinois 62959
CATEGORIES:Adult Department
ATTACH;FMTTYPE=image/jpeg:https://www.marioncarnegielibrary.org/wp-content/uploads/2025/04/27050_image_492487552_1115218957311582_3783938975797038202_n.jpg
END:VEVENT
BEGIN:VEVENT
DTSTART;TZID=America/Chicago:20250513T170000
DTEND;TZID=America/Chicago:20250513T190000
DTSTAMP:20260422T023303
CREATED:20250423T144201Z
LAST-MODIFIED:20250423T144223Z
UID:27056-1747155600-1747162800@www.marioncarnegielibrary.org
SUMMARY:Lawyer in the Library
DESCRIPTION:An attorney will be available for 20-minute\, one-on-one meetings to assist with legal coaching\, document review\, referrals to additional community services\, e-filing court documents\, and legal questions. \nRegistration is required for this event. Check availability/sign up at the MCL Main Floor Circulation Desk. This event is intended for ages 18 and older. \nNOTICE: All participants understand and agree that photos taken at the event may be used in social media postings and future promotions.
URL:https://www.marioncarnegielibrary.org/event/lawyer-in-the-library-38/
LOCATION:206 S Market St\, Marion\, IL\, United States\, Illinois 62959
CATEGORIES:Adult Department
ATTACH;FMTTYPE=image/jpeg:https://www.marioncarnegielibrary.org/wp-content/uploads/2025/04/27056_image_492315435_1115234987309979_2248450085992919185_n.jpg
END:VEVENT
BEGIN:VEVENT
DTSTART;TZID=America/Chicago:20250531T100000
DTEND;TZID=America/Chicago:20250531T110000
DTSTAMP:20260422T023303
CREATED:20250506T195349Z
LAST-MODIFIED:20250506T195349Z
UID:27233-1748685600-1748689200@www.marioncarnegielibrary.org
SUMMARY:MCL Book Club
DESCRIPTION:Join us in the Peterson Room\, on Saturday\, May 31\, to discuss All the Colors of the Dark by Chris Whitaker. Please note the special date and location for the month of May. \nOpen to everyone aged 18 and up. \nNOTICE: All participants understand and agree that photos taken at the event may be used in social media postings and future promotions.
URL:https://www.marioncarnegielibrary.org/event/mcl-book-club-36/
CATEGORIES:Adult Department
ATTACH;FMTTYPE=image/png:https://www.marioncarnegielibrary.org/wp-content/uploads/2025/05/May-Book-Club.png
END:VEVENT
END:VCALENDAR