BEGIN:VCALENDAR
VERSION:2.0
PRODID:-//Marion Carnegie Library | 618-993-5935 - ECPv6.15.12.2//NONSGML v1.0//EN
CALSCALE:GREGORIAN
METHOD:PUBLISH
X-WR-CALNAME:Marion Carnegie Library | 618-993-5935
X-ORIGINAL-URL:https://www.marioncarnegielibrary.org
X-WR-CALDESC:Events for Marion Carnegie Library | 618-993-5935
REFRESH-INTERVAL;VALUE=DURATION:PT1H
X-Robots-Tag:noindex
X-PUBLISHED-TTL:PT1H
BEGIN:VTIMEZONE
TZID:America/Chicago
BEGIN:DAYLIGHT
TZOFFSETFROM:-0600
TZOFFSETTO:-0500
TZNAME:CDT
DTSTART:20240310T080000
END:DAYLIGHT
BEGIN:STANDARD
TZOFFSETFROM:-0500
TZOFFSETTO:-0600
TZNAME:CST
DTSTART:20241103T070000
END:STANDARD
BEGIN:DAYLIGHT
TZOFFSETFROM:-0600
TZOFFSETTO:-0500
TZNAME:CDT
DTSTART:20250309T080000
END:DAYLIGHT
BEGIN:STANDARD
TZOFFSETFROM:-0500
TZOFFSETTO:-0600
TZNAME:CST
DTSTART:20251102T070000
END:STANDARD
BEGIN:DAYLIGHT
TZOFFSETFROM:-0600
TZOFFSETTO:-0500
TZNAME:CDT
DTSTART:20260308T080000
END:DAYLIGHT
BEGIN:STANDARD
TZOFFSETFROM:-0500
TZOFFSETTO:-0600
TZNAME:CST
DTSTART:20261101T070000
END:STANDARD
END:VTIMEZONE
BEGIN:VEVENT
DTSTART;TZID=America/Chicago:20250408T100000
DTEND;TZID=America/Chicago:20250408T110000
DTSTAMP:20260425T052129
CREATED:20250312T214058Z
LAST-MODIFIED:20250312T214058Z
UID:26831-1744106400-1744110000@www.marioncarnegielibrary.org
SUMMARY:Illinois Extension Ruby Throated Hummingbird Program
DESCRIPTION:Join University of Illinois Extension Horticulture Educator Kim Rohling to learn about the natural history of the ruby-throated hummingbird\, tips on supplemental feeding\, and native plant species that are attractive to hummingbirds! \n*Registration is required for this event!* You can register via QR code (see image attached to this event) or call the library at 618-993-5935. \nWhere: Marion Carnegie Library McCoskey Room\nWhen: Tuesday\, April 8th from 10 a.m. to 11 a.m.  \nThis event is intended for ages 18 and older. \nNOTICE: All participants understand and agree that photos taken at the event may be used in social media postings and future promotions.
URL:https://www.marioncarnegielibrary.org/event/illinois-extension-ruby-throated-hummingbird-program/
LOCATION:206 S Market St\, Marion\, IL\, United States\, Illinois 62959
CATEGORIES:Adult Department
ATTACH;FMTTYPE=image/jpeg:https://www.marioncarnegielibrary.org/wp-content/uploads/2025/03/26831_image_484131851_1080061200827358_8704611768745894795_n.jpg
END:VEVENT
BEGIN:VEVENT
DTSTART;TZID=America/Chicago:20250409T090000
DTEND;TZID=America/Chicago:20250409T170000
DTSTAMP:20260425T052129
CREATED:20250321T135937Z
LAST-MODIFIED:20250321T135937Z
UID:26944-1744189200-1744218000@www.marioncarnegielibrary.org
SUMMARY:Takeaway Activity Booklet
DESCRIPTION:Come get a spring-themed activity booklet featuring a variety of coloring pages\, word games\, healthy brain activities\, and more. Grab a cup of coffee or tea and find a peaceful spot to be creative! \nPick up at Main Floor Circulation Desk starting April 9th at 9 a.m. Booklets are available while supplies last. For ages 18 and older. \nNOTICE: All participants understand and agree that photos taken at the event may be used in social media postings and future promotions.
URL:https://www.marioncarnegielibrary.org/event/takeaway-activity-booklet/
LOCATION:206 S Market St\, Marion\, IL\, United States\, Illinois 62959
CATEGORIES:Adult Department
ATTACH;FMTTYPE=image/jpeg:https://www.marioncarnegielibrary.org/wp-content/uploads/2025/03/26944_image_485627145_1087194903447321_1874455720263406179_n.jpg
END:VEVENT
BEGIN:VEVENT
DTSTART;TZID=America/Chicago:20250426T100000
DTEND;TZID=America/Chicago:20250426T110000
DTSTAMP:20260425T052129
CREATED:20250320T183600Z
LAST-MODIFIED:20250320T183600Z
UID:26936-1745661600-1745665200@www.marioncarnegielibrary.org
SUMMARY:MCL Book Club
DESCRIPTION:MCL Book Club is meeting on Saturday\, April 26th. We will be discussing “Our Little Secrets“ by Lisa Jackson. MCL Book Club is intended for ages 18 and older\, is free to attend\, and no library card is required. \nNOTICE: All participants and parents understand and agree that photos taken at the event may be used in social media postings and future promotions.
URL:https://www.marioncarnegielibrary.org/event/mcl-book-club-35/
LOCATION:206 S Market St\, Marion\, IL\, United States\, Illinois 62959
CATEGORIES:Adult Department
ATTACH;FMTTYPE=image/jpeg:https://www.marioncarnegielibrary.org/wp-content/uploads/2025/03/26936_image_484890246_1086462670187211_3706574983156650105_n.jpg
END:VEVENT
BEGIN:VEVENT
DTSTART;TZID=America/Chicago:20250429T170000
DTEND;TZID=America/Chicago:20250429T190000
DTSTAMP:20260425T052129
CREATED:20250320T183025Z
LAST-MODIFIED:20250320T183025Z
UID:26933-1745946000-1745953200@www.marioncarnegielibrary.org
SUMMARY:Lawyer in the Library
DESCRIPTION:An attorney will be available for 20-minute\, one-on-one meetings to assist with legal coaching\, document review\, referrals to additional community services\, e-filing court documents\, and legal questions. \nRegistration is required for this event. Check availability/sign up at the MCL Main Floor Circulation Desk. This event is intended for ages 18 and older. \nNOTICE: All participants and parents understand and agree that photos taken at the event may be used in social media postings and future promotions.
URL:https://www.marioncarnegielibrary.org/event/lawyer-in-the-library-37/
LOCATION:206 S Market St\, Marion\, IL\, United States\, Illinois 62959
CATEGORIES:Adult Department
ATTACH;FMTTYPE=image/jpeg:https://www.marioncarnegielibrary.org/wp-content/uploads/2025/03/26933_image_485064569_1086459226854222_6882988917551008193_n.jpg
END:VEVENT
END:VCALENDAR